Workbook

Sheet Výhled 2011-2014
A1: Rozpočtový výhled Města Roudnice nad Labem na roky 2011-2016
B5: 2011 | F5: 2012 | G5: 2013 | H5: 2014 | I5: 2015 | J5: 2016
B6: v tis. Kč | F6: v tis. Kč | G6: v tis. Kč | H6: v tis. Kč | I6: v tis. Kč | J6: v tis. Kč
A7: Příjmy
A8: Daňové příjmy | B8: ='Položkový rozpočet 2012'!#REF! -> #REF! | F8: 144000 | G8: 148000 | H8: =1.05*G8 -> 155400 | I8: 162608 | J8: 162608
A9: Nedaňové příjmy | B9: ='Položkový rozpočet 2012'!#REF! -> #REF! | F9: 25500 | G9: 25500 | H9: 25500 | I9: 25500 | J9: 25500
A10: Kapitálové příjmy | B10: ='Položkový rozpočet 2012'!#REF! -> #REF! | F10: 300 | G10: 300 | H10: 300 | I10: 300 | J10: 300
A11: Dotace | B11: ='Položkový rozpočet 2012'!#REF! -> #REF! | F11: 39000 | G11: 39000 | H11: 40000 | I11: 40000 | J11: 40000
A12: Příjmy celkem | B12: =SUM(B8:B11) -> #REF! | F12: =SUM(F8:F11) -> 208800 | G12: =SUM(G8:G11) -> 212800 | H12: =SUM(H8:H11) -> 221200 | I12: =SUM(I8:I11) -> 228408 | J12: =SUM(J8:J11) -> 228408
A14: Výdaje
A15: Ekonomický odbor | B15: ='Položkový rozpočet 2012'!#REF! -> #REF! | F15: 4400 | G15: 4400 | H15: 4400 | I15: 4400 | J15: 4400
A16: Odbor majetku a rozvoje města | B16: ='Položkový rozpočet 2012'!#REF! -> #REF! | F16: 55193 | G16: =60495-2302 -> 58193 | H16: 61938 | I16: 62308 | J16: 64608
A17: v tom: provozní příspěvek RMS | B17: ='Položkový rozpočet 2012'!#REF! -> #REF! | F17: 31000 | G17: 32000 | H17: 34000 | I17: 35000 | J17: 36000
A18: Odbor tajemníka | B18: ='Položkový rozpočet 2012'!#REF! -> #REF! | F18: 77500 | G18: 78000 | H18: 80000 | I18: 82000 | J18: 83000
A19: Kancelář starosty, civilní obrana,JSDH | B19: ='Položkový rozpočet 2012'!#REF! -> #REF! | F19: 1600 | G19: 1800 | H19: 2000 | I19: 3000 | J19: 3000
A20: Odbor školství kultury a sportu | B20: ='Položkový rozpočet 2012'!#REF! -> #REF! | F20: 39000 | G20: 39000 | H20: 40000 | I20: 42000 | J20: 42000
A21: v tom: provozní příspěvky příspěvkovým organizacím | B21: ='Položkový rozpočet 2012'!#REF!+'Položkový rozpočet 2012'!#REF!+'Položkový rozpočet 2012'!#REF!+'Položkový rozpočet 2012'!#REF!+'Položkový rozpočet 2012'!#REF!+'Položkový rozpočet 2012'!#REF!+'Položkový rozpočet 2012'!#REF!+'Položkový rozpočet 2012'!#REF!+'Položkový rozpočet 2012'!#REF!+'Položkový rozpočet 2012'!#REF!+'Položkový rozpočet 2012'!#REF!+'Položkový rozpočet 2012'!#REF! -> #REF! | F21: 36000 | G21: 36000 | H21: 37000 | I21: 39000 | J21: 39000
A22: Odbor stavební | B22: ='Položkový rozpočet 2012'!#REF! -> #REF! | F22: 80 | G22: 80 | H22: 90 | I22: 100 | J22: 100
A23: Odbor dopravy | B23: ='Položkový rozpočet 2012'!#REF! -> #REF! | F23: 1800 | G23: 1900 | H23: 1900 | I23: 2000 | J23: 2000
A24: v tom: ztrátovost MHD, náklady na Integrovaný dopravní systém Ústeckého kraje | B24: ='Položkový rozpočet 2012'!#REF! -> #REF! | F24: 1500 | G24: 1600 | H24: 1600 | I24: 1700 | J24: 1700
A25: Odbor sociálních věcí a zdravotnictví | B25: ='Položkový rozpočet 2012'!#REF! -> #REF! | F25: 11000 | G25: 12000 | H25: 12000 | I25: 13000 | J25: 13000
A26: v tom: provozní příspěvek Domov důchodců | B26: =+'Položkový rozpočet 2012'!#REF!+'Položkový rozpočet 2012'!#REF! -> #REF! | C26: =+'Položkový rozpočet 2012'!#REF!+'Položkový rozpočet 2012'!#REF!+'Položkový rozpočet 2012'!#REF! -> #REF! | D26: =+'Položkový rozpočet 2012'!#REF!+'Položkový rozpočet 2012'!#REF!+'Položkový rozpočet 2012'!#REF! -> #REF! | E26: =+'Položkový rozpočet 2012'!#REF!+'Položkový rozpočet 2012'!#REF!+'Položkový rozpočet 2012'!#REF! -> #REF! | F26: 4752 | G26: 4752 | H26: 4752 | I26: 4752 | J26: 4752
A27: Odbor životního prostředí | B27: ='Položkový rozpočet 2012'!#REF! -> #REF! | F27: 17000 | G27: 16000 | H27: 17500 | I27: 19000 | J27: 19000
A28: Městská policie | B28: ='Položkový rozpočet 2012'!#REF! -> #REF! | F28: 1700 | G28: 1900 | H28: 2000 | I28: 2000 | J28: 2000
A29: Výdaje celkem | B29: =+B15+B16+B18+B19+B20+B22+B23+B25+B27+B28 -> #REF! | C29: =+C15+C16+C18+C19+C20+C22+C23+C25+C27+C28 -> 0 | D29: =+D15+D16+D18+D19+D20+D22+D23+D25+D27+D28 -> 0 | E29: =+E15+E16+E18+E19+E20+E22+E23+E25+E27+E28 -> 0 | F29: =+F15+F16+F18+F19+F20+F22+F23+F25+F27+F28 -> 209273 | G29: =+G15+G16+G18+G19+G20+G22+G23+G25+G27+G28 -> 213273 | H29: =+H15+H16+H18+H19+H20+H22+H23+H25+H27+H28 -> 221828 | I29: =+I15+I16+I18+I19+I20+I22+I23+I25+I27+I28 -> 229808 | J29: =+J15+J16+J18+J19+J20+J22+J23+J25+J27+J28 -> 233108
A31: Rozdíl příjmů a výdajů | B31: =+B29-B12 -> #REF! | C31: =+C29-C12 -> 0 | D31: =+D29-D12 -> 0 | E31: =+E29-E12 -> 0 | F31: =+F29-F12 -> 473 | G31: =+G29-G12 -> 473 | H31: =+H29-H12 -> 628 | I31: =+I29-I12 -> 1400 | J31: =+J29-J12 -> 4700
A33: Financování | B33: ='Položkový rozpočet 2012'!#REF! -> #REF! | F33: =+F35+F36 -> 473 | G33: =+G35+G36 -> 473 | H33: =+H35+H36 -> 628 | I33: =+I35+I36 -> 1400 | J33: =+J35+J36 -> 4700
A34: z toho:
A35: Do příjmů - zapojení vlastních prostředků | B35: ='Položkový rozpočet 2012'!#REF! -> #REF! | F35: 5000 | G35: 5000 | H35: 5000 | I35: 5000 | J35: 5000
A36: Do výdajů - splátky úvěrů | B36: =-'Položkový rozpočet 2012'!#REF! -> #REF! | F36: =+F38+F37 -> -4527 | G36: =+G38+G37 -> -4527 | H36: =+H38+H37 -> -4372 | I36: =+I38+I37 -> -3600 | J36: =+J38+J37 -> -300
A37: Dlouhodobý úvěr (Revitalizace centra města)-splatný do 20.1.2016 | B37: =-'Položkový rozpočet 2012'!#REF! -> #REF! | F37: -3600 | G37: -3600 | H37: -3600 | I37: -3600 | J37: -300
A38: Dlouhodobý úvěr (Rekonstrukce a dostavba ZŠ K.Jeřábka)-splatný do 20.10.2014 | B38: =-'Položkový rozpočet 2012'!#REF! -> #REF! | F38: -927 | G38: -927 | H38: -772 | I38: 0 | J38: 0
B41: =+B29-B12-B33 -> #REF! | C41: =+C29-C12-C33 -> 0 | D41: =+D29-D12-D33 -> 0 | E41: =+E29-E12-E33 -> 0 | F41: =+F29-F12-F33 -> 0 | G41: =+G29-G12-G33 -> 0 | H41: =+H29-H12-H33 -> 0 | I41: =+I29-I12-I33 -> 0 | J41: =+J29-J12-J33 -> 0
B42: =+B32-B34 -> 0 | C42: =+C35-C36-C33 -> 0 | D42: =+D35-D36-D33 -> 0 | E42: =+E35-E36-E33 -> 0 | F42: =+F35+F36-F33 -> 0 | G42: =+G35+G36-G33 -> 0 | H42: =+H35+H36-H33 -> 0 | I42: =+I35+I36-I33 -> 0 | J42: =+J35+J36-J33 -> 0

Sheet Závazné ukazatele 2012
A1: Schválený rozpočet Města Roudnice nad Labem na rok 2012 v tis. Kč
A2: (závazné ukazatele rozpočtu)
A6: Příjmy
A7: Daňové příjmy | B7: =SUM('Položkový rozpočet 2012'!#REF!) -> #REF! | C7: =SUM('Položkový rozpočet 2012'!#REF!) -> #REF! | D7: =SUM('Položkový rozpočet 2012'!#REF!) -> #REF! | E7: =SUM('Položkový rozpočet 2012'!F50) -> 137262
A8: Nedaňové příjmy | B8: =SUM('Položkový rozpočet 2012'!#REF!) -> #REF! | C8: =SUM('Položkový rozpočet 2012'!#REF!) -> #REF! | D8: =SUM('Položkový rozpočet 2012'!#REF!) -> #REF! | E8: =SUM('Položkový rozpočet 2012'!F87) -> 27982
A9: Dotace | B9: =SUM('Položkový rozpočet 2012'!#REF!) -> #REF! | C9: =SUM('Položkový rozpočet 2012'!#REF!) -> #REF! | D9: =SUM('Položkový rozpočet 2012'!#REF!) -> #REF! | E9: =SUM('Položkový rozpočet 2012'!F96) -> 14099
A10: Příjmy celkem | B10: =SUM(B7:B9) -> #REF! | C10: =SUM(C7:C9) -> #REF! | D10: =SUM(D7:D9) -> #REF! | E10: =SUM(E7:E9) -> 179343
A12: Výdaje
A13: Ekonomický odbor | B13: =SUM('Položkový rozpočet 2012'!#REF!) -> #REF! | C13: =SUM('Položkový rozpočet 2012'!#REF!) -> #REF! | D13: =SUM('Položkový rozpočet 2012'!#REF!) -> #REF! | E13: =SUM('Položkový rozpočet 2012'!F117) -> 6597
A14: Odbor majetku a rozvoje města | B14: =SUM('Položkový rozpočet 2012'!#REF!) -> #REF! | C14: =SUM('Položkový rozpočet 2012'!#REF!) -> #REF! | D14: =SUM('Položkový rozpočet 2012'!#REF!) -> #REF! | E14: =SUM('Položkový rozpočet 2012'!F193) -> 53703
A15: v tom: provozní příspěvek RMS | B15: =SUM('Položkový rozpočet 2012'!#REF!) -> #REF! | C15: =SUM('Položkový rozpočet 2012'!#REF!) -> #REF! | D15: =SUM('Položkový rozpočet 2012'!#REF!) -> #REF! | E15: =SUM('Položkový rozpočet 2012'!F185) -> 30000
A16: Odbor tajemníka | B16: =SUM('Položkový rozpočet 2012'!#REF!) -> #REF! | C16: =SUM('Položkový rozpočet 2012'!#REF!) -> #REF! | D16: =SUM('Položkový rozpočet 2012'!#REF!) -> #REF! | E16: =SUM('Položkový rozpočet 2012'!F302) -> 51620
A17: Kancelář starosty, civilní obrana,JSDH | B17: =SUM('Položkový rozpočet 2012'!#REF!) -> #REF! | C17: =SUM('Položkový rozpočet 2012'!#REF!) -> #REF! | D17: =SUM('Položkový rozpočet 2012'!#REF!) -> #REF! | E17: =SUM('Položkový rozpočet 2012'!F336) -> 1410
A18: Odbor školství kultury a sportu | B18: =SUM('Položkový rozpočet 2012'!#REF!) -> #REF! | C18: =SUM('Položkový rozpočet 2012'!#REF!) -> #REF! | D18: =SUM('Položkový rozpočet 2012'!#REF!) -> #REF! | E18: =SUM('Položkový rozpočet 2012'!F383) -> 36305
A19: v tom: provozní příspěvek MŠ Pastelka Libušina ul. | B19: =SUM('Položkový rozpočet 2012'!#REF!) -> #REF! | C19: =SUM('Položkový rozpočet 2012'!#REF!) -> #REF! | D19: =SUM('Položkový rozpočet 2012'!#REF!) -> #REF! | E19: =SUM('Položkový rozpočet 2012'!F341) -> 840
A20: provozní příspěvek MŠ Sluníčko Školní ul. | B20: =SUM('Položkový rozpočet 2012'!#REF!) -> #REF! | C20: =SUM('Položkový rozpočet 2012'!#REF!) -> #REF! | D20: =SUM('Položkový rozpočet 2012'!#REF!) -> #REF! | E20: =SUM('Položkový rozpočet 2012'!F342) -> 1588
A21: provozní příspěvek MŠ Písnička Řipská ul. | B21: =SUM('Položkový rozpočet 2012'!#REF!) -> #REF! | C21: =SUM('Položkový rozpočet 2012'!#REF!) -> #REF! | D21: =SUM('Položkový rozpočet 2012'!#REF!) -> #REF! | E21: =SUM('Položkový rozpočet 2012'!F343) -> 1084
A22: provozní příspěvek MŠ Pohádka ul. J. Hory | B22: =SUM('Položkový rozpočet 2012'!#REF!) -> #REF! | C22: =SUM('Položkový rozpočet 2012'!#REF!) -> #REF! | D22: =SUM('Položkový rozpočet 2012'!#REF!) -> #REF! | E22: =SUM('Položkový rozpočet 2012'!F344) -> 1180
A23: provozní příspěvek MŠ Kytička Dobrovského ul. | B23: =SUM('Položkový rozpočet 2012'!#REF!) -> #REF! | C23: =SUM('Položkový rozpočet 2012'!#REF!) -> #REF! | D23: =SUM('Položkový rozpočet 2012'!#REF!) -> #REF! | E23: =SUM('Položkový rozpočet 2012'!F345) -> 675
A24: provozní příspěvek ZŠ K. Jeřábka | B24: =SUM('Položkový rozpočet 2012'!#REF!) -> #REF! | C24: =SUM('Položkový rozpočet 2012'!#REF!) -> #REF! | D24: =SUM('Položkový rozpočet 2012'!#REF!) -> #REF! | E24: =SUM('Položkový rozpočet 2012'!F346) -> 6914
A25: provozní příspěvek ZŠ Jungmannova | B25: =SUM('Položkový rozpočet 2012'!#REF!) -> #REF! | C25: =SUM('Položkový rozpočet 2012'!#REF!) -> #REF! | D25: =SUM('Položkový rozpočet 2012'!#REF!) -> #REF! | E25: =SUM('Položkový rozpočet 2012'!F347) -> 6503
A26: provozní příspěvek ZŠ Školní | B26: =SUM('Položkový rozpočet 2012'!#REF!) -> #REF! | C26: =SUM('Položkový rozpočet 2012'!#REF!) -> #REF! | D26: =SUM('Položkový rozpočet 2012'!#REF!) -> #REF! | E26: =SUM('Položkový rozpočet 2012'!F348) -> 5629
A27: provozní příspěvek ZUŠ | B27: =SUM('Položkový rozpočet 2012'!#REF!) -> #REF! | C27: =SUM('Položkový rozpočet 2012'!#REF!) -> #REF! | D27: =SUM('Položkový rozpočet 2012'!#REF!) -> #REF! | E27: =SUM('Položkový rozpočet 2012'!F349) -> 620
A28: provozní příspěvek DDM Trend | B28: =SUM('Položkový rozpočet 2012'!#REF!) -> #REF! | C28: =SUM('Položkový rozpočet 2012'!#REF!) -> #REF! | D28: =SUM('Položkový rozpočet 2012'!#REF!) -> #REF! | E28: =SUM('Položkový rozpočet 2012'!F351) -> 450
A29: provozní příspěvek Podřipské muzeum | B29: =SUM('Položkový rozpočet 2012'!#REF!) -> #REF! | C29: =SUM('Položkový rozpočet 2012'!#REF!) -> #REF! | D29: =SUM('Položkový rozpočet 2012'!#REF!) -> #REF! | E29: =SUM('Položkový rozpočet 2012'!F356) -> 1499
A30: provozní příspěvek Kulturní zařízení města | B30: =SUM('Položkový rozpočet 2012'!#REF!) -> #REF! | C30: =SUM('Položkový rozpočet 2012'!#REF!) -> #REF! | D30: =SUM('Položkový rozpočet 2012'!#REF!) -> #REF! | E30: =SUM('Položkový rozpočet 2012'!F360) -> 6494
A31: Odbor stavební | B31: =SUM('Položkový rozpočet 2012'!#REF!) -> #REF! | C31: =SUM('Položkový rozpočet 2012'!#REF!) -> #REF! | D31: =SUM('Položkový rozpočet 2012'!#REF!) -> #REF! | E31: =SUM('Položkový rozpočet 2012'!F389) -> 55
A32: Odbor dopravy | B32: =SUM('Položkový rozpočet 2012'!#REF!) -> #REF! | C32: =SUM('Položkový rozpočet 2012'!#REF!) -> #REF! | D32: =SUM('Položkový rozpočet 2012'!#REF!) -> #REF! | E32: =SUM('Položkový rozpočet 2012'!F400) -> 1575
A33: v tom: ztrátovost MHD | B33: =SUM('Položkový rozpočet 2012'!#REF!) -> #REF! | C33: =SUM('Položkový rozpočet 2012'!#REF!) -> #REF! | D33: =SUM('Položkový rozpočet 2012'!#REF!) -> #REF! | E33: =SUM('Položkový rozpočet 2012'!F393) -> 1400
A34: Odbor sociálních věcí a zdravotnictví | B34: =SUM('Položkový rozpočet 2012'!#REF!) -> #REF! | C34: =SUM('Položkový rozpočet 2012'!#REF!) -> #REF! | D34: =SUM('Položkový rozpočet 2012'!#REF!) -> #REF! | E34: =SUM('Položkový rozpočet 2012'!F420) -> 11635
A35: v tom: provozní příspěvek Domov důchodců | B35: =SUM('Položkový rozpočet 2012'!#REF!) -> #REF! | C35: =SUM('Položkový rozpočet 2012'!#REF!) -> #REF! | D35: =SUM('Položkový rozpočet 2012'!#REF!) -> #REF! | E35: =SUM('Položkový rozpočet 2012'!F412) -> 4817
A36: Odbor životního prostředí | B36: =SUM('Položkový rozpočet 2012'!#REF!) -> #REF! | C36: =SUM('Položkový rozpočet 2012'!#REF!) -> #REF! | D36: =SUM('Položkový rozpočet 2012'!#REF!) -> #REF! | E36: =SUM('Položkový rozpočet 2012'!F475) -> 19092
A37: Městská policie | B37: =SUM('Položkový rozpočet 2012'!#REF!) -> #REF! | C37: =SUM('Položkový rozpočet 2012'!#REF!) -> #REF! | D37: =SUM('Položkový rozpočet 2012'!#REF!) -> #REF! | E37: =SUM('Položkový rozpočet 2012'!F494) -> 1577
A38: Výdaje celkem | B38: =+B13+B14+B16+B17+B18+B31+B32+B34+B36+B37 -> #REF! | C38: =+C13+C14+C16+C17+C18+C31+C32+C34+C36+C37 -> #REF! | D38: =+D13+D14+D16+D17+D18+D31+D32+D34+D36+D37 -> #REF! | E38: =+E13+E14+E16+E17+E18+E31+E32+E34+E36+E37 -> 183569
A40: Rozdíl příjmů a výdajů | B40: =+(B10-B38) -> #REF! | C40: =+(C10-C38) -> #REF! | D40: =+(D10-D38) -> #REF! | E40: =+(E10-E38) -> -4226
A42: Financování | B42: =SUM('Položkový rozpočet 2012'!#REF!) -> #REF! | C42: =SUM('Položkový rozpočet 2012'!#REF!) -> #REF! | D42: =SUM('Položkový rozpočet 2012'!#REF!) -> #REF! | E42: =SUM('Položkový rozpočet 2012'!F512) -> 4226
A43: z toho:
A44: Do příjmů - zapojení vlastních prostředků | B44: =SUM('Položkový rozpočet 2012'!#REF!) -> #REF! | C44: =SUM('Položkový rozpočet 2012'!#REF!) -> #REF! | D44: =SUM('Položkový rozpočet 2012'!#REF!) -> #REF! | E44: =SUM('Položkový rozpočet 2012'!F504) -> 9088
A45: Do výdajů - splátky úvěrů | B45: =SUM('Položkový rozpočet 2012'!#REF!) -> #REF! | C45: =SUM('Položkový rozpočet 2012'!#REF!) -> #REF! | D45: =SUM('Položkový rozpočet 2012'!#REF!) -> #REF! | E45: =SUM('Položkový rozpočet 2012'!F510) -> 4862
A46: Dlouhodobý úvěr (Revitalizace centra města)-splatný do 20.1.2016 | B46: 3600 | C46: 3600 | D46: 3600 | E46: 3600
A47: Dlouhodobý úvěr (Rekonstrukce a dostavba ZŠ K.Jeřábka)-splatný do 20.10.2014 | B47: 927 | C47: 927 | D47: 927 | E47: 927
A48: Dlouhodobý úvěr (Nákup automobilové cisternové stříkačky)-splatný do 15.2.2016 | B48: 335 | C48: 335 | D48: 335 | E48: 335
A60: Zveřejněno dne:
A62: Sejmuto dne:

Sheet Položkový rozpočet 2012
A1: Schválený rozpočet Města Roudnice nad Labem na rok 2012
A2: oddíl, § | B2: položka | C2: ORJ | D2: ÚZ | E2: text | F2: v tis. Kč
E6: P Ř Í J M Y
E7: Daňové
B8: 1111 | E8: daň z příjmů FO ze závislé činnosti | F8: 23500
B9: 1112 | E9: daň z příjmů FO z podnikání | F9: 2500
B10: 1113 | E10: daň z příjmů FO vybíraná srážkou | F10: 2000
B11: 1121 | E11: daň z příjmů PO | F11: 24500
B12: 1122 | E12: daň z příjmu PO za obce | F12: 2500
B13: 1211 | E13: daň z přidané hodnoty | F13: 51000
B14: 1334 | E14: odvod za odnětí zemědělské půdy | F14: 10
B15: 1335 | E15: poplatek za odnětí pozemku plnícího funkci lesa | F15: 2
B16: 1337 | C16: 70 | E16: místní poplatek za provoz systému shrom., sběru, přepravy, třídění, využívání a odstr. kom.odpadů | F16: 5500
B17: 1337 | C17: 71 | E17: navýšení místního poplatku za komunální odpad | F17: 150
B18: 1341 | E18: místní poplatek ze psů | F18: 280
B19: 1343 | E19: místní poplatek za zábor užívání veřejného prostranství | F19: 600
B20: 1345 | E20: místní poplatek z ubytovacích kapacit | F20: 100
B21: 1347 | E21: místní poplatek z výherních hracích přístrojů | F21: 1500
B22: 1351 | C22: 60 | E22: odvod výtěžku z provozování VHP na veřejně prospěšné účely | F22: 650
B23: 1353 | C23: 1004 | E23: zkoušky odbor. způsobilosti - dopravní úřad | F23: 600
B24: 1361 | C24: 60 | E24: správní poplatky - povolení k provozování výherních hracích přístrojů | F24: 900
B25: 1361 | C25: 110 | E25: správní poplatky - vodoprávní úřad | F25: 40
B26: 1361 | C26: 120 | E26: správní poplatky - ochrana přírody a krajiny | F26: 2
B27: 1361 | C27: 130 | E27: správní poplatky - odpady | F27: 3
B28: 1361 | C28: 140 | E28: správní poplatky - ochrana ovzduší | F28: 1
B29: 1361 | C29: 150 | E29: správní poplatky - myslivost | F29: 10
B30: 1361 | C30: 155 | E30: správní poplatky - rybářství | F30: 70
B31: 1361 | C31: 160 | E31: správní poplatky - lesní hospodářství | F31: 1
B32: 1361 | C32: 199 | E32: správní poplatky - vidimace - životní prostředí | F32: 1
B33: 1361 | C33: 200 | E33: správní poplatky - OVV | F33: 120
... B48: 1361 | C48: 1099 | E48: správní poplatky - dopravní úřad - vidimace | F48: 3
B49: 1511 | E49: daň z nemovitostí | F49: 15000
E50: CELKEM DAŇOVÉ PŘÍJMY | F50: =SUM(F8:F49) -> 137262
E52: Nedaňové
A53: 2169 | B53: 2212 | C53: 700 | E53: živnostenský úřad - pokuty | F53: 20
A54: 2169 | B54: 2324 | C54: 700 | E54: živnostenský úřad - náklady řízení | F54: 1
A55: 2299 | B55: 2212 | C55: 1009 | E55: pokuty - dopravní úřad | F55: 1400
A56: 2299 | B56: 2324 | C56: 1009 | E56: náklady řízení - dopravní úřad - přestupky | F56: 150
A57: 3111 | B57: 2122 | C57: 901 | E57: MŠ Pastelka Libušina - odvod do rozpočtu zřizovatele (54 odpisy, 100 okna) | F57: 154
A58: 3111 | B58: 2122 | C58: 902 | E58: MŠ Sluníčko Školní - odvod do rozpočtu zřizovatele | F58: 390
A59: 3111 | B59: 2122 | C59: 903 | E59: MŠ Písnička - U Mevy, Řipská - odvod do rozpočtu zřizovatele | F59: 265
A60: 3111 | B60: 2122 | C60: 904 | E60: MŠ Pohádka, J.Hory - odvod do rozpočtu zřizovatele (198 tis. odpisy, 100 tis. opravy) | F60: 298
A61: 3111 | B61: 2122 | C61: 905 | E61: Masarykova MŠ, Dobrovského - odvod do rozpočtu zřizovatele( 26 tis. odpisy, 100 tis. střecha) | F61: 126
A62: 3113 | B62: 2122 | C62: 911 | E62: ZŠ Karla Jeřábka - odvod do rozpočtu zřizovatele | F62: 2880
A63: 3113 | B63: 2122 | C63: 912 | E63: ZŠ Jungmannova - odvod do rozpočtu zřizovatele | F63: 2201
A64: 3113 | B64: 2122 | C64: 913 | E64: ZŠ Školní -odvod do rozpočtu zřizovatele | F64: 1806
... A74: 4399 | B74: 2329 | C74: 500 | E74: odbor sociálních věcí a zdravotnictví - vydávání receptů | F74: 1
A75: 5269 | B75: 2141 | E75: DEZA - úroky z půjček | F75: 3
A76: 5269 | B76: 2229 | E76: DEZA - splátky půjček | F76: 80
A77: 5311 | B77: 2212 | C77: 631 | E77: pokuty - přestupková komise | F77: 20
A78: 5311 | B78: 2324 | C78: 631 | E78: náklady řízení u přestupkových pokut | F78: 2
A79: 5311 | B79: 5212 | C79: 1100 | E79: pokuty - Městská policie | F79: 400
A80: 5512 | B80: 2324 | E80: sdružené prostředky - DHS - Glazura | F80: 15
A81: 6171 | B81: 2119 | C81: 210 | E81: převod z rozpočtových účtů Fond rozvoje bydlení (konsolidace) | F81: 1963
A82: 6171 | B82: 2324 | C82: 30 | E82: exekuční náklady | F82: 40
A83: 6171 | B83: 2324 | E83: ost. nedaňové příjmy - např. přefakturace služeb spojených s nájmem | F83: 600
A84: 6310 | B84: 2141 | E84: přijaté úroky (výzva 53 a 40) | F84: 2
A85: 6310 | B85: 2141 | E85: přijaté úroky | F85: 150
B86: 2460 | C86: 210 | E86: splátky Fondu rozvoje bydlení | F86: 1600
E87: CELKEM NEDAŇOVÉ PŘÍJMY | F87: =SUM(F53:F86) -> 27982
E89: Dotace
B90: 4121 | C90: 630 | E90: výkon přestupků pro obce | F90: 120
B91: 4121 | C91: 900 | E91: dotace od obcí - školství | F91: 3300
B92: 4121 | C92: 1100 | E92: dotace od obcí - výkon městské policie | F92: 40
B93: 4131 | E93: převody z vlastních fondů - hospodářská činnost | F93: =SUM(F540) -> 6660
B94: 4131 | E94: převody z vlastních fondů - bytové hospodářství | F94: =SUM(F557) -> 1000
B95: 4134 | C95: 10 | E95: převod z rozpočtových účtů sociální fond (konsolidace) | F95: 2979
E96: CELKEM DOTACE | F96: =SUM(F90:F95) -> 14099
E98: PŘÍJMY CELKEM | F98: =(F96+F87+F50) -> 179343
E102: V Ý D A J E
E103: Ekonomický odbor
A104: 3113 | B104: 5141 | E104: úroky z úvěru (Rekonstrukce a dostavba ZŠ K.Jeřábka) | F104: 50
A105: 3636 | B105: 5229 | C105: 601 | E105: Hospodářská a sociální rada Litoměřicka - členský příspěvek | F105: 20
A106: 3639 | B106: 5141 | E106: úroky z úvěru (Revitalizace centra města) | F106: 140
A107: 3639 | B107: 5229 | C107: 11 | E107: SESO Severočeské sdružení obcí - členský příspěvek | F107: 20
A108: 3639 | B108: 5329 | C108: 13 | E108: EUROREGION Labe - členský příspěvek | F108: 33
A109: 3639 | B109: 5329 | C109: 17 | E109: DSO - Podřipsko - členský příspěvek | F109: 127
A110: 3639 | B110: 5329 | C110: 19 | E110: Říp o.p.s. členský příspěvek | F110: 35
A111: 3722 | B111: 5329 | C111: 14 | E111: SONO - Sdružení obcí pro nakládání s odpady - čl. příspěvek | F111: 134
A112: 5512 | B112: 5141 | E112: úroky z úvěru (nákup automobilové cisternové stříkačky) | F112: 74
A113: 6171 | B113: 5173 | C113: 1 | E113: cestovné, parkovné, ubytování | F113: 100
A114: 6171 | B114: 5901 | C114: 1 | E114: rezerva | F114: 2685
A115: 6310 | B115: 5163 | C115: 201 | E115: služby peněžních ústavů | F115: 200
A116: 6330 | B116: 5342 | C116: 10 | E116: příspěvek do sociálního fondu | F116: 2979
E117: CELKEM EKONOMICKÝ ODBOR | F117: =SUM(F104:F116) -> 6597
E119: Rozvoj města
A120: 2219 | B120: 6121 | C120: 300 | E120: bezbariérové chodníky | F120: 690
A121: 2219 | B121: 6121 | C121: 370 | E121: osvětlení přechodů pro chodce | F121: 450
A122: 2219 | B122: 6121 | C122: 370 | E122: přechod ul. Michálkova - osvětlení přechodu | F122: 150
A123: 3111 | B123: 5171 | C123: 904 | E123: MŠ Pohádka + Pampeliška - oprava střešní krytiny | F123: 150
A124: 3111 | B124: 5171 | C124: 904 | E124: MŠ Pohádka - oprava komína, odvětrání půdy | F124: 10
A125: 3111 | B125: 5171 | C125: 905 | E125: MŠ Kytička - oprava střecha | F125: 727
A126: 3111 | B126: 6121 | C126: 901 | E126: MŠ Pastelka - výměna oken v jídelně | F126: 300
A127: 3111 | B127: 6121 | C127: 902 | E127: MŠ Sluníčko - drenáže, kanalizace | F127: 150
A128: 3111 | B128: 6121 | C128: 902 | E128: MŠ Školní - vyřešení dopravy jídla (požadavek KHS) | F128: 1500
A129: 3111 | B129: 6121 | C129: 904 | E129: MŠ Pohádka + Pampeliška - výměna oken a dveří 3x | F129: 60
A130: 3111 | B130: 6122 | C130: 903 | E130: MŠ Písnička - II etapa vybavení zahrady | F130: 70
A131: 3113 | B131: 5171 | C131: 912 | E131: ZŠ Jungmannova - oprava schodů vně budovy | F131: 140
... A151: 3639 | B151: 6121 | C151: 330 | E151: rekonstrukce v objektech města | F151: 1000
A152: 3639 | B152: 6121 | E152: příprava akcí + PD | F152: 1200
...

Sheet Rozpočtový výhled
A2: Rozpočtový výhled Města Roudnice nad Labem na období 2013-2017
E5: návrh rozpočtu | F5: rozpočet | G5: rozpočet | H5: rozpočet | I5: rozpočet | J5: rozpočet
E6: 2012 | F6: 2013 | G6: 2014 | H6: 2015 | I6: 2016 | J6: 2017
A7: Příjmy | E7: v tis. Kč | F7: v tis. Kč | G7: v tis. Kč | H7: v tis. Kč | I7: v tis. Kč | J7: v tis. Kč
A8: Daňové příjmy | B8: 138582 | C8: 138582 | D8: 138582 | E8: 137262 | F8: 140000 | G8: 141000 | H8: 141500 | I8: 142000 | J8: 142000
A9: Nedaňové příjmy | B9: 25224 | C9: 24531 | D9: 24340 | E9: 27982 | F9: 28000 | G9: 27500 | H9: 27500 | I9: 27000 | J9: 27000
A10: Kapitálové příjmy | B10: 300 | C10: 300 | D10: 300 | E10: 0 | F10: 100 | G10: 100 | H10: 100 | I10: 100 | J10: 100
A11: Dotace | B11: 40227 | C11: 40227 | D11: 40227 | E11: 14099 | F11: 40000 | G11: 40000 | H11: 40000 | I11: 40000 | J11: 40000
A12: Příjmy celkem | B12: 204333 | C12: 203640 | D12: 203449 | E12: =SUM(E8:E11) -> 179343 | F12: =SUM(F8:F11) -> 208100 | G12: =SUM(G8:G11) -> 208600 | H12: =SUM(H8:H11) -> 209100 | I12: =SUM(I8:I11) -> 209100 | J12: =SUM(J8:J11) -> 209100
A14: Výdaje
A15: Ekonomický odbor | B15: 4532 | C15: 5032 | D15: 5032 | E15: 6362 | F15: 5500 | G15: 5500 | H15: 7000 | I15: 7000 | J15: 8450
A16: Odbor majetku a rozvoje města | B16: 69665 | C16: 71226 | D16: 71226 | E16: 53703 | F16: 55371 | G16: 55706 | H16: 55458 | I16: 59131 | J16: 58000
A17: v tom: provozní příspěvek RMS | B17: 33500 | C17: 31226 | D17: 31226 | E17: 30000 | F17: 30000 | G17: 30000 | H17: 30000 | I17: 30000 | J17: 30000
A18: Odbor tajemníka | B18: 69226.56 | C18: 71280.52 | D18: 71189.52 | E18: 51855 | F18: 77000 | G18: 77000 | H18: 77000 | I18: 77000 | J18: 77000
A19: Kancelář starosty, civilní obrana,JSDH | B19: 1674 | C19: 1664 | D19: 1664 | E19: 1410 | F19: 1500 | G19: 1500 | H19: 1500 | I19: 1500 | J19: 1500
A20: Odbor školství kultury a sportu | B20: 39390 | C20: 36877 | D20: 36877 | E20: 36305 | F20: 39000 | G20: 39000 | H20: 39000 | I20: 39000 | J20: 39000
E21: 33476 | F21: 36000 | G21: 36000 | H21: 36000 | I21: 36000 | J21: 36000
A22: Odbor stavební | B22: 55 | C22: 55 | D22: 55 | E22: 55 | F22: 50 | G22: 50 | H22: 50 | I22: 50 | J22: 50
A23: Odbor dopravy | B23: 1825 | C23: 1825 | D23: 1825 | E23: 1575 | F23: 1600 | G23: 1600 | H23: 1600 | I23: 1600 | J23: 1600
A24: v tom: ztrátovost MHD | B24: 1600 | C24: 1600 | D24: 1600 | E24: 1400 | F24: 1400 | G24: 1400 | H24: 1400 | I24: 1400 | J24: 1400
A25: Odbor sociálních věcí a zdravotnictví | B25: 10730 | C25: 10685 | D25: 11035 | E25: 11635 | F25: 11700 | G25: 12000 | H25: 12000 | I25: 12000 | J25: 12000
A26: v tom: provozní příspěvek Domov důchodců | B26: 4752 | C26: 4752 | D26: 4752 | E26: 4817 | F26: 6000 | G26: 6000 | H26: 6000 | I26: 6000 | J26: 6000
A27: Odbor životního prostředí | B27: 18783 | C27: 19413 | D27: 19413 | E27: 19092 | F27: 19000 | G27: 19000 | H27: 19000 | I27: 19000 | J27: 19000
A28: Městská policie | B28: 2098 | C28: 1191 | D28: 1191 | E28: 1577 | F28: 1500 | G28: 1500 | H28: 1500 | I28: 1500 | J28: 1500
A29: Výdaje celkem | B29: 217978.56 | C29: 219248.52 | D29: 219507.52 | E29: =+(E15+E16+E18+E19+E20+E22+E23+E25+E27+E28) -> 183569 | F29: =+(F15+F16+F18+F19+F20+F22+F23+F25+F27+F28) -> 212221 | G29: =+(G15+G16+G18+G19+G20+G22+G23+G25+G27+G28) -> 212856 | H29: =+(H15+H16+H18+H19+H20+H22+H23+H25+H27+H28) -> 214108 | I29: =+(I15+I16+I18+I19+I20+I22+I23+I25+I27+I28) -> 217781 | J29: =+(J15+J16+J18+J19+J20+J22+J23+J25+J27+J28) -> 218100
A31: Rozdíl příjmů a výdajů | B31: -13645.56 | C31: -15608.52 | D31: -16058.52 | E31: =+(E12-E29) -> -4226 | F31: =+(F12-F29) -> -4121 | G31: =+(G12-G29) -> -4256 | H31: =+(H12-H29) -> -5008 | I31: =+(I12-I29) -> -8681 | J31: =+(J12-J29) -> -9000
A33: Financování | B33: 19893 | C33: 19891 | D33: 19891 | E33: =+(E35-E36) -> 4226 | F33: =+(F35-F36) -> 4121 | G33: =+(G35-G36) -> 4256 | H33: =+(H35-H36) -> 5008 | I33: =+(I35-I36) -> 8681 | J33: =+(J35-J36) -> 9000
A34: z toho:
A35: Do příjmů - zapojení vlastních prostředků | B35: 23820 | C35: 23818 | D35: 23818 | E35: 9088 | F35: 9000 | G35: 9000 | H35: 9000 | I35: 9000 | J35: 9000
A36: Do výdajů - splátky úvěrů | B36: 3927 | C36: 3927 | D36: 3927 | E36: =SUM(E37:E39) -> 4862 | F36: =SUM(F37:F39) -> 4879 | G36: =SUM(G37:G39) -> 4744 | H36: =SUM(H37:H39) -> 3992 | I36: =SUM(I37:I39) -> 319 | J36: =SUM(J37:J39) -> 0
A37: Dlouhodobý úvěr (Revitalizace centra města)-splatný do 20.1.2016 | B37: 3600 | C37: 3600 | D37: 3600 | E37: 3600 | F37: 3600 | G37: 3600 | H37: 3600 | I37: 251 | J37: 0
A38: Dlouhodobý úvěr (Rekonstrukce a dostavba ZŠ K.Jeřábka)-splatný do 20.10.2014 | B38: 927 | C38: 927 | D38: 927 | E38: 927 | F38: 927 | G38: 772 | H38: 0 | I38: 0 | J38: 0
A39: Dlouhodobý úvěr (Nákup automobilové cisternové stříkačky)-splatný do 15.2.2016 | B39: 335 | C39: 335 | D39: 335 | E39: 335 | F39: 352 | G39: 372 | H39: 392 | I39: 68 | J39: 0
