Workbook

Sheet Rekapitulace stavby
A1: Export Komplet | AZ1: VZ | BA1: 2.0 | BB1: ZAMOK | BT1: False | BU1: False | BV1: {86f972e1-12fa-4d00-89d2-b2bc43c02817}
BS2: 0,01 | BT2: 21
BS3: 0,01 | BT3: 12
D4: REKAPITULACE STAVBY | AS4: v --- níže se nacházejí doplnkové a pomocné údaje k sestavám --- v | BE4: Návod na vyplnění | BS4: 0,001
D5: Kód: | K5: 235 | BE5: Měnit lze pouze buňky se žlutým podbarvením!_x000D_ _x000D_ 1) v Rekapitulaci stavby vyplňte údaje o Účastníkovi (přenesou se do ostatních sestav i v jiných listech)_x000D_ _x000D_ 2) na vybraných listech vyplňte v sestavě Soupis prací ceny u položek | BS5: 0,01
D6: Stavba: | K6: Lesopark Na Kolečku-DPS - revize | BS6: 0,01
D7: KSO: | K7: 823 27 11 | AK7: CC-CZ: | BS7: 0,01
D8: Místo: | K8: Roudnice nad Labem | AK8: Datum: | AN8: 22. 5. 2024 | BS8: 0,01
BS9: 0,01
D10: Zadavatel: | AK10: IČ: | BS10: 0,01
AK11: DIČ: | BS11: 0,01
BS12: 0,01
D13: Účastník: | AK13: IČ: | AN13: Vyplň údaj | BS13: 0,01
E14: Vyplň údaj | AK14: DIČ: | AN14: Vyplň údaj | BS14: 0,01
BS15: False
D16: Projektant: | AK16: IČ: | BS16: False
E17: Land05 s.r.o. | AK17: DIČ: | BS17: True
BS18: 0,01
D19: Zpracovatel: | AK19: IČ: | AN19: 07206062 | BS19: 0,01
E20: Soloreal s.r.o. | AK20: DIČ: | BS20: True
D22: Poznámka:
E23: Soupis prací je sestaven s využitím Cenové soustavy ÚRS. Položky, které pochází z této cenové soustavy, jsou ve sloupci 'Cenová soustava' označeny popisem 'CS ÚRS' a úrovní příslušného kalendářního pololetí. Veškeré další informace vymezující popis a podmínky použití těchto položek z Cenové soustavy, které nejsou uvedeny přímo v soupisu prací, jsou neomezeně dálkově k dispozici na webu podminky.urs.cz.
D26: Cena bez DPH | AK26: =ROUND(AG54,2) -> 0
L28: Sazba daně | W28: Základ daně | AK28: Výše daně
D29: DPH | F29: základní | L29: 0.21 | W29: =ROUND(AZ54, 2) -> 0 | AK29: =ROUND(AV54, 2) -> 0
F30: snížená | L30: 0.12 | W30: =ROUND(BA54, 2) -> 0 | AK30: =ROUND(AW54, 2) -> 0
F31: zákl. přenesená | L31: 0.21 | W31: =ROUND(BB54, 2) -> 0 | AK31: 0
F32: sníž. přenesená | L32: 0.12 | W32: =ROUND(BC54, 2) -> 0 | AK32: 0
F33: nulová | L33: 0 | W33: =ROUND(BD54, 2) -> 0 | AK33: 0
D35: Cena s DPH | T35: v | X35: CZK | AK35: =SUM(AK26:AK33) -> 0
C42: REKAPITULACE OBJEKTŮ STAVBY A SOUPISŮ PRACÍ
C44: Kód: | L44: =K5 -> 235
C45: Stavba: | L45: =K6 -> Lesopark Na Kolečku-DPS - revize
C47: Místo: | L47: =IF(K8="","",K8) -> Roudnice nad Labem | AI47: Datum: | AM47: =IF(AN8= "","",AN8) -> 22. 5. 2024
C49: Zadavatel: | L49: =IF(E11= "","",E11) | AI49: Projektant: | AM49: =IF(E17="","",E17) -> Land05 s.r.o. | AS49: Informatívní údaje z listů zakázek
C50: Účastník: | L50: =IF(E14= "Vyplň údaj","",E14) | AI50: Zpracovatel: | AM50: =IF(E20="","",E20) -> Soloreal s.r.o.
C52: Kód | I52: Popis | AG52: Cena bez DPH [CZK] | AN52: Cena s DPH [CZK] | AQ52: Typ | AS52: z toho Ostat._x000D_ náklady [CZK] | AT52: DPH [CZK] | AU52: Normohodiny [h] | AV52: DPH základní [CZK] | AW52: DPH snížená [CZK] | AX52: DPH základní přenesená_x000D_ [CZK] | AY52: DPH snížená přenesená_x000D_ [CZK] | AZ52: Základna_x000D_ DPH základní | BA52: Základna_x000D_ DPH snížená | BB52: Základna_x000D_ DPH zákl. přenesená | BC52: Základna_x000D_ DPH sníž. přenesená | BD52: Základna_x000D_ DPH nulová
C54: Náklady stavby celkem | AG54: =ROUND(AG55+AG71,2) -> 0 | AN54: =SUM(AG54,AT54) -> 0 | AS54: =ROUND(AS55+AS71,2) -> 0 | AT54: =ROUND(SUM(AV54:AW54),2) -> 0 | AU54: =ROUND(AU55+AU71,5) -> 0 | AV54: =ROUND(AZ54*L29,2) -> 0 | AW54: =ROUND(BA54*L30,2) -> 0 | AX54: =ROUND(BB54*L29,2) -> 0 | AY54: =ROUND(BC54*L30,2) -> 0 | AZ54: =ROUND(AZ55+AZ71,2) -> 0 | BA54: =ROUND(BA55+BA71,2) -> 0 | BB54: =ROUND(BB55+BB71,2) -> 0 | BC54: =ROUND(BC55+BC71,2) -> 0 | BD54: =ROUND(BD55+BD71,2) -> 0 | BS54: D | BT54: 0 | BU54: ###NOIMPORT### | BV54: IMPORT | BW54: {86f972e1-12fa-4d00-89d2-b2bc43c02817} | BX54: {00000000-0000-0000-0000-000000000000} | CL54: 823 27 11
D55: 01 | J55: 1. ETAPA | AG55: =ROUND(AG56+SUM(AG57:AG61)+AG64+AG65+SUM(AG68:AG70),2) -> 0 | AN55: =SUM(AG55,AT55) -> 0 | AQ55: STA | AS55: =ROUND(AS56+SUM(AS57:AS61)+AS64+AS65+SUM(AS68:AS70),2) -> 0 | AT55: =ROUND(SUM(AV55:AW55),2) -> 0 | AU55: =ROUND(AU56+SUM(AU57:AU61)+AU64+AU65+SUM(AU68:AU70),5) -> 0 | AV55: =ROUND(AZ55*L29,2) -> 0 | AW55: =ROUND(BA55*L30,2) -> 0 | AX55: =ROUND(BB55*L29,2) -> 0 | AY55: =ROUND(BC55*L30,2) -> 0 | AZ55: =ROUND(AZ56+SUM(AZ57:AZ61)+AZ64+AZ65+SUM(AZ68:AZ70),2) -> 0 | BA55: =ROUND(BA56+SUM(BA57:BA61)+BA64+BA65+SUM(BA68:BA70),2) -> 0 | BB55: =ROUND(BB56+SUM(BB57:BB61)+BB64+BB65+SUM(BB68:BB70),2) -> 0 | BC55: =ROUND(BC56+SUM(BC57:BC61)+BC64+BC65+SUM(BC68:BC70),2) -> 0 | BD55: =ROUND(BD56+SUM(BD57:BD61)+BD64+BD65+SUM(BD68:BD70),2) -> 0 | BS55: D | BT55: 1 | BU55: ###NOIMPORT### | BV55: IMPORT | BW55: {d66d242e-d88e-4c7e-b374-23ef312c3e58} | BX55: {86f972e1-12fa-4d00-89d2-b2bc43c02817} | CL55: 823 27 11 | CM55: 2
A56: / | E56: SO 01 | K56: Komunikace a zpevněné plochy | AG56: ='SO 01 - Komunikace a zpev...'!J32 -> 0 | AN56: =SUM(AG56,AT56) -> 0 | AQ56: Soupis | AS56: 0 | AT56: =ROUND(SUM(AV56:AW56),2) -> 0 | AU56: ='SO 01 - Komunikace a zpev...'!P97 -> 0 | AV56: ='SO 01 - Komunikace a zpev...'!J35 -> 0 | AW56: ='SO 01 - Komunikace a zpev...'!J36 -> 0 | AX56: ='SO 01 - Komunikace a zpev...'!J37 -> 0 | AY56: ='SO 01 - Komunikace a zpev...'!J38 -> 0 | AZ56: ='SO 01 - Komunikace a zpev...'!F35 -> 0 | BA56: ='SO 01 - Komunikace a zpev...'!F36 -> 0 | BB56: ='SO 01 - Komunikace a zpev...'!F37 -> 0 | BC56: ='SO 01 - Komunikace a zpev...'!F38 -> 0 | BD56: ='SO 01 - Komunikace a zpev...'!F39 -> 0 | BT56: 2 | BV56: IMPORT | BW56: {32f4593d-0619-4518-bead-55c0805f1bf8} | BX56: {d66d242e-d88e-4c7e-b374-23ef312c3e58}
A57: / | E57: SO 01.2 | K57: Schody a rampa | AG57: ='SO 01.2 - Schody a rampa'!J32 -> 0 | AN57: =SUM(AG57,AT57) -> 0 | AQ57: Soupis | AS57: 0 | AT57: =ROUND(SUM(AV57:AW57),2) -> 0 | AU57: ='SO 01.2 - Schody a rampa'!P94 -> 0 | AV57: ='SO 01.2 - Schody a rampa'!J35 -> 0 | AW57: ='SO 01.2 - Schody a rampa'!J36 -> 0 | AX57: ='SO 01.2 - Schody a rampa'!J37 -> 0 | AY57: ='SO 01.2 - Schody a rampa'!J38 -> 0 | AZ57: ='SO 01.2 - Schody a rampa'!F35 -> 0 | BA57: ='SO 01.2 - Schody a rampa'!F36 -> 0 | BB57: ='SO 01.2 - Schody a rampa'!F37 -> 0 | BC57: ='SO 01.2 - Schody a rampa'!F38 -> 0 | BD57: ='SO 01.2 - Schody a rampa'!F39 -> 0 | BT57: 2 | BV57: IMPORT | BW57: {adde1d4f-5e9d-4ad0-95a8-d7566620517a} | BX57: {d66d242e-d88e-4c7e-b374-23ef312c3e58} | CL57: 823 27 11
A58: / | E58: SO 02 | K58: Veřejné osvětlení | AG58: ='SO 02 - Veřejné osvětlení'!J32 -> 0 | AN58: =SUM(AG58,AT58) -> 0 | AQ58: Soupis | AS58: 0 | AT58: =ROUND(SUM(AV58:AW58),2) -> 0 | AU58: ='SO 02 - Veřejné osvětlení'!P97 -> 0 | AV58: ='SO 02 - Veřejné osvětlení'!J35 -> 0 | AW58: ='SO 02 - Veřejné osvětlení'!J36 -> 0 | AX58: ='SO 02 - Veřejné osvětlení'!J37 -> 0 | AY58: ='SO 02 - Veřejné osvětlení'!J38 -> 0 | AZ58: ='SO 02 - Veřejné osvětlení'!F35 -> 0 | BA58: ='SO 02 - Veřejné osvětlení'!F36 -> 0 | BB58: ='SO 02 - Veřejné osvětlení'!F37 -> 0 | BC58: ='SO 02 - Veřejné osvětlení'!F38 -> 0 | BD58: ='SO 02 - Veřejné osvětlení'!F39 -> 0 | BT58: 2 | BV58: IMPORT | BW58: {99df0b34-04f2-4810-aa2b-cd84f8259663} | BX58: {d66d242e-d88e-4c7e-b374-23ef312c3e58} | CL58: 823 27 11
A59: / | E59: SO 03.1a | K59: Vodovodní přípojka | AG59: ='SO 03.1a - Vodovodní příp...'!J32 -> 0 | AN59: =SUM(AG59,AT59) -> 0 | AQ59: Soupis | AS59: 0 | AT59: =ROUND(SUM(AV59:AW59),2) -> 0 | AU59: ='SO 03.1a - Vodovodní příp...'!P94 -> 0 | AV59: ='SO 03.1a - Vodovodní příp...'!J35 -> 0 | AW59: ='SO 03.1a - Vodovodní příp...'!J36 -> 0 | AX59: ='SO 03.1a - Vodovodní příp...'!J37 -> 0 | AY59: ='SO 03.1a - Vodovodní příp...'!J38 -> 0 | AZ59: ='SO 03.1a - Vodovodní příp...'!F35 -> 0 | BA59: ='SO 03.1a - Vodovodní příp...'!F36 -> 0 | BB59: ='SO 03.1a - Vodovodní příp...'!F37 -> 0 | BC59: ='SO 03.1a - Vodovodní příp...'!F38 -> 0 | BD59: ='SO 03.1a - Vodovodní příp...'!F39 -> 0 | BT59: 2 | BV59: IMPORT | BW59: {866a0846-e2fc-4195-82c8-7ee56c3863ca} | BX59: {d66d242e-d88e-4c7e-b374-23ef312c3e58} | CL59: 823 27 11
A60: / | E60: SO 03.2a | K60: Kanalizační přípojka | AG60: ='SO 03.2a - Kanalizační př...'!J32 -> 0 | AN60: =SUM(AG60,AT60) -> 0 | AQ60: Soupis | AS60: 0 | AT60: =ROUND(SUM(AV60:AW60),2) -> 0 | AU60: ='SO 03.2a - Kanalizační př...'!P92 -> 0 | AV60: ='SO 03.2a - Kanalizační př...'!J35 -> 0 | AW60: ='SO 03.2a - Kanalizační př...'!J36 -> 0 | AX60: ='SO 03.2a - Kanalizační př...'!J37 -> 0 | AY60: ='SO 03.2a - Kanalizační př...'!J38 -> 0 | AZ60: ='SO 03.2a - Kanalizační př...'!F35 -> 0 | BA60: ='SO 03.2a - Kanalizační př...'!F36 -> 0 | BB60: ='SO 03.2a - Kanalizační př...'!F37 -> 0 | BC60: ='SO 03.2a - Kanalizační př...'!F38 -> 0 | BD60: ='SO 03.2a - Kanalizační př...'!F39 -> 0 | BT60: 2 | BV60: IMPORT | BW60: {115b3f86-e07f-40c9-98b5-21d4c6321772} | BX60: {d66d242e-d88e-4c7e-b374-23ef312c3e58} | CL60: 823 27 11
E61: SO 03.b | K61: Odvodnění | AG61: =ROUND(SUM(AG62:AG63),2) -> 0 | AN61: =SUM(AG61,AT61) -> 0 | AQ61: Soupis | AS61: =ROUND(SUM(AS62:AS63),2) -> 0 | AT61: =ROUND(SUM(AV61:AW61),2) -> 0 | AU61: =ROUND(SUM(AU62:AU63),5) -> 0 | AV61: =ROUND(AZ61*L29,2) -> 0 | AW61: =ROUND(BA61*L30,2) -> 0 | AX61: =ROUND(BB61*L29,2) -> 0 | AY61: =ROUND(BC61*L30,2) -> 0 | AZ61: =ROUND(SUM(AZ62:AZ63),2) -> 0 | BA61: =ROUND(SUM(BA62:BA63),2) -> 0 | BB61: =ROUND(SUM(BB62:BB63),2) -> 0 | BC61: =ROUND(SUM(BC62:BC63),2) -> 0 | BD61: =ROUND(SUM(BD62:BD63),2) -> 0 | BS61: D | BT61: 2 | BU61: ###NOIMPORT### | BV61: IMPORT | BW61: {68c86d96-a7aa-4ced-b295-ce3460370169} | BX61: {d66d242e-d88e-4c7e-b374-23ef312c3e58} | CL61: 823 27 11
A62: / | F62: SO 03.b.1 | L62: Odvodnění - způsobilé náklady | AG62: ='SO 03.b.1 - Odvodnění - z...'!J34 -> 0 | AN62: =SUM(AG62,AT62) -> 0 | AQ62: Soupis | AS62: 0 | AT62: =ROUND(SUM(AV62:AW62),2) -> 0 | AU62: ='SO 03.b.1 - Odvodnění - z...'!P97 -> 0 | AV62: ='SO 03.b.1 - Odvodnění - z...'!J37 -> 0 | AW62: ='SO 03.b.1 - Odvodnění - z...'!J38 -> 0 | AX62: ='SO 03.b.1 - Odvodnění - z...'!J39 -> 0 | AY62: ='SO 03.b.1 - Odvodnění - z...'!J40 -> 0 | AZ62: ='SO 03.b.1 - Odvodnění - z...'!F37 -> 0 | BA62: ='SO 03.b.1 - Odvodnění - z...'!F38 -> 0 | BB62: ='SO 03.b.1 - Odvodnění - z...'!F39 -> 0 | BC62: ='SO 03.b.1 - Odvodnění - z...'!F40 -> 0 | BD62: ='SO 03.b.1 - Odvodnění - z...'!F41 -> 0 | BT62: 3 | BV62: IMPORT | BW62: {d3f81324-ca52-4308-863d-c12319876a3e} | BX62: {68c86d96-a7aa-4ced-b295-ce3460370169} | CL62: 823 27 11
A63: / | F63: SO 03.b.2 | L63: Odvodnění - nezpůsobilé náklady | AG63: ='SO 03.b.2 - Odvodnění - n...'!J34 -> 0 | AN63: =SUM(AG63,AT63) -> 0 | AQ63: Soupis | AS63: 0 | AT63: =ROUND(SUM(AV63:AW63),2) -> 0 | AU63: ='SO 03.b.2 - Odvodnění - n...'!P96 -> 0 | AV63: ='SO 03.b.2 - Odvodnění - n...'!J37 -> 0 | AW63: ='SO 03.b.2 - Odvodnění - n...'!J38 -> 0 | AX63: ='SO 03.b.2 - Odvodnění - n...'!J39 -> 0 | AY63: ='SO 03.b.2 - Odvodnění - n...'!J40 -> 0 | AZ63: ='SO 03.b.2 - Odvodnění - n...'!F37 -> 0 | BA63: ='SO 03.b.2 - Odvodnění - n...'!F38 -> 0 | BB63: ='SO 03.b.2 - Odvodnění - n...'!F39 -> 0 | BC63: ='SO 03.b.2 - Odvodnění - n...'!F40 -> 0 | BD63: ='SO 03.b.2 - Odvodnění - n...'!F41 -> 0 | BT63: 3 | BV63: IMPORT | BW63: {91081f3e-d0ee-44c4-b7ba-66323b58a494} | BX63: {68c86d96-a7aa-4ced-b295-ce3460370169} | CL63: 823 27 11
A64: / | E64: SO 05 | K64: Drobná architektura | AG64: ='SO 05 - Drobná architektura'!J32 -> 0 | AN64: =SUM(AG64,AT64) -> 0 | AQ64: Soupis | AS64: 0 | AT64: =ROUND(SUM(AV64:AW64),2) -> 0 | AU64: ='SO 05 - Drobná architektura'!P93 -> 0 | AV64: ='SO 05 - Drobná architektura'!J35 -> 0 | AW64: ='SO 05 - Drobná architektura'!J36 -> 0 | AX64: ='SO 05 - Drobná architektura'!J37 -> 0 | AY64: ='SO 05 - Drobná architektura'!J38 -> 0 | AZ64: ='SO 05 - Drobná architektura'!F35 -> 0 | BA64: ='SO 05 - Drobná architektura'!F36 -> 0 | BB64: ='SO 05 - Drobná architektura'!F37 -> 0 | BC64: ='SO 05 - Drobná architektura'!F38 -> 0 | BD64: ='SO 05 - Drobná architektura'!F39 -> 0 | BT64: 2 | BV64: IMPORT | BW64: {f127d2fa-00d8-44cb-ab64-1c551d41b5cb} | BX64: {d66d242e-d88e-4c7e-b374-23ef312c3e58} | CL64: 823 27 11
E65: SO 06 | K65: Krajinářské úpravy | AG65: =ROUND(SUM(AG66:AG67),2) -> 0 | AN65: =SUM(AG65,AT65) -> 0 | AQ65: Soupis | AS65: =ROUND(SUM(AS66:AS67),2) -> 0 | AT65: =ROUND(SUM(AV65:AW65),2) -> 0 | AU65: =ROUND(SUM(AU66:AU67),5) -> 0 | AV65: =ROUND(AZ65*L29,2) -> 0 | AW65: =ROUND(BA65*L30,2) -> 0 | AX65: =ROUND(BB65*L29,2) -> 0 | AY65: =ROUND(BC65*L30,2) -> 0 | AZ65: =ROUND(SUM(AZ66:AZ67),2) -> 0 | BA65: =ROUND(SUM(BA66:BA67),2) -> 0 | BB65: =ROUND(SUM(BB66:BB67),2) -> 0 | BC65: =ROUND(SUM(BC66:BC67),2) -> 0 | BD65: =ROUND(SUM(BD66:BD67),2) -> 0 | BS65: D | BT65: 2 | BU65: ###NOIMPORT### | BV65: IMPORT | BW65: {c1054d5c-66aa-4b04-a5a4-a17f926b16c1} | BX65: {d66d242e-d88e-4c7e-b374-23ef312c3e58} | CL65: 823 27 11
A66: / | F66: SO 06.1 | L66: Krajinářské úpravy - způsobilé náklady | AG66: ='SO 06.1 - Krajinářské úpr...'!J34 -> 0 | AN66: =SUM(AG66,AT66) -> 0 | AQ66: Soupis | AS66: 0 | AT66: =ROUND(SUM(AV66:AW66),2) -> 0 | AU66: ='SO 06.1 - Krajinářské úpr...'!P96 -> 0 | AV66: ='SO 06.1 - Krajinářské úpr...'!J37 -> 0 | AW66: ='SO 06.1 - Krajinářské úpr...'!J38 -> 0 | AX66: ='SO 06.1 - Krajinářské úpr...'!J39 -> 0 | AY66: ='SO 06.1 - Krajinářské úpr...'!J40 -> 0 | AZ66: ='SO 06.1 - Krajinářské úpr...'!F37 -> 0 | BA66: ='SO 06.1 - Krajinářské úpr...'!F38 -> 0 | BB66: ='SO 06.1 - Krajinářské úpr...'!F39 -> 0 | BC66: ='SO 06.1 - Krajinářské úpr...'!F40 -> 0 | BD66: ='SO 06.1 - Krajinářské úpr...'!F41 -> 0 | BT66: 3 | BV66: IMPORT | BW66: {170b0904-732c-49f6-a0a9-ab6ead5f3eea} | BX66: {c1054d5c-66aa-4b04-a5a4-a17f926b16c1} | CL66: 823 27 11
A67: / | F67: SO 06.2 | L67: Krajinářské úpravy - nezpůsobilé náklady | AG67: ='SO 06.2 - Krajinářské úpr...'!J34 -> 0 | AN67: =SUM(AG67,AT67) -> 0 | AQ67: Soupis | AS67: 0 | AT67: =ROUND(SUM(AV67:AW67),2) -> 0 | AU67: ='SO 06.2 - Krajinářské úpr...'!P104 -> 0 | AV67: ='SO 06.2 - Krajinářské úpr...'!J37 -> 0 | AW67: ='SO 06.2 - Krajinářské úpr...'!J38 -> 0 | AX67: ='SO 06.2 - Krajinářské úpr...'!J39 -> 0 | AY67: ='SO 06.2 - Krajinářské úpr...'!J40 -> 0 | AZ67: ='SO 06.2 - Krajinářské úpr...'!F37 -> 0 | BA67: ='SO 06.2 - Krajinářské úpr...'!F38 -> 0 | BB67: ='SO 06.2 - Krajinářské úpr...'!F39 -> 0 | BC67: ='SO 06.2 - Krajinářské úpr...'!F40 -> 0 | BD67: ='SO 06.2 - Krajinářské úpr...'!F41 -> 0 | BT67: 3 | BV67: IMPORT | BW67: {bacf2527-1626-4f29-927b-57cfcb501283} | BX67: {c1054d5c-66aa-4b04-a5a4-a17f926b16c1} | CL67: 823 27 11
A68: / | E68: SO 07 | K68: Demolice | AG68: ='SO 07 - Demolice'!J32 -> 0 | AN68: =SUM(AG68,AT68) -> 0 | AQ68: Soupis | AS68: 0 | AT68: =ROUND(SUM(AV68:AW68),2) -> 0 | AU68: ='SO 07 - Demolice'!P88 -> 0 | AV68: ='SO 07 - Demolice'!J35 -> 0 | AW68: ='SO 07 - Demolice'!J36 -> 0 | AX68: ='SO 07 - Demolice'!J37 -> 0 | AY68: ='SO 07 - Demolice'!J38 -> 0 | AZ68: ='SO 07 - Demolice'!F35 -> 0 | BA68: ='SO 07 - Demolice'!F36 -> 0 | BB68: ='SO 07 - Demolice'!F37 -> 0 | BC68: ='SO 07 - Demolice'!F38 -> 0 | BD68: ='SO 07 - Demolice'!F39 -> 0 | BT68: 2 | BV68: IMPORT | BW68: {3ce9ae23-8cc5-421c-978d-3d59b74f5113} | BX68: {d66d242e-d88e-4c7e-b374-23ef312c3e58} | CL68: 823 27 11
A69: / | E69: SO 08 | K69: Úprava sousedního pozemku | AG69: ='SO 08 - Úprava sousedního...'!J32 -> 0 | AN69: =SUM(AG69,AT69) -> 0 | AQ69: Soupis | AS69: 0 | AT69: =ROUND(SUM(AV69:AW69),2) -> 0 | AU69: ='SO 08 - Úprava sousedního...'!P87 -> 0 | AV69: ='SO 08 - Úprava sousedního...'!J35 -> 0 | AW69: ='SO 08 - Úprava sousedního...'!J36 -> 0 | AX69: ='SO 08 - Úprava sousedního...'!J37 -> 0 | AY69: ='SO 08 - Úprava sousedního...'!J38 -> 0 | AZ69: ='SO 08 - Úprava sousedního...'!F35 -> 0 | BA69: ='SO 08 - Úprava sousedního...'!F36 -> 0 | BB69: ='SO 08 - Úprava sousedního...'!F37 -> 0 | BC69: ='SO 08 - Úprava sousedního...'!F38 -> 0 | BD69: ='SO 08 - Úprava sousedního...'!F39 -> 0 | BT69: 2 | BV69: IMPORT | BW69: {282b6369-209b-4b0d-91d7-c47f7bf8a0a7} | BX69: {d66d242e-d88e-4c7e-b374-23ef312c3e58} | CL69: 823 27 11
A70: / | E70: VRN | K70: Vedlejší rozpočtové náklady | AG70: ='VRN - Vedlejší rozpočtové...'!J32 -> 0 | AN70: =SUM(AG70,AT70) -> 0 | AQ70: Soupis | AS70: 0 | AT70: =ROUND(SUM(AV70:AW70),2) -> 0 | AU70: ='VRN - Vedlejší rozpočtové...'!P92 -> 0 | AV70: ='VRN - Vedlejší rozpočtové...'!J35 -> 0 | AW70: ='VRN - Vedlejší rozpočtové...'!J36 -> 0 | AX70: ='VRN - Vedlejší rozpočtové...'!J37 -> 0 | AY70: ='VRN - Vedlejší rozpočtové...'!J38 -> 0 | AZ70: ='VRN - Vedlejší rozpočtové...'!F35 -> 0 | BA70: ='VRN - Vedlejší rozpočtové...'!F36 -> 0 | BB70: ='VRN - Vedlejší rozpočtové...'!F37 -> 0 | BC70: ='VRN - Vedlejší rozpočtové...'!F38 -> 0 | BD70: ='VRN - Vedlejší rozpočtové...'!F39 -> 0 | BT70: 2 | BV70: IMPORT | BW70: {173cdd30-dd52-48ae-9cf0-0b5f9af6c5b7} | BX70: {d66d242e-d88e-4c7e-b374-23ef312c3e58} | CL70: 823 27 11
D71: 02 | J71: 2. ETAPA | AG71: =ROUND(AG72+AG73,2) -> 0 | AN71: =SUM(AG71,AT71) -> 0 | AQ71: STA | AS71: =ROUND(AS72+AS73,2) -> 0 | AT71: =ROUND(SUM(AV71:AW71),2) -> 0 | AU71: =ROUND(AU72+AU73,5) -> 0 | AV71: =ROUND(AZ71*L29,2) -> 0 | AW71: =ROUND(BA71*L30,2) -> 0 | AX71: =ROUND(BB71*L29,2) -> 0 | AY71: =ROUND(BC71*L30,2) -> 0 | AZ71: =ROUND(AZ72+AZ73,2) -> 0 | BA71: =ROUND(BA72+BA73,2) -> 0 | BB71: =ROUND(BB72+BB73,2) -> 0 | BC71: =ROUND(BC72+BC73,2) -> 0 | BD71: =ROUND(BD72+BD73,2) -> 0 | BS71: D | BT71: 1 | BU71: ###NOIMPORT### | BV71: IMPORT | BW71: {261b98b6-1dc7-42f3-8f98-4e972c512860} | BX71: {86f972e1-12fa-4d00-89d2-b2bc43c02817} | CL71: 823 27 11 | CM71: 2
A72: / | E72: SO 01.3 | K72: Dřevěná paluba | AG72: ='SO 01.3 - Dřevěná paluba'!J32 -> 0 | AN72: =SUM(AG72,AT72) -> 0 | AQ72: Soupis | AS72: 0 | AT72: =ROUND(SUM(AV72:AW72),2) -> 0 | AU72: ='SO 01.3 - Dřevěná paluba'!P93 -> 0 | AV72: ='SO 01.3 - Dřevěná paluba'!J35 -> 0 | AW72: ='SO 01.3 - Dřevěná paluba'!J36 -> 0 | AX72: ='SO 01.3 - Dřevěná paluba'!J37 -> 0 | AY72: ='SO 01.3 - Dřevěná paluba'!J38 -> 0 | AZ72: ='SO 01.3 - Dřevěná paluba'!F35 -> 0 | BA72: ='SO 01.3 - Dřevěná paluba'!F36 -> 0 | BB72: ='SO 01.3 - Dřevěná paluba'!F37 -> 0 | BC72: ='SO 01.3 - Dřevěná paluba'!F38 -> 0 | BD72: ='SO 01.3 - Dřevěná paluba'!F39 -> 0 | BT72: 2 | BV72: IMPORT | BW72: {688bc7cf-ac18-44f9-9c84-bfd5ca7781aa} | BX72: {261b98b6-1dc7-42f3-8f98-4e972c512860} | CL72: 823 27 11
E73: SO04 | K73: Drobné občerstvení s hygienickým zázemím a podpora pro rostliny | AG73: =ROUND(AG74+AG75+AG76+AG84,2) -> 0 | AN73: =SUM(AG73,AT73) -> 0 | AQ73: Soupis | AS73: =ROUND(AS74+AS75+AS76+AS84,2) -> 0 | AT73: =ROUND(SUM(AV73:AW73),2) -> 0 | AU73: =ROUND(AU74+AU75+AU76+AU84,5) -> 0 | AV73: =ROUND(AZ73*L29,2) -> 0 | AW73: =ROUND(BA73*L30,2) -> 0 | AX73: =ROUND(BB73*L29,2) -> 0 | AY73: =ROUND(BC73*L30,2) -> 0 | AZ73: =ROUND(AZ74+AZ75+AZ76+AZ84,2) -> 0 | BA73: =ROUND(BA74+BA75+BA76+BA84,2) -> 0 | BB73: =ROUND(BB74+BB75+BB76+BB84,2) -> 0 | BC73: =ROUND(BC74+BC75+BC76+BC84,2) -> 0 | BD73: =ROUND(BD74+BD75+BD76+BD84,2) -> 0 | BS73: D | BT73: 2 | BU73: ###NOIMPORT### | BV73: IMPORT | BW73: {4126a3d0-9597-47c6-8c67-e2aa237bd488} | BX73: {261b98b6-1dc7-42f3-8f98-4e972c512860}
A74: / | F74: 01 | L74: Hlavní stavební úpravy | AG74: ='01 - Hlavní stavební úpravy'!J34 -> 0 | AN74: =SUM(AG74,AT74) -> 0 | AQ74: Soupis | AS74: 0 | AT74: =ROUND(SUM(AV74:AW74),2) -> 0 | AU74: ='01 - Hlavní stavební úpravy'!P117 -> 0 | AV74: ='01 - Hlavní stavební úpravy'!J37 -> 0 | AW74: ='01 - Hlavní stavební úpravy'!J38 -> 0 | AX74: ='01 - Hlavní stavební úpravy'!J39 -> 0 | AY74: ='01 - Hlavní stavební úpravy'!J40 -> 0 | AZ74: ='01 - Hlavní stavební úpravy'!F37 -> 0 | BA74: ='01 - Hlavní stavební úpravy'!F38 -> 0 | BB74: ='01 - Hlavní stavební úpravy'!F39 -> 0 | BC74: ='01 - Hlavní stavební úpravy'!F40 -> 0 | BD74: ='01 - Hlavní stavební úpravy'!F41 -> 0 | BT74: 3 | BV74: IMPORT | BW74: {da703f13-fe48-4552-a000-bfab4024553c} | BX74: {4126a3d0-9597-47c6-8c67-e2aa237bd488}
A75: / | F75: 02 | L75: Volný mobiliář | AG75: ='02 - Volný mobiliář'!J34 -> 0 | AN75: =SUM(AG75,AT75) -> 0 | AQ75: Soupis | AS75: 0 | AT75: =ROUND(SUM(AV75:AW75),2) -> 0 | AU75: ='02 - Volný mobiliář'!P93 -> 0 | AV75: ='02 - Volný mobiliář'!J37 -> 0 | AW75: ='02 - Volný mobiliář'!J38 -> 0 | AX75: ='02 - Volný mobiliář'!J39 -> 0 | AY75: ='02 - Volný mobiliář'!J40 -> 0 | AZ75: ='02 - Volný mobiliář'!F37 -> 0 | BA75: ='02 - Volný mobiliář'!F38 -> 0 | BB75: ='02 - Volný mobiliář'!F39 -> 0 | BC75: ='02 - Volný mobiliář'!F40 -> 0 | BD75: ='02 - Volný mobiliář'!F41 -> 0 | BT75: 3 | BV75: IMPORT | BW75: {ffbd0672-0fd0-4dff-8e57-61282b58b00d} | BX75: {4126a3d0-9597-47c6-8c67-e2aa237bd488}
F76: 03 | L76: Specialisté | AG76: =ROUND(SUM(AG77:AG83),2) -> 0 | AN76: =SUM(AG76,AT76) -> 0 | AQ76: Soupis | AS76: =ROUND(SUM(AS77:AS83),2) -> 0 | AT76: =ROUND(SUM(AV76:AW76),2) -> 0 | AU76: =ROUND(SUM(AU77:AU83),5) -> 0 | AV76: =ROUND(AZ76*L29,2) -> 0 | AW76: =ROUND(BA76*L30,2) -> 0 | AX76: =ROUND(BB76*L29,2) -> 0 | AY76: =ROUND(BC76*L30,2) -> 0 | AZ76: =ROUND(SUM(AZ77:AZ83),2) -> 0 | BA76: =ROUND(SUM(BA77:BA83),2) -> 0 | BB76: =ROUND(SUM(BB77:BB83),2) -> 0 | BC76: =ROUND(SUM(BC77:BC83),2) -> 0 | BD76: =ROUND(SUM(BD77:BD83),2) -> 0 | BS76: D | BT76: 3 | BU76: ###NOIMPORT### | BV76: IMPORT | BW76: {718f73bb-bc0e-47c3-a4d5-17668019527e} | BX76: {4126a3d0-9597-47c6-8c67-e2aa237bd488}
A77: / | G77: 1 | M77: Zdravotní technika | AG77: ='1 - Zdravotní technika'!J34 -> 0 | AN77: =SUM(AG77,AT77) -> 0 | AQ77: Soupis | AS77: 0 | AT77: =ROUND(SUM(AV77:AW77),2) -> 0 | AU77: ='1 - Zdravotní technika'!P94 -> 0 | AV77: ='1 - Zdravotní technika'!J37 -> 0 | AW77: ='1 - Zdravotní technika'!J38 -> 0 | AX77: ='1 - Zdravotní technika'!J39 -> 0 | AY77: ='1 - Zdravotní technika'!J40 -> 0 | AZ77: ='1 - Zdravotní technika'!F37 -> 0 | BA77: ='1 - Zdravotní technika'!F38 -> 0 | BB77: ='1 - Zdravotní technika'!F39 -> 0 | BC77: ='1 - Zdravotní technika'!F40 -> 0 | BD77: ='1 - Zdravotní technika'!F41 -> 0 | BT77: 4 | BV77: IMPORT | BW77: {26d956c1-b0ba-4d2d-93e4-42e22b23d413} | BX77: {718f73bb-bc0e-47c3-a4d5-17668019527e}
A78: / | G78: 2.1 | M78: Vzduchotechnika | AG78: ='2.1 - Vzduchotechnika'!J34 -> 0 | AN78: =SUM(AG78,AT78) -> 0 | AQ78: Soupis | AS78: 0 | AT78: =ROUND(SUM(AV78:AW78),2) -> 0 | AU78: ='2.1 - Vzduchotechnika'!P95 -> 0 | AV78: ='2.1 - Vzduchotechnika'!J37 -> 0 | AW78: ='2.1 - Vzduchotechnika'!J38 -> 0 | AX78: ='2.1 - Vzduchotechnika'!J39 -> 0 | AY78: ='2.1 - Vzduchotechnika'!J40 -> 0 | AZ78: ='2.1 - Vzduchotechnika'!F37 -> 0 | BA78: ='2.1 - Vzduchotechnika'!F38 -> 0 | BB78: ='2.1 - Vzduchotechnika'!F39 -> 0 | BC78: ='2.1 - Vzduchotechnika'!F40 -> 0 | BD78: ='2.1 - Vzduchotechnika'!F41 -> 0 | BT78: 4 | BV78: IMPORT | BW78: {7d0d46f5-e46a-4af1-91cb-085bd356563a} | BX78: {718f73bb-bc0e-47c3-a4d5-17668019527e}
A79: / | G79: 2.2 | M79: Vytápění a chlazení | AG79: ='2.2 - Vytápění a chlazení'!J34 -> 0 | AN79: =SUM(AG79,AT79) -> 0 | AQ79: Soupis | AS79: 0 | AT79: =ROUND(SUM(AV79:AW79),2) -> 0 | AU79: ='2.2 - Vytápění a chlazení'!P92 -> 0 | AV79: ='2.2 - Vytápění a chlazení'!J37 -> 0 | AW79: ='2.2 - Vytápění a chlazení'!J38 -> 0 | AX79: ='2.2 - Vytápění a chlazení'!J39 -> 0 | AY79: ='2.2 - Vytápění a chlazení'!J40 -> 0 | AZ79: ='2.2 - Vytápění a chlazení'!F37 -> 0 | BA79: ='2.2 - Vytápění a chlazení'!F38 -> 0 | BB79: ='2.2 - Vytápění a chlazení'!F39 -> 0 | BC79: ='2.2 - Vytápění a chlazení'!F40 -> 0 | BD79: ='2.2 - Vytápění a chlazení'!F41 -> 0 | BT79: 4 | BV79: IMPORT | BW79: {c1c05f17-439f-4d3e-b4fd-bb73bdbc5e85} | BX79: {718f73bb-bc0e-47c3-a4d5-17668019527e}
A80: / | G80: 3 | M80: Elektroinstalace | AG80: ='3 - Elektroinstalace'!J34 -> 0 | AN80: =SUM(AG80,AT80) -> 0 | AQ80: Soupis | AS80: 0 | AT80: =ROUND(SUM(AV80:AW80),2) -> 0 | AU80: ='3 - Elektroinstalace'!P94 -> 0 | AV80: ='3 - Elektroinstalace'!J37 -> 0 | AW80: ='3 - Elektroinstalace'!J38 -> 0 | AX80: ='3 - Elektroinstalace'!J39 -> 0 | AY80: ='3 - Elektroinstalace'!J40 -> 0 | AZ80: ='3 - Elektroinstalace'!F37 -> 0 | BA80: ='3 - Elektroinstalace'!F38 -> 0 | BB80: ='3 - Elektroinstalace'!F39 -> 0 | BC80: ='3 - Elektroinstalace'!F40 -> 0 | BD80: ='3 - Elektroinstalace'!F41 -> 0 | BT80: 4 | BV80: IMPORT | BW80: {d3029c45-bf01-45b7-ab11-574a4a0d2673} | BX80: {718f73bb-bc0e-47c3-a4d5-17668019527e}
A81: / | G81: 4 | M81: Gastro | AG81: ='4 - Gastro'!J34 -> 0 | AN81: =SUM(AG81,AT81) -> 0 | AQ81: Soupis | AS81: 0 | AT81: =ROUND(SUM(AV81:AW81),2) -> 0 | AU81: ='4 - Gastro'!P96 -> 0 | AV81: ='4 - Gastro'!J37 -> 0 | AW81: ='4 - Gastro'!J38 -> 0 | AX81: ='4 - Gastro'!J39 -> 0 | AY81: ='4 - Gastro'!J40 -> 0 | AZ81: ='4 - Gastro'!F37 -> 0 | BA81: ='4 - Gastro'!F38 -> 0 | BB81: ='4 - Gastro'!F39 -> 0 | BC81: ='4 - Gastro'!F40 -> 0 | BD81: ='4 - Gastro'!F41 -> 0 | BT81: 4 | BV81: IMPORT | BW81: {e9d09fc6-84a0-48fb-ad40-355b7190806e} | BX81: {718f73bb-bc0e-47c3-a4d5-17668019527e}
A82: / | G82: 5.1 | M82: Systém strukturované kabeláže | AG82: ='5.1 - Systém strukturovan...'!J34 -> 0 | AN82: =SUM(AG82,AT82) -> 0 | AQ82: Soupis | AS82: 0 | AT82: =ROUND(SUM(AV82:AW82),2) -> 0 | AU82: ='5.1 - Systém strukturovan...'!P95 -> 0 | AV82: ='5.1 - Systém strukturovan...'!J37 -> 0 | AW82: ='5.1 - Systém strukturovan...'!J38 -> 0 | AX82: ='5.1 - Systém strukturovan...'!J39 -> 0 | AY82: ='5.1 - Systém strukturovan...'!J40 -> 0 | AZ82: ='5.1 - Systém strukturovan...'!F37 -> 0 | BA82: ='5.1 - Systém strukturovan...'!F38 -> 0 | BB82: ='5.1 - Systém strukturovan...'!F39 -> 0 | BC82: ='5.1 - Systém strukturovan...'!F40 -> 0 | BD82: ='5.1 - Systém strukturovan...'!F41 -> 0 | BT82: 4 | BV82: IMPORT | BW82: {6020518a-2bdf-491d-b1e4-ed8bf63960d1} | BX82: {718f73bb-bc0e-47c3-a4d5-17668019527e}
A83: / | G83: 5.2 | M83: Poplachový zabezpečovací systém | AG83: ='5.2 - Poplachový zabezpeč...'!J34 -> 0 | AN83: =SUM(AG83,AT83) -> 0 | AQ83: Soupis | AS83: 0 | AT83: =ROUND(SUM(AV83:AW83),2) -> 0 | AU83: ='5.2 - Poplachový zabezpeč...'!P95 -> 0 | AV83: ='5.2 - Poplachový zabezpeč...'!J37 -> 0 | AW83: ='5.2 - Poplachový zabezpeč...'!J38 -> 0 | AX83: ='5.2 - Poplachový zabezpeč...'!J39 -> 0 | AY83: ='5.2 - Poplachový zabezpeč...'!J40 -> 0 | AZ83: ='5.2 - Poplachový zabezpeč...'!F37 -> 0 | BA83: ='5.2 - Poplachový zabezpeč...'!F38 -> 0 | BB83: ='5.2 - Poplachový zabezpeč...'!F39 -> 0 | BC83: ='5.2 - Poplachový zabezpeč...'!F40 -> 0 | BD83: ='5.2 - Poplachový zabezpeč...'!F41 -> 0 | BT83: 4 | BV83: IMPORT | BW83: {f4b81e51-e3b6-4269-b311-82db6751be0d} | BX83: {718f73bb-bc0e-47c3-a4d5-17668019527e}
A84: / | F84: VRN | L84: Vedlejší rozpočtové náklady | AG84: ='VRN - Vedlejší rozpočtové..._01'!J34 -> 0 | AN84: =SUM(AG84,AT84) -> 0 | AQ84: Soupis | AS84: 0 | AT84: =ROUND(SUM(AV84:AW84),2) -> 0 | AU84: ='VRN - Vedlejší rozpočtové..._01'!P92 -> 0 | AV84: ='VRN - Vedlejší rozpočtové..._01'!J37 -> 0 | AW84: ='VRN - Vedlejší rozpočtové..._01'!J38 -> 0 | AX84: ='VRN - Vedlejší rozpočtové..._01'!J39 -> 0 | AY84: ='VRN - Vedlejší rozpočtové..._01'!J40 -> 0 | AZ84: ='VRN - Vedlejší rozpočtové..._01'!F37 -> 0 | BA84: ='VRN - Vedlejší rozpočtové..._01'!F38 -> 0 | BB84: ='VRN - Vedlejší rozpočtové..._01'!F39 -> 0 | BC84: ='VRN - Vedlejší rozpočtové..._01'!F40 -> 0 | BD84: ='VRN - Vedlejší rozpočtové..._01'!F41 -> 0 | BT84: 3 | BV84: IMPORT | BW84: {80fa8777-fa36-43b4-82c7-952de74e59f3} | BX84: {4126a3d0-9597-47c6-8c67-e2aa237bd488}

Sheet SO 01 - Komunikace a zpev...
AT2: {32f4593d-0619-4518-bead-55c0805f1bf8}
AT3: 2
D4: KRYCÍ LIST SOUPISU PRACÍ | M4: v --- níže se nacházejí doplnkové a pomocné údaje k sestavám --- v | AT4: False
D6: Stavba:
E7: ='Rekapitulace stavby'!K6 -> Lesopark Na Kolečku-DPS - revize
D8: Objekt:
E9: 01 - 1. ETAPA
D10: Soupis:
E11: SO 01 - Komunikace a zpevněné plochy
D13: KSO: | I13: CC-CZ:
D14: Místo: | F14: Roudnice nad Labem | I14: Datum: | J14: ='Rekapitulace stavby'!AN8 -> 22. 5. 2024
D16: Zadavatel: | I16: IČ:
E17: Město Roudnice nad Labem | I17: DIČ:
D19: Účastník: | I19: IČ: | J19: ='Rekapitulace stavby'!AN13 -> Vyplň údaj
E20: ='Rekapitulace stavby'!E14 -> Vyplň údaj | I20: DIČ: | J20: ='Rekapitulace stavby'!AN14 -> Vyplň údaj
D22: Projektant: | I22: IČ:
E23: MKdoprava - Ing. Miroslav Kalina | I23: DIČ:
D25: Zpracovatel: | I25: IČ: | J25: 07206062
E26: Soloreal s.r.o. | I26: DIČ:
D28: Poznámka:
D32: Cena bez DPH | J32: =ROUND(J97, 2) -> 0
F34: Základ daně | I34: Sazba daně | J34: Výše daně
D35: DPH | E35: základní | F35: =ROUND((SUM(BE97:BE638)), 2) -> 0 | I35: 0.21 | J35: =ROUND(((SUM(BE97:BE638))*I35), 2) -> 0
E36: snížená | F36: =ROUND((SUM(BF97:BF638)), 2) -> 0 | I36: 0.12 | J36: =ROUND(((SUM(BF97:BF638))*I36), 2) -> 0
E37: zákl. přenesená | F37: =ROUND((SUM(BG97:BG638)), 2) -> 0 | I37: 0.21 | J37: =0 -> 0
E38: sníž. přenesená | F38: =ROUND((SUM(BH97:BH638)), 2) -> 0 | I38: 0.12 | J38: =0 -> 0
E39: nulová | F39: =ROUND((SUM(BI97:BI638)), 2) -> 0 | I39: 0 | J39: =0 -> 0
D41: Cena s DPH | G41: v | H41: CZK | J41: =SUM(J32:J39) -> 0
C47: REKAPITULACE ČLENĚNÍ SOUPISU PRACÍ
C49: Stavba:
E50: =E7 -> Lesopark Na Kolečku-DPS - revize
C51: Objekt:
E52: 01 - 1. ETAPA
C53: Soupis:
E54: =E11 -> SO 01 - Komunikace a zpevněné plochy
C56: Místo: | F56: =F14 -> Roudnice nad Labem | I56: Datum: | J56: =IF(J14="","",J14) -> 22. 5. 2024
C58: Zadavatel: | F58: =E17 -> Město Roudnice nad Labem | I58: Projektant: | J58: =E23 -> MKdoprava - Ing. Miroslav Kalina
C59: Účastník: | F59: =IF(E20="","",E20) -> Vyplň údaj | I59: Zpracovatel: | J59: =E26 -> Soloreal s.r.o.
C61: Kód dílu - Popis | J61: Cena celkem [CZK]
C63: Náklady stavby celkem | J63: =J97 -> 0 | AU63: -1
D64: HSV - Práce a dodávky HSV | J64: =J98 -> 0
D65: 1 - Zemní práce | J65: =J99 -> 0
D66: 2 - Zakládání | J66: =J208 -> 0
D67: 5 - Komunikace pozemní | J67: =J231 -> 0
D68: 9 - Ostatní konstrukce a práce, bourání | J68: =J451 -> 0
D69: 998 - Přesun hmot | J69: =J593 -> 0
D70: M - Práce a dodávky M | J70: =J598 -> 0
D71: 46-M - Zemní práce při extr.mont.pracích | J71: =J599 -> 0
D72: VRN - Vedlejší rozpočtové náklady | J72: =J610 -> 0
D73: VRN1 - Průzkumné, geodetické a projektové práce | J73: =J611 -> 0
D74: VRN3 - Zařízení staveniště | J74: =J620 -> 0
D75: VRN4 - Inženýrská činnost | J75: =J629 -> 0
C82: SOUPIS PRACÍ
C84: Stavba:
E85: =E7 -> Lesopark Na Kolečku-DPS - revize
C86: Objekt:
E87: 01 - 1. ETAPA
C88: Soupis:
E89: =E11 -> SO 01 - Komunikace a zpevněné plochy
C91: Místo: | F91: =F14 -> Roudnice nad Labem | I91: Datum: | J91: =IF(J14="","",J14) -> 22. 5. 2024
C93: Zadavatel: | F93: =E17 -> Město Roudnice nad Labem | I93: Projektant: | J93: =E23 -> MKdoprava - Ing. Miroslav Kalina
C94: Účastník: | F94: =IF(E20="","",E20) -> Vyplň údaj | I94: Zpracovatel: | J94: =E26 -> Soloreal s.r.o.
C96: PČ | D96: Typ | E96: Kód | F96: Popis | G96: MJ | H96: Množství | I96: J.cena [CZK] | J96: Cena celkem [CZK] | K96: Cenová soustava | N96: DPH | O96: J. Nh [h] | P96: Nh celkem [h] | Q96: J. hmotnost [t] | R96: Hmotnost celkem [t] | S96: J. suť [t] | T96: Suť Celkem [t]
C97: Náklady soupisu celkem | J97: =BK97 -> 0 | P97: =P98+P598+P610 -> 0 | R97: =R98+R598+R610 -> 1492.7148 | T97: =T98+T598+T610 -> 0 | AT97: D | AU97: -1 | BK97: =BK98+BK598+BK610 -> 0
D98: D | E98: HSV | F98: Práce a dodávky HSV | J98: =BK98 -> 0 | P98: =P99+P208+P231+P451+P593 -> 0 | R98: =R99+R208+R231+R451+R593 -> 1492.6988 | T98: =T99+T208+T231+T451+T593 -> 0 | AR98: 1 | AT98: D | AU98: 0 | AY98: ROZPOCET | BK98: =BK99+BK208+BK231+BK451+BK593 -> 0
D99: D | E99: 1 | F99: Zemní práce | J99: =BK99 -> 0 | P99: =SUM(P100:P207) -> 0 | R99: =SUM(R100:R207) -> 365.43003 | T99: =SUM(T100:T207) -> 0 | AR99: 1 | AT99: D | AU99: 1 | AY99: ROZPOCET | BK99: =SUM(BK100:BK207) -> 0
C100: 1 | D100: K | E100: 119002121 | F100: Přechodová lávka délky do 2 m včetně zábradlí pro zabezpečení výkopu zřízení | G100: kus | H100: 1 | J100: =ROUND(I100*H100,2) -> 0 | N100: základní | P100: =O100*H100 -> 0 | Q100: 0.00065 | R100: =Q100*H100 -> 0.00065 | S100: 0 | T100: =S100*H100 -> 0 | AR100: 4 | AT100: K | AU100: 2 | AY100: ROZPOCET | BE100: =IF(N100="základní",J100,0) -> 0 | BF100: =IF(N100="snížená",J100,0) -> 0 | BG100: =IF(N100="zákl. přenesená",J100,0) -> 0 | BH100: =IF(N100="sníž. přenesená",J100,0) -> 0 | BI100: =IF(N100="nulová",J100,0) -> 0 | BJ100: 1 | BK100: =ROUND(I100*H100,2) -> 0 | BL100: 4 | BM100: 1130916152
D101: PP | F101: Pomocné konstrukce při zabezpečení výkopu vodorovné pochozí přechodová lávka délky do 2 m včetně zábradlí zřízení | AT101: PP | AU101: 2
D102: VV | F102: "Ostatní" | AT102: VV | AU102: 2 | AV102: 1 | AW102: True | AX102: 0 | AY102: ROZPOCET
D103: VV | F103: "provizorní přechodová lávka" | AT103: VV | AU103: 2 | AV103: 1 | AW103: True | AX103: 0 | AY103: ROZPOCET
D104: VV | F104: "Překop cyklostezky na jihu" 1 | H104: 1 | AT104: VV | AU104: 2 | AV104: 2 | AW104: True | AX104: 0 | AY104: ROZPOCET
D105: VV | F105: Součet | H105: 1 | AT105: VV | AU105: 2 | AV105: 4 | AW105: True | AX105: 1 | AY105: ROZPOCET
C106: 2 | D106: K | E106: 119002122 | F106: Přechodová lávka délky do 2 m včetně zábradlí pro zabezpečení výkopu odstranění | G106: kus | H106: 1 | J106: =ROUND(I106*H106,2) -> 0 | N106: základní | P106: =O106*H106 -> 0 | Q106: 0 | R106: =Q106*H106 -> 0 | S106: 0 | T106: =S106*H106 -> 0 | AR106: 4 | AT106: K | AU106: 2 | AY106: ROZPOCET | BE106: =IF(N106="základní",J106,0) -> 0 | BF106: =IF(N106="snížená",J106,0) -> 0 | BG106: =IF(N106="zákl. přenesená",J106,0) -> 0 | BH106: =IF(N106="sníž. přenesená",J106,0) -> 0 | BI106: =IF(N106="nulová",J106,0) -> 0 | BJ106: 1 | BK106: =ROUND(I106*H106,2) -> 0 | BL106: 4 | BM106: 479400104
D107: PP | F107: Pomocné konstrukce při zabezpečení výkopu vodorovné pochozí přechodová lávka délky do 2 m včetně zábradlí odstranění | AT107: PP | AU107: 2
C108: 3 | D108: K | E108: 119003215 | F108: Trubková mobilní plotová zábrana výšky do 1,5 m pro zabezpečení výkopu zřízení | G108: m | H108: 6 | J108: =ROUND(I108*H108,2) -> 0 | N108: základní | P108: =O108*H108 -> 0 | Q108: 0.00014 | R108: =Q108*H108 -> 0.00084 | S108: 0 | T108: =S108*H108 -> 0 | AR108: 4 | AT108: K | AU108: 2 | AY108: ROZPOCET | BE108: =IF(N108="základní",J108,0) -> 0 | BF108: =IF(N108="snížená",J108,0) -> 0 | BG108: =IF(N108="zákl. přenesená",J108,0) -> 0 | BH108: =IF(N108="sníž. přenesená",J108,0) -> 0 | BI108: =IF(N108="nulová",J108,0) -> 0 | BJ108: 1 | BK108: =ROUND(I108*H108,2) -> 0 | BL108: 4 | BM108: 89558377
D109: PP | F109: Pomocné konstrukce při zabezpečení výkopu svislé ocelové mobilní oplocení, výšky do 1,5 m panely ze svařovaných trubek zřízení | AT109: PP | AU109: 2
D110: VV | F110: "Ostatní" | AT110: VV | AU110: 2 | AV110: 1 | AW110: True | AX110: 0 | AY110: ROZPOCET
D111: VV | F111: "provizorní mobilní oplocení" | AT111: VV | AU111: 2 | AV111: 1 | AW111: True | AX111: 0 | AY111: ROZPOCET
D112: VV | F112: "Překop cyklostezky na jihu" 6 | H112: 6 | AT112: VV | AU112: 2 | AV112: 2 | AW112: True | AX112: 0 | AY112: ROZPOCET
D113: VV | F113: Součet | H113: 6 | AT113: VV | AU113: 2 | AV113: 4 | AW113: True | AX113: 1 | AY113: ROZPOCET
C114: 4 | D114: K | E114: 119003216 | F114: Trubková mobilní plotová zábrana výšky do 1,5 m pro zabezpečení výkopu odstranění | G114: m | H114: 6 | J114: =ROUND(I114*H114,2) -> 0 | N114: základní | P114: =O114*H114 -> 0 | Q114: 0 | R114: =Q114*H114 -> 0 | S114: 0 | T114: =S114*H114 -> 0 | AR114: 4 | AT114: K | AU114: 2 | AY114: ROZPOCET | BE114: =IF(N114="základní",J114,0) -> 0 | BF114: =IF(N114="snížená",J114,0) -> 0 | BG114: =IF(N114="zákl. přenesená",J114,0) -> 0 | BH114: =IF(N114="sníž. přenesená",J114,0) -> 0 | BI114: =IF(N114="nulová",J114,0) -> 0 | BJ114: 1 | BK114: =ROUND(I114*H114,2) -> 0 | BL114: 4 | BM114: -996489829
D115: PP | F115: Pomocné konstrukce při zabezpečení výkopu svislé ocelové mobilní oplocení, výšky do 1,5 m panely ze svařovaných trubek odstranění | AT115: PP | AU115: 2
C116: 5 | D116: K | E116: 121151126 | F116: Sejmutí ornice plochy přes 500 m2 tl vrstvy přes 300 do 400 mm strojně | G116: m2 | H116: 8016.334 | J116: =ROUND(I116*H116,2) -> 0 | N116: základní | P116: =O116*H116 -> 0 | Q116: 0 | R116: =Q116*H116 -> 0 | S116: 0 | T116: =S116*H116 -> 0 | AR116: 4 | AT116: K | AU116: 2 | AY116: ROZPOCET | BE116: =IF(N116="základní",J116,0) -> 0 | BF116: =IF(N116="snížená",J116,0) -> 0 | BG116: =IF(N116="zákl. přenesená",J116,0) -> 0 | BH116: =IF(N116="sníž. přenesená",J116,0) -> 0 | BI116: =IF(N116="nulová",J116,0) -> 0 | BJ116: 1 | BK116: =ROUND(I116*H116,2) -> 0 | BL116: 4 | BM116: 879235944
D117: PP | F117: Sejmutí ornice strojně při souvislé ploše přes 500 m2, tl. vrstvy přes 300 do 400 mm | AT117: PP | AU117: 2
D118: VV | F118: "Zemní práce + demolice + ostatní" | AT118: VV | AU118: 2 | AV118: 1 | AW118: True | AX118: 0 | AY118: ROZPOCET
D119: VV | F119: "Skrývka ornice v tl. min. 0,3 m - kubatury z ploch a příčných řezů, přepočet na m2 (m3/0,3)" | AT119: VV | AU119: 2 | AV119: 1 | AW119: True | AX119: 0 | AY119: ROZPOCET
D120: VV | F120: "Místní komunikace ZV" 141/0,3 | H120: 470 | AT120: VV | AU120: 2 | AV120: 2 | AW120: True | AX120: 0 | AY120: ROZPOCET
D121: VV | F121: "Místní komunikace SJ" 270/0,3 | H121: 900 | AT121: VV | AU121: 2 | AV121: 2 | AW121: True | AX121: 0 | AY121: ROZPOCET
D122: VV | F122: "Stezka A" 590/0,3 | H122: 1966.667 | AT122: VV | AU122: 2 | AV122: 2 | AW122: True | AX122: 0 | AY122: ROZPOCET
D123: VV | F123: "Stezka A - manipulační plocha (m2)" 83 | H123: 83 | AT123: VV | AU123: 2 | AV123: 2 | AW123: True | AX123: 0 | AY123: ROZPOCET
D124: VV | F124: "Stezka B" 417/0,3 | H124: 1390 | AT124: VV | AU124: 2 | AV124: 2 | AW124: True | AX124: 0 | AY124: ROZPOCET
D125: VV | F125: "Hřiště - štěrkový trávník" 970 | H125: 970 | AT125: VV | AU125: 2 | AV125: 2 | AW125: True | AX125: 0 | AY125: ROZPOCET
D126: VV | F126: "Stezka C + hřiště" (175+302)/0,3 | H126: 1590 | AT126: VV | AU126: 2 | AV126: 2 | AW126: True | AX126: 0 | AY126: ROZPOCET
D127: VV | F127: "Stezka D" 87/0,3 | H127: 290 | AT127: VV | AU127: 2 | AV127: 2 | AW127: True | AX127: 0 | AY127: ROZPOCET
D128: VV | F128: "Stezka E" 54/0,3 | H128: 180 | AT128: VV | AU128: 2 | AV128: 2 | AW128: True | AX128: 0 | AY128: ROZPOCET
D129: VV | F129: "Stezka F" 9/0,3 | H129: 30 | AT129: VV | AU129: 2 | AV129: 2 | AW129: True | AX129: 0 | AY129: ROZPOCET
D130: VV | F130: "Spojka 1+2+3+4" (16+12+6+10)/0,3 | H130: 146.667 | AT130: VV | AU130: 2 | AV130: 2 | AW130: True | AX130: 0 | AY130: ROZPOCET
D131: VV | F131: Součet | H131: 8016.334 | AT131: VV | AU131: 2 | AV131: 4 | AW131: True | AX131: 1 | AY131: ROZPOCET
C132: 6 | D132: K | E132: 122252205 | F132: Odkopávky a prokopávky nezapažené pro silnice a dálnice v hornině třídy těžitelnosti I objem do 1000 m3 strojně | G132: m3 | H132: 770 | J132: =ROUND(I132*H132,2) -> 0 | N132: základní | P132: =O132*H132 -> 0 | Q132: 0 | R132: =Q132*H132 -> 0 | S132: 0 | T132: =S132*H132 -> 0 | AR132: 4 | AT132: K | AU132: 2 | AY132: ROZPOCET | BE132: =IF(N132="základní",J132,0) -> 0 | BF132: =IF(N132="snížená",J132,0) -> 0 | BG132: =IF(N132="zákl. přenesená",J132,0) -> 0 | BH132: =IF(N132="sníž. přenesená",J132,0) -> 0 | BI132: =IF(N132="nulová",J132,0) -> 0 | BJ132: 1 | BK132: =ROUND(I132*H132,2) -> 0 | BL132: 4 | BM132: 1351146370
D133: PP | F133: Odkopávky a prokopávky nezapažené pro silnice a dálnice strojně v hornině třídy těžitelnosti I přes 500 do 1 000 m3 | AT133: PP | AU133: 2
...

Sheet SO 01.2 - Schody a rampa
AT2: {adde1d4f-5e9d-4ad0-95a8-d7566620517a}
AT3: 2
D4: KRYCÍ LIST SOUPISU PRACÍ | M4: v --- níže se nacházejí doplnkové a pomocné údaje k sestavám --- v | AT4: False
D6: Stavba:
E7: ='Rekapitulace stavby'!K6 -> Lesopark Na Kolečku-DPS - revize
D8: Objekt:
E9: 01 - 1. ETAPA
D10: Soupis:
E11: SO 01.2 - Schody a rampa
D13: KSO: | F13: 823 27 11 | I13: CC-CZ:
D14: Místo: | F14: Roudnice nad Labem | I14: Datum: | J14: ='Rekapitulace stavby'!AN8 -> 22. 5. 2024
D16: Zadavatel: | I16: IČ:
I17: DIČ:
D19: Účastník: | I19: IČ: | J19: ='Rekapitulace stavby'!AN13 -> Vyplň údaj
E20: ='Rekapitulace stavby'!E14 -> Vyplň údaj | I20: DIČ: | J20: ='Rekapitulace stavby'!AN14 -> Vyplň údaj
D22: Projektant: | I22: IČ:
E23: Land05 s.r.o. | I23: DIČ:
D25: Zpracovatel: | I25: IČ: | J25: 07206062
E26: Soloreal s.r.o. | I26: DIČ:
D28: Poznámka:
D32: Cena bez DPH | J32: =ROUND(J94, 2) -> 0
F34: Základ daně | I34: Sazba daně | J34: Výše daně
D35: DPH | E35: základní | F35: =ROUND((SUM(BE94:BE248)), 2) -> 0 | I35: 0.21 | J35: =ROUND(((SUM(BE94:BE248))*I35), 2) -> 0
E36: snížená | F36: =ROUND((SUM(BF94:BF248)), 2) -> 0 | I36: 0.12 | J36: =ROUND(((SUM(BF94:BF248))*I36), 2) -> 0
E37: zákl. přenesená | F37: =ROUND((SUM(BG94:BG248)), 2) -> 0 | I37: 0.21 | J37: =0 -> 0
E38: sníž. přenesená | F38: =ROUND((SUM(BH94:BH248)), 2) -> 0 | I38: 0.12 | J38: =0 -> 0
E39: nulová | F39: =ROUND((SUM(BI94:BI248)), 2) -> 0 | I39: 0 | J39: =0 -> 0
D41: Cena s DPH | G41: v | H41: CZK | J41: =SUM(J32:J39) -> 0
C47: REKAPITULACE ČLENĚNÍ SOUPISU PRACÍ
C49: Stavba:
E50: =E7 -> Lesopark Na Kolečku-DPS - revize
C51: Objekt:
E52: 01 - 1. ETAPA
C53: Soupis:
E54: =E11 -> SO 01.2 - Schody a rampa
C56: Místo: | F56: =F14 -> Roudnice nad Labem | I56: Datum: | J56: =IF(J14="","",J14) -> 22. 5. 2024
C58: Zadavatel: | F58: =E17 | I58: Projektant: | J58: =E23 -> Land05 s.r.o.
C59: Účastník: | F59: =IF(E20="","",E20) -> Vyplň údaj | I59: Zpracovatel: | J59: =E26 -> Soloreal s.r.o.
C61: Kód dílu - Popis | J61: Cena celkem [CZK]
C63: Náklady stavby celkem | J63: =J94 -> 0 | AU63: -1
D64: HSV - Práce a dodávky HSV | J64: =J95 -> 0
D65: 1 - Zemní práce | J65: =J96 -> 0
D66: 2 - Zakládání | J66: =J115 -> 0
D67: 4 - Vodorovné konstrukce | J67: =J163 -> 0
D68: 9 - Ostatní konstrukce a práce, bourání | J68: =J202 -> 0
D69: 998 - Přesun hmot | J69: =J209 -> 0
D70: PSV - Práce a dodávky PSV | J70: =J213 -> 0
D71: 741 - Elektroinstalace - silnoproud | J71: =J214 -> 0
D72: 767 - Konstrukce zámečnické | J72: =J219 -> 0
C79: SOUPIS PRACÍ
C81: Stavba:
E82: =E7 -> Lesopark Na Kolečku-DPS - revize
C83: Objekt:
E84: 01 - 1. ETAPA
C85: Soupis:
E86: =E11 -> SO 01.2 - Schody a rampa
C88: Místo: | F88: =F14 -> Roudnice nad Labem | I88: Datum: | J88: =IF(J14="","",J14) -> 22. 5. 2024
C90: Zadavatel: | F90: =E17 | I90: Projektant: | J90: =E23 -> Land05 s.r.o.
C91: Účastník: | F91: =IF(E20="","",E20) -> Vyplň údaj | I91: Zpracovatel: | J91: =E26 -> Soloreal s.r.o.
C93: PČ | D93: Typ | E93: Kód | F93: Popis | G93: MJ | H93: Množství | I93: J.cena [CZK] | J93: Cena celkem [CZK] | K93: Cenová soustava | N93: DPH | O93: J. Nh [h] | P93: Nh celkem [h] | Q93: J. hmotnost [t] | R93: Hmotnost celkem [t] | S93: J. suť [t] | T93: Suť Celkem [t]
C94: Náklady soupisu celkem | J94: =BK94 -> 0 | P94: =P95+P213 -> 0 | R94: =R95+R213 -> 19.193109 | T94: =T95+T213 -> 0.00546 | AT94: D | AU94: -1 | BK94: =BK95+BK213 -> 0
D95: D | E95: HSV | F95: Práce a dodávky HSV | J95: =BK95 -> 0 | P95: =P96+P115+P163+P202+P209 -> 0 | R95: =R96+R115+R163+R202+R209 -> 19.152351 | T95: =T96+T115+T163+T202+T209 -> 0.00546 | AR95: 1 | AT95: D | AU95: 0 | AY95: ROZPOCET | BK95: =BK96+BK115+BK163+BK202+BK209 -> 0
D96: D | E96: 1 | F96: Zemní práce | J96: =BK96 -> 0 | P96: =SUM(P97:P114) -> 0 | R96: =SUM(R97:R114) -> 0 | T96: =SUM(T97:T114) -> 0 | AR96: 1 | AT96: D | AU96: 1 | AY96: ROZPOCET | BK96: =SUM(BK97:BK114) -> 0
C97: 1 | D97: K | E97: 121151105 | F97: Sejmutí ornice plochy do 100 m2 tl vrstvy přes 250 do 300 mm strojně | G97: m2 | H97: 18 | J97: =ROUND(I97*H97,2) -> 0 | N97: základní | P97: =O97*H97 -> 0 | Q97: 0 | R97: =Q97*H97 -> 0 | S97: 0 | T97: =S97*H97 -> 0 | AR97: 4 | AT97: K | AU97: 2 | AY97: ROZPOCET | BE97: =IF(N97="základní",J97,0) -> 0 | BF97: =IF(N97="snížená",J97,0) -> 0 | BG97: =IF(N97="zákl. přenesená",J97,0) -> 0 | BH97: =IF(N97="sníž. přenesená",J97,0) -> 0 | BI97: =IF(N97="nulová",J97,0) -> 0 | BJ97: 1 | BK97: =ROUND(I97*H97,2) -> 0 | BL97: 4 | BM97: 1316507602
D98: PP | F98: Sejmutí ornice strojně při souvislé ploše do 100 m2, tl. vrstvy přes 250 do 300 mm | AT98: PP | AU98: 2
D99: P | F99: Poznámka k položce:_x000D_ Přesný a bližší popis viz dokumentace stavby, SO 01.2 Schody a rampa | AT99: P | AU99: 2
D100: VV | F100: 18,0 | H100: 18 | AT100: VV | AU100: 2 | AV100: 2 | AW100: True | AX100: 1 | AY100: ROZPOCET
C101: 2 | D101: K | E101: 167151111 | F101: Nakládání výkopku z hornin třídy těžitelnosti I skupiny 1 až 3 přes 100 m3 | G101: m3 | H101: 5.4 | J101: =ROUND(I101*H101,2) -> 0 | N101: základní | P101: =O101*H101 -> 0 | Q101: 0 | R101: =Q101*H101 -> 0 | S101: 0 | T101: =S101*H101 -> 0 | AR101: 4 | AT101: K | AU101: 2 | AY101: ROZPOCET | BE101: =IF(N101="základní",J101,0) -> 0 | BF101: =IF(N101="snížená",J101,0) -> 0 | BG101: =IF(N101="zákl. přenesená",J101,0) -> 0 | BH101: =IF(N101="sníž. přenesená",J101,0) -> 0 | BI101: =IF(N101="nulová",J101,0) -> 0 | BJ101: 1 | BK101: =ROUND(I101*H101,2) -> 0 | BL101: 4 | BM101: 758659817
D102: PP | F102: Nakládání, skládání a překládání neulehlého výkopku nebo sypaniny strojně nakládání, množství přes 100 m3, z hornin třídy těžitelnosti I, skupiny 1 až 3 | AT102: PP | AU102: 2
D103: P | F103: Poznámka k položce:_x000D_ Bližší a přesné údaje viz PD D3a, D3a_01_TZ, D3a_02_sit, D3a_03_04_PV_KS_uložení potrubí, D3a_03_PV PP, D3a_04_PK PP_ulo | AT103: P | AU103: 2
D104: VV | F104: " ornice" 5,4 | H104: 5.4 | AT104: VV | AU104: 2 | AV104: 2 | AW104: True | AX104: 1 | AY104: ROZPOCET
C105: 3 | D105: K | E105: 162351103 | F105: Vodorovné přemístění přes 50 do 500 m výkopku/sypaniny z horniny třídy těžitelnosti I skupiny 1 až 3 | G105: m3 | H105: 5.4 | J105: =ROUND(I105*H105,2) -> 0 | N105: základní | P105: =O105*H105 -> 0 | Q105: 0 | R105: =Q105*H105 -> 0 | S105: 0 | T105: =S105*H105 -> 0 | AR105: 4 | AT105: K | AU105: 2 | AY105: ROZPOCET | BE105: =IF(N105="základní",J105,0) -> 0 | BF105: =IF(N105="snížená",J105,0) -> 0 | BG105: =IF(N105="zákl. přenesená",J105,0) -> 0 | BH105: =IF(N105="sníž. přenesená",J105,0) -> 0 | BI105: =IF(N105="nulová",J105,0) -> 0 | BJ105: 1 | BK105: =ROUND(I105*H105,2) -> 0 | BL105: 4 | BM105: -1665307443
D106: PP | F106: Vodorovné přemístění výkopku nebo sypaniny po suchu na obvyklém dopravním prostředku, bez naložení výkopku, avšak se složením bez rozhrnutí z horniny třídy těžitelnosti I skupiny 1 až 3 na vzdálenost přes 50 do 500 m | AT106: PP | AU106: 2
D107: P | F107: Poznámka k položce:_x000D_ Bližší a přesné údaje viz PD D3a, D3a_01_TZ, D3a_02_sit, D3a_03_04_PV_KS_uložení potrubí, D3a_03_PV PP, D3a_04_PK PP_ulo | AT107: P | AU107: 2
D108: VV | F108: " ornice" 5,4 | H108: 5.4 | AT108: VV | AU108: 2 | AV108: 2 | AW108: True | AX108: 1 | AY108: ROZPOCET
C109: 4 | D109: K | E109: 122251101 | F109: Odkopávky a prokopávky nezapažené v hornině třídy těžitelnosti I skupiny 3 objem do 20 m3 strojně | G109: m3 | H109: 13.14 | J109: =ROUND(I109*H109,2) -> 0 | N109: základní | P109: =O109*H109 -> 0 | Q109: 0 | R109: =Q109*H109 -> 0 | S109: 0 | T109: =S109*H109 -> 0 | AR109: 4 | AT109: K | AU109: 2 | AY109: ROZPOCET | BE109: =IF(N109="základní",J109,0) -> 0 | BF109: =IF(N109="snížená",J109,0) -> 0 | BG109: =IF(N109="zákl. přenesená",J109,0) -> 0 | BH109: =IF(N109="sníž. přenesená",J109,0) -> 0 | BI109: =IF(N109="nulová",J109,0) -> 0 | BJ109: 1 | BK109: =ROUND(I109*H109,2) -> 0 | BL109: 4 | BM109: 338541726
D110: PP | F110: Odkopávky a prokopávky nezapažené strojně v hornině třídy těžitelnosti I skupiny 3 do 20 m3 | AT110: PP | AU110: 2
D111: P | F111: Poznámka k položce:_x000D_ Přesný a bližší popis viz dokumentace stavby, SO 01.2 Schody a rampa | AT111: P | AU111: 2
D112: VV | F112: "výkop pro rampu a schodiště" 3,0*0,7*6,0 | H112: 12.6 | AT112: VV | AU112: 2 | AV112: 2 | AW112: True | AX112: 0 | AY112: ROZPOCET
D113: VV | F113: "výkop pro základový pás" 0,6*0,3*3,0 | H113: 0.54 | AT113: VV | AU113: 2 | AV113: 2 | AW113: True | AX113: 0 | AY113: ROZPOCET
D114: VV | F114: Součet | H114: 13.14 | AT114: VV | AU114: 2 | AV114: 4 | AW114: True | AX114: 1 | AY114: ROZPOCET
D115: D | E115: 2 | F115: Zakládání | J115: =BK115 -> 0 | P115: =SUM(P116:P162) -> 0 | R115: =SUM(R116:R162) -> 14.503249 | T115: =SUM(T116:T162) -> 0 | AR115: 1 | AT115: D | AU115: 1 | AY115: ROZPOCET | BK115: =SUM(BK116:BK162) -> 0
C116: 5 | D116: K | E116: 213141111 | F116: Zřízení vrstvy z geotextilie v rovině nebo ve sklonu do 1:5 š do 3 m | G116: m2 | H116: 24.038 | J116: =ROUND(I116*H116,2) -> 0 | N116: základní | P116: =O116*H116 -> 0 | Q116: 0.0001 | R116: =Q116*H116 -> 0.0024038 | S116: 0 | T116: =S116*H116 -> 0 | AR116: 4 | AT116: K | AU116: 2 | AY116: ROZPOCET | BE116: =IF(N116="základní",J116,0) -> 0 | BF116: =IF(N116="snížená",J116,0) -> 0 | BG116: =IF(N116="zákl. přenesená",J116,0) -> 0 | BH116: =IF(N116="sníž. přenesená",J116,0) -> 0 | BI116: =IF(N116="nulová",J116,0) -> 0 | BJ116: 1 | BK116: =ROUND(I116*H116,2) -> 0 | BL116: 4 | BM116: -651489269
D117: PP | F117: Zřízení vrstvy z geotextilie filtrační, separační, odvodňovací, ochranné, výztužné nebo protierozní v rovině nebo ve sklonu do 1:5, šířky do 3 m | AT117: PP | AU117: 2
D118: P | F118: Poznámka k položce:_x000D_ Přesný a bližší popis viz dokumentace stavby, SO 01.2 Schody a rampa | AT118: P | AU118: 2
D119: VV | F119: Technická zpráva | AT119: VV | AU119: 2 | AV119: 1 | AW119: True | AX119: 0 | AY119: ROZPOCET
D120: VV | F120: "pod schodištěm" (0,63+0,2)*2*1,501*8 | H120: 19.933 | AT120: VV | AU120: 2 | AV120: 2 | AW120: True | AX120: 0 | AY120: ROZPOCET
D121: VV | F121: "pod bet.pasem" (0,2+0,6)*3,0 | H121: 2.4 | AT121: VV | AU121: 2 | AV121: 2 | AW121: True | AX121: 0 | AY121: ROZPOCET
D122: VV | F122: "pod rampu" 5,8*1,2*((0,15+0,34)/2) | H122: 1.705 | AT122: VV | AU122: 2 | AV122: 2 | AW122: True | AX122: 0 | AY122: ROZPOCET
D123: VV | F123: Součet | H123: 24.038 | AT123: VV | AU123: 2 | AV123: 4 | AW123: True | AX123: 1 | AY123: ROZPOCET
C124: 6 | D124: M | E124: 69311081 | F124: geotextilie netkaná separační, ochranná, filtrační, drenážní PES 300g/m2 | G124: m2 | H124: 28.473 | J124: =ROUND(I124*H124,2) -> 0 | N124: základní | P124: =O124*H124 -> 0 | Q124: 0.0003 | R124: =Q124*H124 -> 0.0085419 | S124: 0 | T124: =S124*H124 -> 0 | AR124: 8 | AT124: M | AU124: 2 | AY124: ROZPOCET | BE124: =IF(N124="základní",J124,0) -> 0 | BF124: =IF(N124="snížená",J124,0) -> 0 | BG124: =IF(N124="zákl. přenesená",J124,0) -> 0 | BH124: =IF(N124="sníž. přenesená",J124,0) -> 0 | BI124: =IF(N124="nulová",J124,0) -> 0 | BJ124: 1 | BK124: =ROUND(I124*H124,2) -> 0 | BL124: 4 | BM124: 1691430370
D125: PP | F125: geotextilie netkaná separační, ochranná, filtrační, drenážní PES 300g/m2 | AT125: PP | AU125: 2
D126: P | F126: Poznámka k položce:_x000D_ Přesný a bližší popis viz dokumentace stavby, SO 01.2 Schody a rampa | AT126: P | AU126: 2
D127: VV | F127: 24,038*1,1845 "Přepočtené koeficientem množství | H127: 28.473 | AT127: VV | AU127: 2 | AV127: 2 | AW127: True | AX127: 1 | AY127: ROZPOCET
C128: 7 | D128: K | E128: 224511114 | F128: Vrty maloprofilové D přes 195 do 245 mm úklon do 45° hl 0 až 25 m hornina III a IV | G128: m | H128: 4.5 | J128: =ROUND(I128*H128,2) -> 0 | N128: základní | P128: =O128*H128 -> 0 | Q128: 0.00058 | R128: =Q128*H128 -> 0.00261 | S128: 0 | T128: =S128*H128 -> 0 | AR128: 4 | AT128: K | AU128: 2 | AY128: ROZPOCET | BE128: =IF(N128="základní",J128,0) -> 0 | BF128: =IF(N128="snížená",J128,0) -> 0 | BG128: =IF(N128="zákl. přenesená",J128,0) -> 0 | BH128: =IF(N128="sníž. přenesená",J128,0) -> 0 | BI128: =IF(N128="nulová",J128,0) -> 0 | BJ128: 1 | BK128: =ROUND(I128*H128,2) -> 0 | BL128: 4 | BM128: 1449100152
D129: PP | F129: Maloprofilové vrty průběžným sacím vrtáním průměru přes 195 do 245 mm do úklonu 45° v hl 0 až 25 m v hornině tř. III a IV | AT129: PP | AU129: 2
D130: P | F130: Poznámka k položce:_x000D_ Přesný a bližší popis viz dokumentace stavby, SO 01.2 Schody a rampa | AT130: P | AU130: 2
D131: VV | F131: 0,9*5 | H131: 4.5 | AT131: VV | AU131: 2 | AV131: 2 | AW131: True | AX131: 1 | AY131: ROZPOCET
C132: 8 | D132: K | E132: 271532211 | F132: Podsyp pod základové konstrukce se zhutněním z hrubého kameniva frakce 32 až 63 mm | G132: m3 | H132: 5.82 | J132: =ROUND(I132*H132,2) -> 0 | N132: základní | P132: =O132*H132 -> 0 | Q132: 2.16 | R132: =Q132*H132 -> 12.5712 | S132: 0 | T132: =S132*H132 -> 0 | AR132: 4 | AT132: K | AU132: 2 | AY132: ROZPOCET | BE132: =IF(N132="základní",J132,0) -> 0 | BF132: =IF(N132="snížená",J132,0) -> 0 | BG132: =IF(N132="zákl. přenesená",J132,0) -> 0 | BH132: =IF(N132="sníž. přenesená",J132,0) -> 0 | BI132: =IF(N132="nulová",J132,0) -> 0 | BJ132: 1 | BK132: =ROUND(I132*H132,2) -> 0 | BL132: 4 | BM132: 2045880702
D133: PP | F133: Podsyp pod základové konstrukce se zhutněním a urovnáním povrchu z kameniva hrubého, frakce 32 - 63 mm | AT133: PP | AU133: 2
...

Sheet SO 02 - Veřejné osvětlení
AT2: {99df0b34-04f2-4810-aa2b-cd84f8259663}
AT3: 2
D4: KRYCÍ LIST SOUPISU PRACÍ | M4: v --- níže se nacházejí doplnkové a pomocné údaje k sestavám --- v | AT4: False
D6: Stavba:
E7: ='Rekapitulace stavby'!K6 -> Lesopark Na Kolečku-DPS - revize
D8: Objekt:
E9: 01 - 1. ETAPA
D10: Soupis:
E11: SO 02 - Veřejné osvětlení
D13: KSO: | F13: 823 27 11 | I13: CC-CZ:
D14: Místo: | F14: Roudnice nad Labem | I14: Datum: | J14: ='Rekapitulace stavby'!AN8 -> 22. 5. 2024
D16: Zadavatel: | I16: IČ:
I17: DIČ:
D19: Účastník: | I19: IČ: | J19: ='Rekapitulace stavby'!AN13 -> Vyplň údaj
E20: ='Rekapitulace stavby'!E14 -> Vyplň údaj | I20: DIČ: | J20: ='Rekapitulace stavby'!AN14 -> Vyplň údaj
D22: Projektant: | I22: IČ:
E23: Land05 s.r.o. | I23: DIČ:
D25: Zpracovatel: | I25: IČ: | J25: 07206062
E26: Soloreal s.r.o. | I26: DIČ:
D28: Poznámka:
D32: Cena bez DPH | J32: =ROUND(J97, 2) -> 0
F34: Základ daně | I34: Sazba daně | J34: Výše daně
D35: DPH | E35: základní | F35: =ROUND((SUM(BE97:BE296)), 2) -> 0 | I35: 0.21 | J35: =ROUND(((SUM(BE97:BE296))*I35), 2) -> 0
E36: snížená | F36: =ROUND((SUM(BF97:BF296)), 2) -> 0 | I36: 0.12 | J36: =ROUND(((SUM(BF97:BF296))*I36), 2) -> 0
E37: zákl. přenesená | F37: =ROUND((SUM(BG97:BG296)), 2) -> 0 | I37: 0.21 | J37: =0 -> 0
E38: sníž. přenesená | F38: =ROUND((SUM(BH97:BH296)), 2) -> 0 | I38: 0.12 | J38: =0 -> 0
E39: nulová | F39: =ROUND((SUM(BI97:BI296)), 2) -> 0 | I39: 0 | J39: =0 -> 0
D41: Cena s DPH | G41: v | H41: CZK | J41: =SUM(J32:J39) -> 0
C47: REKAPITULACE ČLENĚNÍ SOUPISU PRACÍ
C49: Stavba:
E50: =E7 -> Lesopark Na Kolečku-DPS - revize
C51: Objekt:
E52: 01 - 1. ETAPA
C53: Soupis:
E54: =E11 -> SO 02 - Veřejné osvětlení
C56: Místo: | F56: =F14 -> Roudnice nad Labem | I56: Datum: | J56: =IF(J14="","",J14) -> 22. 5. 2024
C58: Zadavatel: | F58: =E17 | I58: Projektant: | J58: =E23 -> Land05 s.r.o.
C59: Účastník: | F59: =IF(E20="","",E20) -> Vyplň údaj | I59: Zpracovatel: | J59: =E26 -> Soloreal s.r.o.
C61: Kód dílu - Popis | J61: Cena celkem [CZK]
C63: Náklady stavby celkem | J63: =J97 -> 0 | AU63: -1
D64: HSV - Práce a dodávky HSV | J64: =J98 -> 0
D65: 1 - Zemní práce | J65: =J99 -> 0
D66: 8 - Trubní vedení | J66: =J148 -> 0
D67: 998 - Přesun hmot | J67: =J152 -> 0
D68: PSV - Práce a dodávky PSV | J68: =J155 -> 0
D69: 741 - Elektroinstalace - silnoproud | J69: =J156 -> 0
D70: M - Práce a dodávky M | J70: =J270 -> 0
D71: 46-M - Zemní práce při extr.mont.pracích | J71: =J271 -> 0
D72: VRN - Vedlejší rozpočtové náklady | J72: =J278 -> 0
D73: VRN1 - Průzkumné, geodetické a projektové práce | J73: =J279 -> 0
D74: VRN4 - Inženýrská činnost | J74: =J286 -> 0
D75: VRN5 - Finanční náklady | J75: =J293 -> 0
C82: SOUPIS PRACÍ
C84: Stavba:
E85: =E7 -> Lesopark Na Kolečku-DPS - revize
C86: Objekt:
E87: 01 - 1. ETAPA
C88: Soupis:
E89: =E11 -> SO 02 - Veřejné osvětlení
C91: Místo: | F91: =F14 -> Roudnice nad Labem | I91: Datum: | J91: =IF(J14="","",J14) -> 22. 5. 2024
C93: Zadavatel: | F93: =E17 | I93: Projektant: | J93: =E23 -> Land05 s.r.o.
C94: Účastník: | F94: =IF(E20="","",E20) -> Vyplň údaj | I94: Zpracovatel: | J94: =E26 -> Soloreal s.r.o.
C96: PČ | D96: Typ | E96: Kód | F96: Popis | G96: MJ | H96: Množství | I96: J.cena [CZK] | J96: Cena celkem [CZK] | K96: Cenová soustava | N96: DPH | O96: J. Nh [h] | P96: Nh celkem [h] | Q96: J. hmotnost [t] | R96: Hmotnost celkem [t] | S96: J. suť [t] | T96: Suť Celkem [t]
C97: Náklady soupisu celkem | J97: =BK97 -> 0 | P97: =P98+P155+P270+P278 -> 0 | R97: =R98+R155+R270+R278 -> 140.52149 | T97: =T98+T155+T270+T278 -> 0 | AT97: D | AU97: -1 | BK97: =BK98+BK155+BK270+BK278 -> 0
D98: D | E98: HSV | F98: Práce a dodávky HSV | J98: =BK98 -> 0 | P98: =P99+P148+P152 -> 0 | R98: =R99+R148+R152 -> 140.52149 | T98: =T99+T148+T152 -> 0 | AR98: 1 | AT98: D | AU98: 0 | AY98: ROZPOCET | BK98: =BK99+BK148+BK152 -> 0
D99: D | E99: 1 | F99: Zemní práce | J99: =BK99 -> 0 | P99: =SUM(P100:P147) -> 0 | R99: =SUM(R100:R147) -> 140.4965 | T99: =SUM(T100:T147) -> 0 | AR99: 1 | AT99: D | AU99: 1 | AY99: ROZPOCET | BK99: =SUM(BK100:BK147) -> 0
C100: 1 | D100: K | E100: 121151105 | F100: Sejmutí ornice plochy do 100 m2 tl vrstvy přes 250 do 300 mm strojně | G100: m2 | H100: 160.15 | J100: =ROUND(I100*H100,2) -> 0 | N100: základní | P100: =O100*H100 -> 0 | Q100: 0 | R100: =Q100*H100 -> 0 | S100: 0 | T100: =S100*H100 -> 0 | AR100: 4 | AT100: K | AU100: 2 | AY100: ROZPOCET | BE100: =IF(N100="základní",J100,0) -> 0 | BF100: =IF(N100="snížená",J100,0) -> 0 | BG100: =IF(N100="zákl. přenesená",J100,0) -> 0 | BH100: =IF(N100="sníž. přenesená",J100,0) -> 0 | BI100: =IF(N100="nulová",J100,0) -> 0 | BJ100: 1 | BK100: =ROUND(I100*H100,2) -> 0 | BL100: 4 | BM100: 243669189
D101: PP | F101: Sejmutí ornice strojně při souvislé ploše do 100 m2, tl. vrstvy přes 250 do 300 mm | AT101: PP | AU101: 2
D102: P | F102: Poznámka k položce:_x000D_ Bližší a přesné údaje viz PD D2.2, D.2.1.1, D.2.2.1-D.2.2.6 | AT102: P | AU102: 2
D103: VV | F103: 0,45*340 | H103: 153 | AT103: VV | AU103: 2 | AV103: 2 | AW103: True | AX103: 0 | AY103: ROZPOCET
D104: VV | F104: 0,55*13 | H104: 7.15 | AT104: VV | AU104: 2 | AV104: 2 | AW104: True | AX104: 0 | AY104: ROZPOCET
D105: VV | F105: Součet | H105: 160.15 | AT105: VV | AU105: 2 | AV105: 4 | AW105: True | AX105: 1 | AY105: ROZPOCET
C106: 2 | D106: K | E106: 162251101 | F106: Vodorovné přemístění do 20 m výkopku/sypaniny z horniny třídy těžitelnosti I skupiny 1 až 3 | G106: m3 | H106: 82.645 | J106: =ROUND(I106*H106,2) -> 0 | N106: základní | P106: =O106*H106 -> 0 | Q106: 1.7 | R106: =Q106*H106 -> 140.4965 | S106: 0 | T106: =S106*H106 -> 0 | AR106: 4 | AT106: K | AU106: 2 | AY106: ROZPOCET | BE106: =IF(N106="základní",J106,0) -> 0 | BF106: =IF(N106="snížená",J106,0) -> 0 | BG106: =IF(N106="zákl. přenesená",J106,0) -> 0 | BH106: =IF(N106="sníž. přenesená",J106,0) -> 0 | BI106: =IF(N106="nulová",J106,0) -> 0 | BJ106: 1 | BK106: =ROUND(I106*H106,2) -> 0 | BL106: 4 | BM106: 1953505709
D107: PP | F107: Vodorovné přemístění výkopku nebo sypaniny po suchu na obvyklém dopravním prostředku, bez naložení výkopku, avšak se složením bez rozhrnutí z horniny třídy těžitelnosti I skupiny 1 až 3 na vzdálenost do 20 m | AT107: PP | AU107: 2
D108: P | F108: Poznámka k položce:_x000D_ Bližší a přesné údaje viz PD D2.2, D.2.1.1, D.2.2.1-D.2.2.6 | AT108: P | AU108: 2
D109: VV | F109: "Ornice:" | AT109: VV | AU109: 2 | AV109: 1 | AW109: True | AX109: 0 | AY109: ROZPOCET
D110: VV | F110: 0,45*340*0,3 | H110: 45.9 | AT110: VV | AU110: 2 | AV110: 2 | AW110: True | AX110: 0 | AY110: ROZPOCET
D111: VV | F111: 0,55*13*0,3 | H111: 2.145 | AT111: VV | AU111: 2 | AV111: 2 | AW111: True | AX111: 0 | AY111: ROZPOCET
D112: VV | F112: "Výkopek:" | AT112: VV | AU112: 2 | AV112: 1 | AW112: True | AX112: 0 | AY112: ROZPOCET
D113: VV | F113: 34,6 | H113: 34.6 | AT113: VV | AU113: 2 | AV113: 2 | AW113: True | AX113: 0 | AY113: ROZPOCET
D114: VV | F114: Součet | H114: 82.645 | AT114: VV | AU114: 2 | AV114: 4 | AW114: True | AX114: 1 | AY114: ROZPOCET
C115: 3 | D115: K | E115: 181311105 | F115: Rozprostření ornice tl vrstvy přes 250 do 300 mm v rovině nebo ve svahu do 1:5 ručně | G115: m2 | H115: 160.15 | J115: =ROUND(I115*H115,2) -> 0 | N115: základní | P115: =O115*H115 -> 0 | Q115: 0 | R115: =Q115*H115 -> 0 | S115: 0 | T115: =S115*H115 -> 0 | AR115: 4 | AT115: K | AU115: 2 | AY115: ROZPOCET | BE115: =IF(N115="základní",J115,0) -> 0 | BF115: =IF(N115="snížená",J115,0) -> 0 | BG115: =IF(N115="zákl. přenesená",J115,0) -> 0 | BH115: =IF(N115="sníž. přenesená",J115,0) -> 0 | BI115: =IF(N115="nulová",J115,0) -> 0 | BJ115: 1 | BK115: =ROUND(I115*H115,2) -> 0 | BL115: 4 | BM115: -1439991568
D116: PP | F116: Rozprostření a urovnání ornice v rovině nebo ve svahu sklonu do 1:5 ručně při souvislé ploše, tl. vrstvy přes 250 do 300 mm | AT116: PP | AU116: 2
D117: P | F117: Poznámka k položce:_x000D_ Bližší a přesné údaje viz PD D2.2, D.2.1.1, D.2.2.1-D.2.2.6 | AT117: P | AU117: 2
D118: VV | F118: 0,45*340 | H118: 153 | AT118: VV | AU118: 2 | AV118: 2 | AW118: True | AX118: 0 | AY118: ROZPOCET
D119: VV | F119: 0,55*13 | H119: 7.15 | AT119: VV | AU119: 2 | AV119: 2 | AW119: True | AX119: 0 | AY119: ROZPOCET
D120: VV | F120: Součet | H120: 160.15 | AT120: VV | AU120: 2 | AV120: 4 | AW120: True | AX120: 1 | AY120: ROZPOCET
C121: 4 | D121: K | E121: 132251103 | F121: Hloubení rýh nezapažených š do 800 mm v hornině třídy těžitelnosti I skupiny 3 objem do 100 m3 strojně | G121: m3 | H121: 53.55 | J121: =ROUND(I121*H121,2) -> 0 | N121: základní | P121: =O121*H121 -> 0 | Q121: 0 | R121: =Q121*H121 -> 0 | S121: 0 | T121: =S121*H121 -> 0 | AR121: 4 | AT121: K | AU121: 2 | AY121: ROZPOCET | BE121: =IF(N121="základní",J121,0) -> 0 | BF121: =IF(N121="snížená",J121,0) -> 0 | BG121: =IF(N121="zákl. přenesená",J121,0) -> 0 | BH121: =IF(N121="sníž. přenesená",J121,0) -> 0 | BI121: =IF(N121="nulová",J121,0) -> 0 | BJ121: 1 | BK121: =ROUND(I121*H121,2) -> 0 | BL121: 4 | BM121: -1489383457
D122: PP | F122: Hloubení nezapažených rýh šířky do 800 mm strojně s urovnáním dna do předepsaného profilu a spádu v hornině třídy těžitelnosti I skupiny 3 přes 50 do 100 m3 | AT122: PP | AU122: 2
D123: P | F123: Poznámka k položce:_x000D_ Bližší a přesné údaje viz PD D2.2, D.2.1.1, D.2.2.1-D.2.2.6 | AT123: P | AU123: 2
D124: VV | F124: 340*0,35*0,45 | H124: 53.55 | AT124: VV | AU124: 2 | AV124: 2 | AW124: True | AX124: 1 | AY124: ROZPOCET
C125: 5 | D125: K | E125: 132251251 | F125: Hloubení rýh nezapažených š do 2000 mm v hornině třídy těžitelnosti I skupiny 3 objem do 20 m3 strojně | G125: m3 | H125: 8.58 | J125: =ROUND(I125*H125,2) -> 0 | N125: základní | P125: =O125*H125 -> 0 | Q125: 0 | R125: =Q125*H125 -> 0 | S125: 0 | T125: =S125*H125 -> 0 | AR125: 4 | AT125: K | AU125: 2 | AY125: ROZPOCET | BE125: =IF(N125="základní",J125,0) -> 0 | BF125: =IF(N125="snížená",J125,0) -> 0 | BG125: =IF(N125="zákl. přenesená",J125,0) -> 0 | BH125: =IF(N125="sníž. přenesená",J125,0) -> 0 | BI125: =IF(N125="nulová",J125,0) -> 0 | BJ125: 1 | BK125: =ROUND(I125*H125,2) -> 0 | BL125: 4 | BM125: 829995609
D126: PP | F126: Hloubení nezapažených rýh šířky přes 800 do 2 000 mm strojně s urovnáním dna do předepsaného profilu a spádu v hornině třídy těžitelnosti I skupiny 3 do 20 m3 | AT126: PP | AU126: 2
D127: P | F127: Poznámka k položce:_x000D_ Bližší a přesné údaje viz PD D2.2, D.2.1.1, D.2.2.1-D.2.2.6 | AT127: P | AU127: 2
D128: VV | F128: 1,2*0,55*13 | H128: 8.58 | AT128: VV | AU128: 2 | AV128: 2 | AW128: True | AX128: 1 | AY128: ROZPOCET
C129: 6 | D129: K | E129: 174151101 | F129: Zásyp jam, šachet rýh nebo kolem objektů sypaninou se zhutněním | G129: m3 | H129: 34.6 | J129: =ROUND(I129*H129,2) -> 0 | N129: základní | P129: =O129*H129 -> 0 | Q129: 0 | R129: =Q129*H129 -> 0 | S129: 0 | T129: =S129*H129 -> 0 | AR129: 4 | AT129: K | AU129: 2 | AY129: ROZPOCET | BE129: =IF(N129="základní",J129,0) -> 0 | BF129: =IF(N129="snížená",J129,0) -> 0 | BG129: =IF(N129="zákl. přenesená",J129,0) -> 0 | BH129: =IF(N129="sníž. přenesená",J129,0) -> 0 | BI129: =IF(N129="nulová",J129,0) -> 0 | BJ129: 1 | BK129: =ROUND(I129*H129,2) -> 0 | BL129: 4 | BM129: -69839006
D130: PP | F130: Zásyp sypaninou z jakékoliv horniny strojně s uložením výkopku ve vrstvách se zhutněním jam, šachet, rýh nebo kolem objektů v těchto vykopávkách | AT130: PP | AU130: 2
D131: P | F131: Poznámka k položce:_x000D_ Bližší a přesné údaje viz PD D2.2, D.2.1.1, D.2.2.1-D.2.2.6 | AT131: P | AU131: 2
D132: VV | F132: 34,6 | H132: 34.6 | AT132: VV | AU132: 2 | AV132: 2 | AW132: True | AX132: 1 | AY132: ROZPOCET
C133: 7 | D133: K | E133: 167151111 | F133: Nakládání výkopku z hornin třídy těžitelnosti I skupiny 1 až 3 přes 100 m3 | G133: m3 | H133: 27.53 | J133: =ROUND(I133*H133,2) -> 0 | N133: základní | P133: =O133*H133 -> 0 | Q133: 0 | R133: =Q133*H133 -> 0 | S133: 0 | T133: =S133*H133 -> 0 | AR133: 4 | AT133: K | AU133: 2 | AY133: ROZPOCET | BE133: =IF(N133="základní",J133,0) -> 0 | BF133: =IF(N133="snížená",J133,0) -> 0 | BG133: =IF(N133="zákl. přenesená",J133,0) -> 0 | BH133: =IF(N133="sníž. přenesená",J133,0) -> 0 | BI133: =IF(N133="nulová",J133,0) -> 0 | BJ133: 1 | BK133: =ROUND(I133*H133,2) -> 0 | BL133: 4 | BM133: -71461803
...

Sheet SO 03.1a - Vodovodní příp...
AT2: {866a0846-e2fc-4195-82c8-7ee56c3863ca}
AT3: 2
D4: KRYCÍ LIST SOUPISU PRACÍ | M4: v --- níže se nacházejí doplnkové a pomocné údaje k sestavám --- v | AT4: False
D6: Stavba:
E7: ='Rekapitulace stavby'!K6 -> Lesopark Na Kolečku-DPS - revize
D8: Objekt:
E9: 01 - 1. ETAPA
D10: Soupis:
E11: SO 03.1a - Vodovodní přípojka
D13: KSO: | F13: 823 27 11 | I13: CC-CZ:
D14: Místo: | F14: Roudnice nad Labem | I14: Datum: | J14: ='Rekapitulace stavby'!AN8 -> 22. 5. 2024
D16: Zadavatel: | I16: IČ:
I17: DIČ:
D19: Účastník: | I19: IČ: | J19: ='Rekapitulace stavby'!AN13 -> Vyplň údaj
E20: ='Rekapitulace stavby'!E14 -> Vyplň údaj | I20: DIČ: | J20: ='Rekapitulace stavby'!AN14 -> Vyplň údaj
D22: Projektant: | I22: IČ:
E23: Land05 s.r.o. | I23: DIČ:
D25: Zpracovatel: | I25: IČ: | J25: 07206062
E26: Soloreal s.r.o. | I26: DIČ:
D28: Poznámka:
D32: Cena bez DPH | J32: =ROUND(J94, 2) -> 0
F34: Základ daně | I34: Sazba daně | J34: Výše daně
D35: DPH | E35: základní | F35: =ROUND((SUM(BE94:BE280)), 2) -> 0 | I35: 0.21 | J35: =ROUND(((SUM(BE94:BE280))*I35), 2) -> 0
E36: snížená | F36: =ROUND((SUM(BF94:BF280)), 2) -> 0 | I36: 0.12 | J36: =ROUND(((SUM(BF94:BF280))*I36), 2) -> 0
E37: zákl. přenesená | F37: =ROUND((SUM(BG94:BG280)), 2) -> 0 | I37: 0.21 | J37: =0 -> 0
E38: sníž. přenesená | F38: =ROUND((SUM(BH94:BH280)), 2) -> 0 | I38: 0.12 | J38: =0 -> 0
E39: nulová | F39: =ROUND((SUM(BI94:BI280)), 2) -> 0 | I39: 0 | J39: =0 -> 0
D41: Cena s DPH | G41: v | H41: CZK | J41: =SUM(J32:J39) -> 0
C47: REKAPITULACE ČLENĚNÍ SOUPISU PRACÍ
C49: Stavba:
E50: =E7 -> Lesopark Na Kolečku-DPS - revize
C51: Objekt:
E52: 01 - 1. ETAPA
C53: Soupis:
E54: =E11 -> SO 03.1a - Vodovodní přípojka
C56: Místo: | F56: =F14 -> Roudnice nad Labem | I56: Datum: | J56: =IF(J14="","",J14) -> 22. 5. 2024
C58: Zadavatel: | F58: =E17 | I58: Projektant: | J58: =E23 -> Land05 s.r.o.
C59: Účastník: | F59: =IF(E20="","",E20) -> Vyplň údaj | I59: Zpracovatel: | J59: =E26 -> Soloreal s.r.o.
C61: Kód dílu - Popis | J61: Cena celkem [CZK]
C63: Náklady stavby celkem | J63: =J94 -> 0 | AU63: -1
D64: HSV - Práce a dodávky HSV | J64: =J95 -> 0
D65: 1 - Zemní práce | J65: =J96 -> 0
D66: 8 - Trubní vedení | J66: =J164 -> 0
D67: 9 - Ostatní konstrukce a práce, bourání | J67: =J252 -> 0
D68: 998 - Přesun hmot | J68: =J256 -> 0
D69: PSV - Práce a dodávky PSV | J69: =J263 -> 0
D70: 722 - Zdravotechnika - vnitřní vodovod | J70: =J264 -> 0
D71: M - Práce a dodávky M | J71: =J268 -> 0
D72: 46-M - Zemní práce při extr.mont.pracích | J72: =J269 -> 0
C79: SOUPIS PRACÍ
C81: Stavba:
E82: =E7 -> Lesopark Na Kolečku-DPS - revize
C83: Objekt:
E84: 01 - 1. ETAPA
C85: Soupis:
E86: =E11 -> SO 03.1a - Vodovodní přípojka
C88: Místo: | F88: =F14 -> Roudnice nad Labem | I88: Datum: | J88: =IF(J14="","",J14) -> 22. 5. 2024
C90: Zadavatel: | F90: =E17 | I90: Projektant: | J90: =E23 -> Land05 s.r.o.
C91: Účastník: | F91: =IF(E20="","",E20) -> Vyplň údaj | I91: Zpracovatel: | J91: =E26 -> Soloreal s.r.o.
C93: PČ | D93: Typ | E93: Kód | F93: Popis | G93: MJ | H93: Množství | I93: J.cena [CZK] | J93: Cena celkem [CZK] | K93: Cenová soustava | N93: DPH | O93: J. Nh [h] | P93: Nh celkem [h] | Q93: J. hmotnost [t] | R93: Hmotnost celkem [t] | S93: J. suť [t] | T93: Suť Celkem [t]
C94: Náklady soupisu celkem | J94: =BK94 -> 0 | P94: =P95+P263+P268 -> 0 | R94: =R95+R263+R268 -> 96.974984 | T94: =T95+T263+T268 -> 0.00124 | AT94: D | AU94: -1 | BK94: =BK95+BK263+BK268 -> 0
D95: D | E95: HSV | F95: Práce a dodávky HSV | J95: =BK95 -> 0 | P95: =P96+P164+P252+P256 -> 0 | R95: =R96+R164+R252+R256 -> 95.674991 | T95: =T96+T164+T252+T256 -> 0.00124 | AR95: 1 | AT95: D | AU95: 0 | AY95: ROZPOCET | BK95: =BK96+BK164+BK252+BK256 -> 0
D96: D | E96: 1 | F96: Zemní práce | J96: =BK96 -> 0 | P96: =SUM(P97:P163) -> 0 | R96: =SUM(R97:R163) -> 94.0644 | T96: =SUM(T97:T163) -> 0 | AR96: 1 | AT96: D | AU96: 1 | AY96: ROZPOCET | BK96: =SUM(BK97:BK163) -> 0
C97: 1 | D97: K | E97: 121151105 | F97: Sejmutí ornice plochy do 100 m2 tl vrstvy přes 250 do 300 mm strojně | G97: m2 | H97: 99.7 | J97: =ROUND(I97*H97,2) -> 0 | N97: základní | P97: =O97*H97 -> 0 | Q97: 0 | R97: =Q97*H97 -> 0 | S97: 0 | T97: =S97*H97 -> 0 | AR97: 4 | AT97: K | AU97: 2 | AY97: ROZPOCET | BE97: =IF(N97="základní",J97,0) -> 0 | BF97: =IF(N97="snížená",J97,0) -> 0 | BG97: =IF(N97="zákl. přenesená",J97,0) -> 0 | BH97: =IF(N97="sníž. přenesená",J97,0) -> 0 | BI97: =IF(N97="nulová",J97,0) -> 0 | BJ97: 1 | BK97: =ROUND(I97*H97,2) -> 0 | BL97: 4 | BM97: -1765623155
D98: PP | F98: Sejmutí ornice strojně při souvislé ploše do 100 m2, tl. vrstvy přes 250 do 300 mm | AT98: PP | AU98: 2
D99: P | F99: Poznámka k položce:_x000D_ Bližší a přesné údaje viz PD D3a, D3a_01_TZ, D3a_02_sit, D3a_03_04_PV_KS_uložení potrubí, D3a_03_PV PP, D3a_04_PK PP_ulo | AT99: P | AU99: 2
D100: VV | F100: "přípojka vody" 0,8*119 | H100: 95.2 | AT100: VV | AU100: 2 | AV100: 2 | AW100: True | AX100: 0 | AY100: ROZPOCET
D101: VV | F101: "napojení pítka" 0,6*7,5 | H101: 4.5 | AT101: VV | AU101: 2 | AV101: 2 | AW101: True | AX101: 0 | AY101: ROZPOCET
D102: VV | F102: Součet | H102: 99.7 | AT102: VV | AU102: 2 | AV102: 4 | AW102: True | AX102: 1 | AY102: ROZPOCET
C103: 2 | D103: K | E103: 131213701 | F103: Hloubení nezapažených jam v soudržných horninách třídy těžitelnosti I skupiny 3 ručně | G103: m3 | H103: 4.5 | J103: =ROUND(I103*H103,2) -> 0 | N103: základní | P103: =O103*H103 -> 0 | Q103: 0 | R103: =Q103*H103 -> 0 | S103: 0 | T103: =S103*H103 -> 0 | AR103: 4 | AT103: K | AU103: 2 | AY103: ROZPOCET | BE103: =IF(N103="základní",J103,0) -> 0 | BF103: =IF(N103="snížená",J103,0) -> 0 | BG103: =IF(N103="zákl. přenesená",J103,0) -> 0 | BH103: =IF(N103="sníž. přenesená",J103,0) -> 0 | BI103: =IF(N103="nulová",J103,0) -> 0 | BJ103: 1 | BK103: =ROUND(I103*H103,2) -> 0 | BL103: 4 | BM103: 1614734743
D104: PP | F104: Hloubení nezapažených jam ručně s urovnáním dna do předepsaného profilu a spádu v hornině třídy těžitelnosti I skupiny 3 soudržných | AT104: PP | AU104: 2
D105: VV | F105: "ručně kopaná sonda pro napojení vodovodní přípojky" 1,5*1,5*2 | H105: 4.5 | AT105: VV | AU105: 2 | AV105: 2 | AW105: True | AX105: 1 | AY105: ROZPOCET
C106: 3 | D106: K | E106: 132254102 | F106: Hloubení rýh zapažených š do 800 mm v hornině třídy těžitelnosti I skupiny 3 objem do 50 m3 strojně | G106: m3 | H106: 28.8 | J106: =ROUND(I106*H106,2) -> 0 | N106: základní | P106: =O106*H106 -> 0 | Q106: 0 | R106: =Q106*H106 -> 0 | S106: 0 | T106: =S106*H106 -> 0 | AR106: 4 | AT106: K | AU106: 2 | AY106: ROZPOCET | BE106: =IF(N106="základní",J106,0) -> 0 | BF106: =IF(N106="snížená",J106,0) -> 0 | BG106: =IF(N106="zákl. přenesená",J106,0) -> 0 | BH106: =IF(N106="sníž. přenesená",J106,0) -> 0 | BI106: =IF(N106="nulová",J106,0) -> 0 | BJ106: 1 | BK106: =ROUND(I106*H106,2) -> 0 | BL106: 4 | BM106: -1485584939
D107: PP | F107: Hloubení zapažených rýh šířky do 800 mm strojně s urovnáním dna do předepsaného profilu a spádu v hornině třídy těžitelnosti I skupiny 3 přes 20 do 50 m3 | AT107: PP | AU107: 2
D108: P | F108: Poznámka k položce:_x000D_ Bližší a přesné údaje viz PD D3a, D3a_01_TZ, D3a_02_sit, D3a_03_04_PV_KS_uložení potrubí, D3a_03_PV PP, D3a_04_PK PP_ulo | AT108: P | AU108: 2
D109: VV | F109: "pro napojení na kanal. sběrač" 8,0*4,0*0,9 | H109: 28.8 | AT109: VV | AU109: 2 | AV109: 2 | AW109: True | AX109: 1 | AY109: ROZPOCET
C110: 4 | D110: K | E110: 151101102 | F110: Zřízení příložného pažení a rozepření stěn rýh hl přes 2 do 4 m | G110: m2 | H110: 64 | J110: =ROUND(I110*H110,2) -> 0 | N110: základní | P110: =O110*H110 -> 0 | Q110: 0.00085 | R110: =Q110*H110 -> 0.0544 | S110: 0 | T110: =S110*H110 -> 0 | AR110: 4 | AT110: K | AU110: 2 | AY110: ROZPOCET | BE110: =IF(N110="základní",J110,0) -> 0 | BF110: =IF(N110="snížená",J110,0) -> 0 | BG110: =IF(N110="zákl. přenesená",J110,0) -> 0 | BH110: =IF(N110="sníž. přenesená",J110,0) -> 0 | BI110: =IF(N110="nulová",J110,0) -> 0 | BJ110: 1 | BK110: =ROUND(I110*H110,2) -> 0 | BL110: 4 | BM110: 1667161272
D111: PP | F111: Zřízení pažení a rozepření stěn rýh pro podzemní vedení příložné pro jakoukoliv mezerovitost, hloubky přes 2 do 4 m | AT111: PP | AU111: 2
D112: VV | F112: 8,0*4,0*2 | H112: 64 | AT112: VV | AU112: 2 | AV112: 2 | AW112: True | AX112: 1 | AY112: ROZPOCET
C113: 5 | D113: K | E113: 151101112 | F113: Odstranění příložného pažení a rozepření stěn rýh hl přes 2 do 4 m | G113: m2 | H113: 64 | J113: =ROUND(I113*H113,2) -> 0 | N113: základní | P113: =O113*H113 -> 0 | Q113: 0 | R113: =Q113*H113 -> 0 | S113: 0 | T113: =S113*H113 -> 0 | AR113: 4 | AT113: K | AU113: 2 | AY113: ROZPOCET | BE113: =IF(N113="základní",J113,0) -> 0 | BF113: =IF(N113="snížená",J113,0) -> 0 | BG113: =IF(N113="zákl. přenesená",J113,0) -> 0 | BH113: =IF(N113="sníž. přenesená",J113,0) -> 0 | BI113: =IF(N113="nulová",J113,0) -> 0 | BJ113: 1 | BK113: =ROUND(I113*H113,2) -> 0 | BL113: 4 | BM113: -1175376287
D114: PP | F114: Odstranění pažení a rozepření stěn rýh pro podzemní vedení s uložením materiálu na vzdálenost do 3 m od kraje výkopu příložné, hloubky přes 2 do 4 m | AT114: PP | AU114: 2
D115: VV | F115: 8,0*4,0*2 | H115: 64 | AT115: VV | AU115: 2 | AV115: 2 | AW115: True | AX115: 1 | AY115: ROZPOCET
C116: 6 | D116: K | E116: 162251101 | F116: Vodorovné přemístění do 20 m výkopku/sypaniny z horniny třídy těžitelnosti I skupiny 1 až 3 | G116: m3 | H116: 29.91 | J116: =ROUND(I116*H116,2) -> 0 | N116: základní | P116: =O116*H116 -> 0 | Q116: 0 | R116: =Q116*H116 -> 0 | S116: 0 | T116: =S116*H116 -> 0 | AR116: 4 | AT116: K | AU116: 2 | AY116: ROZPOCET | BE116: =IF(N116="základní",J116,0) -> 0 | BF116: =IF(N116="snížená",J116,0) -> 0 | BG116: =IF(N116="zákl. přenesená",J116,0) -> 0 | BH116: =IF(N116="sníž. přenesená",J116,0) -> 0 | BI116: =IF(N116="nulová",J116,0) -> 0 | BJ116: 1 | BK116: =ROUND(I116*H116,2) -> 0 | BL116: 4 | BM116: -655992446
D117: PP | F117: Vodorovné přemístění výkopku nebo sypaniny po suchu na obvyklém dopravním prostředku, bez naložení výkopku, avšak se složením bez rozhrnutí z horniny třídy těžitelnosti I skupiny 1 až 3 na vzdálenost do 20 m | AT117: PP | AU117: 2
D118: P | F118: Poznámka k položce:_x000D_ Bližší a přesné údaje viz PD D3a, D3a_01_TZ, D3a_02_sit, D3a_03_04_PV_KS_uložení potrubí, D3a_03_PV PP, D3a_04_PK PP_ulo | AT118: P | AU118: 2
D119: VV | F119: "přípojka vody" 0,8*119*0,3 | H119: 28.56 | AT119: VV | AU119: 2 | AV119: 2 | AW119: True | AX119: 0 | AY119: ROZPOCET
D120: VV | F120: "napojení pítka" 0,6*7,5*0,3 | H120: 1.35 | AT120: VV | AU120: 2 | AV120: 2 | AW120: True | AX120: 0 | AY120: ROZPOCET
D121: VV | F121: Součet | H121: 29.91 | AT121: VV | AU121: 2 | AV121: 4 | AW121: True | AX121: 1 | AY121: ROZPOCET
C122: 7 | D122: K | E122: 181311105 | F122: Rozprostření ornice tl vrstvy přes 250 do 300 mm v rovině nebo ve svahu do 1:5 ručně | G122: m2 | H122: 99.7 | J122: =ROUND(I122*H122,2) -> 0 | N122: základní | P122: =O122*H122 -> 0 | Q122: 0 | R122: =Q122*H122 -> 0 | S122: 0 | T122: =S122*H122 -> 0 | AR122: 4 | AT122: K | AU122: 2 | AY122: ROZPOCET | BE122: =IF(N122="základní",J122,0) -> 0 | BF122: =IF(N122="snížená",J122,0) -> 0 | BG122: =IF(N122="zákl. přenesená",J122,0) -> 0 | BH122: =IF(N122="sníž. přenesená",J122,0) -> 0 | BI122: =IF(N122="nulová",J122,0) -> 0 | BJ122: 1 | BK122: =ROUND(I122*H122,2) -> 0 | BL122: 4 | BM122: 661438232
D123: PP | F123: Rozprostření a urovnání ornice v rovině nebo ve svahu sklonu do 1:5 ručně při souvislé ploše, tl. vrstvy přes 250 do 300 mm | AT123: PP | AU123: 2
D124: P | F124: Poznámka k položce:_x000D_ Bližší a přesné údaje viz PD D3a, D3a_01_TZ, D3a_02_sit, D3a_03_04_PV_KS_uložení potrubí, D3a_03_PV PP, D3a_04_PK PP_ulo | AT124: P | AU124: 2
D125: VV | F125: "kanalizační přípojka" 0,8*119 | H125: 95.2 | AT125: VV | AU125: 2 | AV125: 2 | AW125: True | AX125: 0 | AY125: ROZPOCET
D126: VV | F126: "pítko" 0,6*7,5 | H126: 4.5 | AT126: VV | AU126: 2 | AV126: 2 | AW126: True | AX126: 0 | AY126: ROZPOCET
D127: VV | F127: Součet | H127: 99.7 | AT127: VV | AU127: 2 | AV127: 4 | AW127: True | AX127: 1 | AY127: ROZPOCET
C128: 8 | D128: K | E128: 132251101 | F128: Hloubení rýh nezapažených š do 800 mm v hornině třídy těžitelnosti I skupiny 3 objem do 20 m3 strojně | G128: m3 | H128: 116.49 | J128: =ROUND(I128*H128,2) -> 0 | N128: základní | P128: =O128*H128 -> 0 | Q128: 0 | R128: =Q128*H128 -> 0 | S128: 0 | T128: =S128*H128 -> 0 | AR128: 4 | AT128: K | AU128: 2 | AY128: ROZPOCET | BE128: =IF(N128="základní",J128,0) -> 0 | BF128: =IF(N128="snížená",J128,0) -> 0 | BG128: =IF(N128="zákl. přenesená",J128,0) -> 0 | BH128: =IF(N128="sníž. přenesená",J128,0) -> 0 | BI128: =IF(N128="nulová",J128,0) -> 0 | BJ128: 1 | BK128: =ROUND(I128*H128,2) -> 0 | BL128: 4 | BM128: 66261413
D129: PP | F129: Hloubení nezapažených rýh šířky do 800 mm strojně s urovnáním dna do předepsaného profilu a spádu v hornině třídy těžitelnosti I skupiny 3 do 20 m3 | AT129: PP | AU129: 2
D130: P | F130: Poznámka k položce:_x000D_ Bližší a přesné údaje viz PD D3a, D3a_01_TZ, D3a_02_sit, D3a_03_04_PV_KS_uložení potrubí, D3a_03_PV PP, D3a_04_PK PP_ulo | AT130: P | AU130: 2
D131: VV | F131: "přípojka" 0,8*1,2*119 | H131: 114.24 | AT131: VV | AU131: 2 | AV131: 2 | AW131: True | AX131: 0 | AY131: ROZPOCET
D132: VV | F132: "pítko" 0,6*0,5*7,5 | H132: 2.25 | AT132: VV | AU132: 2 | AV132: 2 | AW132: True | AX132: 0 | AY132: ROZPOCET
D133: VV | F133: Součet | H133: 116.49 | AT133: VV | AU133: 2 | AV133: 4 | AW133: True | AX133: 1 | AY133: ROZPOCET
...

Sheet SO 03.2a - Kanalizační př...
AT2: {115b3f86-e07f-40c9-98b5-21d4c6321772}
AT3: 2
D4: KRYCÍ LIST SOUPISU PRACÍ | M4: v --- níže se nacházejí doplnkové a pomocné údaje k sestavám --- v | AT4: False
D6: Stavba:
E7: ='Rekapitulace stavby'!K6 -> Lesopark Na Kolečku-DPS - revize
D8: Objekt:
E9: 01 - 1. ETAPA
D10: Soupis:
E11: SO 03.2a - Kanalizační přípojka
D13: KSO: | F13: 823 27 11 | I13: CC-CZ:
D14: Místo: | F14: Roudnice nad Labem | I14: Datum: | J14: ='Rekapitulace stavby'!AN8 -> 22. 5. 2024
D16: Zadavatel: | I16: IČ:
I17: DIČ:
D19: Účastník: | I19: IČ: | J19: ='Rekapitulace stavby'!AN13 -> Vyplň údaj
E20: ='Rekapitulace stavby'!E14 -> Vyplň údaj | I20: DIČ: | J20: ='Rekapitulace stavby'!AN14 -> Vyplň údaj
D22: Projektant: | I22: IČ:
E23: Land05 s.r.o. | I23: DIČ:
D25: Zpracovatel: | I25: IČ: | J25: 07206062
E26: Soloreal s.r.o. | I26: DIČ:
D28: Poznámka:
D32: Cena bez DPH | J32: =ROUND(J92, 2) -> 0
F34: Základ daně | I34: Sazba daně | J34: Výše daně
D35: DPH | E35: základní | F35: =ROUND((SUM(BE92:BE202)), 2) -> 0 | I35: 0.21 | J35: =ROUND(((SUM(BE92:BE202))*I35), 2) -> 0
E36: snížená | F36: =ROUND((SUM(BF92:BF202)), 2) -> 0 | I36: 0.12 | J36: =ROUND(((SUM(BF92:BF202))*I36), 2) -> 0
E37: zákl. přenesená | F37: =ROUND((SUM(BG92:BG202)), 2) -> 0 | I37: 0.21 | J37: =0 -> 0
E38: sníž. přenesená | F38: =ROUND((SUM(BH92:BH202)), 2) -> 0 | I38: 0.12 | J38: =0 -> 0
E39: nulová | F39: =ROUND((SUM(BI92:BI202)), 2) -> 0 | I39: 0 | J39: =0 -> 0
D41: Cena s DPH | G41: v | H41: CZK | J41: =SUM(J32:J39) -> 0
C47: REKAPITULACE ČLENĚNÍ SOUPISU PRACÍ
C49: Stavba:
E50: =E7 -> Lesopark Na Kolečku-DPS - revize
C51: Objekt:
E52: 01 - 1. ETAPA
C53: Soupis:
E54: =E11 -> SO 03.2a - Kanalizační přípojka
C56: Místo: | F56: =F14 -> Roudnice nad Labem | I56: Datum: | J56: =IF(J14="","",J14) -> 22. 5. 2024
C58: Zadavatel: | F58: =E17 | I58: Projektant: | J58: =E23 -> Land05 s.r.o.
C59: Účastník: | F59: =IF(E20="","",E20) -> Vyplň údaj | I59: Zpracovatel: | J59: =E26 -> Soloreal s.r.o.
C61: Kód dílu - Popis | J61: Cena celkem [CZK]
C63: Náklady stavby celkem | J63: =J92 -> 0 | AU63: -1
D64: HSV - Práce a dodávky HSV | J64: =J93 -> 0
D65: 1 - Zemní práce | J65: =J94 -> 0
D66: 4 - Vodorovné konstrukce | J66: =J145 -> 0
D67: 8 - Trubní vedení | J67: =J146 -> 0
D68: 998 - Přesun hmot | J68: =J183 -> 0
D69: M - Práce a dodávky M | J69: =J190 -> 0
D70: 46-M - Zemní práce při extr.mont.pracích | J70: =J191 -> 0
C77: SOUPIS PRACÍ
C79: Stavba:
E80: =E7 -> Lesopark Na Kolečku-DPS - revize
C81: Objekt:
E82: 01 - 1. ETAPA
C83: Soupis:
E84: =E11 -> SO 03.2a - Kanalizační přípojka
C86: Místo: | F86: =F14 -> Roudnice nad Labem | I86: Datum: | J86: =IF(J14="","",J14) -> 22. 5. 2024
C88: Zadavatel: | F88: =E17 | I88: Projektant: | J88: =E23 -> Land05 s.r.o.
C89: Účastník: | F89: =IF(E20="","",E20) -> Vyplň údaj | I89: Zpracovatel: | J89: =E26 -> Soloreal s.r.o.
C91: PČ | D91: Typ | E91: Kód | F91: Popis | G91: MJ | H91: Množství | I91: J.cena [CZK] | J91: Cena celkem [CZK] | K91: Cenová soustava | N91: DPH | O91: J. Nh [h] | P91: Nh celkem [h] | Q91: J. hmotnost [t] | R91: Hmotnost celkem [t] | S91: J. suť [t] | T91: Suť Celkem [t]
C92: Náklady soupisu celkem | J92: =BK92 -> 0 | P92: =P93+P190 -> 0 | R92: =R93+R190 -> 118.66654 | T92: =T93+T190 -> 0 | AT92: D | AU92: -1 | BK92: =BK93+BK190 -> 0
D93: D | E93: HSV | F93: Práce a dodávky HSV | J93: =BK93 -> 0 | P93: =P94+P145+P146+P183 -> 0 | R93: =R94+R145+R146+R183 -> 117.36779 | T93: =T94+T145+T146+T183 -> 0 | AR93: 1 | AT93: D | AU93: 0 | AY93: ROZPOCET | BK93: =BK94+BK145+BK146+BK183 -> 0
D94: D | E94: 1 | F94: Zemní práce | J94: =BK94 -> 0 | P94: =SUM(P95:P144) -> 0 | R94: =SUM(R95:R144) -> 115.7224 | T94: =SUM(T95:T144) -> 0 | AR94: 1 | AT94: D | AU94: 1 | AY94: ROZPOCET | BK94: =SUM(BK95:BK144) -> 0
C95: 1 | D95: K | E95: 121151105 | F95: Sejmutí ornice plochy do 100 m2 tl vrstvy přes 250 do 300 mm strojně | G95: m2 | H95: 111.339 | J95: =ROUND(I95*H95,2) -> 0 | N95: základní | P95: =O95*H95 -> 0 | Q95: 0 | R95: =Q95*H95 -> 0 | S95: 0 | T95: =S95*H95 -> 0 | AR95: 4 | AT95: K | AU95: 2 | AY95: ROZPOCET | BE95: =IF(N95="základní",J95,0) -> 0 | BF95: =IF(N95="snížená",J95,0) -> 0 | BG95: =IF(N95="zákl. přenesená",J95,0) -> 0 | BH95: =IF(N95="sníž. přenesená",J95,0) -> 0 | BI95: =IF(N95="nulová",J95,0) -> 0 | BJ95: 1 | BK95: =ROUND(I95*H95,2) -> 0 | BL95: 4 | BM95: 1575163809
D96: PP | F96: Sejmutí ornice strojně při souvislé ploše do 100 m2, tl. vrstvy přes 250 do 300 mm | AT96: PP | AU96: 2
D97: P | F97: Poznámka k položce:_x000D_ Bližší a přesné údaje viz PD D3a, D3a_01_TZ, D3a_02_sit, D3a_03_04_PV_KS_uložení potrubí, D3a_03_PV PP, D3a_04_PK PP_ulo | AT97: P | AU97: 2
D98: VV | F98: "kanalizační přípojka" 0,9*123,71 | H98: 111.339 | AT98: VV | AU98: 2 | AV98: 2 | AW98: True | AX98: 1 | AY98: ROZPOCET
C99: 2 | D99: K | E99: 151101102 | F99: Zřízení příložného pažení a rozepření stěn rýh hl přes 2 do 4 m | G99: m2 | H99: 64 | J99: =ROUND(I99*H99,2) -> 0 | N99: základní | P99: =O99*H99 -> 0 | Q99: 0.00085 | R99: =Q99*H99 -> 0.0544 | S99: 0 | T99: =S99*H99 -> 0 | AR99: 4 | AT99: K | AU99: 2 | AY99: ROZPOCET | BE99: =IF(N99="základní",J99,0) -> 0 | BF99: =IF(N99="snížená",J99,0) -> 0 | BG99: =IF(N99="zákl. přenesená",J99,0) -> 0 | BH99: =IF(N99="sníž. přenesená",J99,0) -> 0 | BI99: =IF(N99="nulová",J99,0) -> 0 | BJ99: 1 | BK99: =ROUND(I99*H99,2) -> 0 | BL99: 4 | BM99: 339246603
D100: PP | F100: Zřízení pažení a rozepření stěn rýh pro podzemní vedení příložné pro jakoukoliv mezerovitost, hloubky přes 2 do 4 m | AT100: PP | AU100: 2
D101: VV | F101: 8,0*4,0*2 | H101: 64 | AT101: VV | AU101: 2 | AV101: 2 | AW101: True | AX101: 1 | AY101: ROZPOCET
C102: 3 | D102: K | E102: 151101112 | F102: Odstranění příložného pažení a rozepření stěn rýh hl přes 2 do 4 m | G102: m2 | H102: 64 | J102: =ROUND(I102*H102,2) -> 0 | N102: základní | P102: =O102*H102 -> 0 | Q102: 0 | R102: =Q102*H102 -> 0 | S102: 0 | T102: =S102*H102 -> 0 | AR102: 4 | AT102: K | AU102: 2 | AY102: ROZPOCET | BE102: =IF(N102="základní",J102,0) -> 0 | BF102: =IF(N102="snížená",J102,0) -> 0 | BG102: =IF(N102="zákl. přenesená",J102,0) -> 0 | BH102: =IF(N102="sníž. přenesená",J102,0) -> 0 | BI102: =IF(N102="nulová",J102,0) -> 0 | BJ102: 1 | BK102: =ROUND(I102*H102,2) -> 0 | BL102: 4 | BM102: 167607976
D103: PP | F103: Odstranění pažení a rozepření stěn rýh pro podzemní vedení s uložením materiálu na vzdálenost do 3 m od kraje výkopu příložné, hloubky přes 2 do 4 m | AT103: PP | AU103: 2
D104: VV | F104: 8,0*4,0*2 | H104: 64 | AT104: VV | AU104: 2 | AV104: 2 | AW104: True | AX104: 1 | AY104: ROZPOCET
C105: 4 | D105: K | E105: 162251101 | F105: Vodorovné přemístění do 20 m výkopku/sypaniny z horniny třídy těžitelnosti I skupiny 1 až 3 | G105: m3 | H105: 33.402 | J105: =ROUND(I105*H105,2) -> 0 | N105: základní | P105: =O105*H105 -> 0 | Q105: 0 | R105: =Q105*H105 -> 0 | S105: 0 | T105: =S105*H105 -> 0 | AR105: 4 | AT105: K | AU105: 2 | AY105: ROZPOCET | BE105: =IF(N105="základní",J105,0) -> 0 | BF105: =IF(N105="snížená",J105,0) -> 0 | BG105: =IF(N105="zákl. přenesená",J105,0) -> 0 | BH105: =IF(N105="sníž. přenesená",J105,0) -> 0 | BI105: =IF(N105="nulová",J105,0) -> 0 | BJ105: 1 | BK105: =ROUND(I105*H105,2) -> 0 | BL105: 4 | BM105: -689914320
D106: PP | F106: Vodorovné přemístění výkopku nebo sypaniny po suchu na obvyklém dopravním prostředku, bez naložení výkopku, avšak se složením bez rozhrnutí z horniny třídy těžitelnosti I skupiny 1 až 3 na vzdálenost do 20 m | AT106: PP | AU106: 2
D107: P | F107: Poznámka k položce:_x000D_ Bližší a přesné údaje viz PD D3a, D3a_01_TZ, D3a_02_sit, D3a_03_04_PV_KS_uložení potrubí, D3a_03_PV PP, D3a_04_PK PP_ulo | AT107: P | AU107: 2
D108: VV | F108: "ornice" 0,9*0,3*123,71 | H108: 33.402 | AT108: VV | AU108: 2 | AV108: 2 | AW108: True | AX108: 0 | AY108: ROZPOCET
D109: VV | F109: Součet | H109: 33.402 | AT109: VV | AU109: 2 | AV109: 4 | AW109: True | AX109: 1 | AY109: ROZPOCET
C110: 5 | D110: K | E110: 181311105 | F110: Rozprostření ornice tl vrstvy přes 250 do 300 mm v rovině nebo ve svahu do 1:5 ručně | G110: m2 | H110: 111.339 | J110: =ROUND(I110*H110,2) -> 0 | N110: základní | P110: =O110*H110 -> 0 | Q110: 0 | R110: =Q110*H110 -> 0 | S110: 0 | T110: =S110*H110 -> 0 | AR110: 4 | AT110: K | AU110: 2 | AY110: ROZPOCET | BE110: =IF(N110="základní",J110,0) -> 0 | BF110: =IF(N110="snížená",J110,0) -> 0 | BG110: =IF(N110="zákl. přenesená",J110,0) -> 0 | BH110: =IF(N110="sníž. přenesená",J110,0) -> 0 | BI110: =IF(N110="nulová",J110,0) -> 0 | BJ110: 1 | BK110: =ROUND(I110*H110,2) -> 0 | BL110: 4 | BM110: -1832832951
D111: PP | F111: Rozprostření a urovnání ornice v rovině nebo ve svahu sklonu do 1:5 ručně při souvislé ploše, tl. vrstvy přes 250 do 300 mm | AT111: PP | AU111: 2
D112: P | F112: Poznámka k položce:_x000D_ Bližší a přesné údaje viz PD D3a, D3a_01_TZ, D3a_02_sit, D3a_03_04_PV_KS_uložení potrubí, D3a_03_PV PP, D3a_04_PK PP_ulo | AT112: P | AU112: 2
D113: VV | F113: "kanalizační přípojka" 0,9*123,71 | H113: 111.339 | AT113: VV | AU113: 2 | AV113: 2 | AW113: True | AX113: 1 | AY113: ROZPOCET
C114: 6 | D114: K | E114: 132251101 | F114: Hloubení rýh nezapažených š do 800 mm v hornině třídy těžitelnosti I skupiny 3 objem do 20 m3 strojně | G114: m3 | H114: 161.415 | J114: =ROUND(I114*H114,2) -> 0 | N114: základní | P114: =O114*H114 -> 0 | Q114: 0 | R114: =Q114*H114 -> 0 | S114: 0 | T114: =S114*H114 -> 0 | AR114: 4 | AT114: K | AU114: 2 | AY114: ROZPOCET | BE114: =IF(N114="základní",J114,0) -> 0 | BF114: =IF(N114="snížená",J114,0) -> 0 | BG114: =IF(N114="zákl. přenesená",J114,0) -> 0 | BH114: =IF(N114="sníž. přenesená",J114,0) -> 0 | BI114: =IF(N114="nulová",J114,0) -> 0 | BJ114: 1 | BK114: =ROUND(I114*H114,2) -> 0 | BL114: 4 | BM114: -471321181
D115: PP | F115: Hloubení nezapažených rýh šířky do 800 mm strojně s urovnáním dna do předepsaného profilu a spádu v hornině třídy těžitelnosti I skupiny 3 do 20 m3 | AT115: PP | AU115: 2
D116: P | F116: Poznámka k položce:_x000D_ Bližší a přesné údaje viz PD D3a, D3a_01_TZ, D3a_02_sit, D3a_03_04_PV_KS_uložení potrubí, D3a_03_PV PP, D3a_04_PK PP_ulo | AT116: P | AU116: 2
D117: VV | F117: "přípojka" 0,9*1,55*115,71 | H117: 161.415 | AT117: VV | AU117: 2 | AV117: 2 | AW117: True | AX117: 1 | AY117: ROZPOCET
C118: 7 | D118: K | E118: 132254102 | F118: Hloubení rýh zapažených š do 800 mm v hornině třídy těžitelnosti I skupiny 3 objem do 50 m3 strojně | G118: m3 | H118: 28.8 | J118: =ROUND(I118*H118,2) -> 0 | N118: základní | P118: =O118*H118 -> 0 | Q118: 0 | R118: =Q118*H118 -> 0 | S118: 0 | T118: =S118*H118 -> 0 | AR118: 4 | AT118: K | AU118: 2 | AY118: ROZPOCET | BE118: =IF(N118="základní",J118,0) -> 0 | BF118: =IF(N118="snížená",J118,0) -> 0 | BG118: =IF(N118="zákl. přenesená",J118,0) -> 0 | BH118: =IF(N118="sníž. přenesená",J118,0) -> 0 | BI118: =IF(N118="nulová",J118,0) -> 0 | BJ118: 1 | BK118: =ROUND(I118*H118,2) -> 0 | BL118: 4 | BM118: 1485973902
D119: PP | F119: Hloubení zapažených rýh šířky do 800 mm strojně s urovnáním dna do předepsaného profilu a spádu v hornině třídy těžitelnosti I skupiny 3 přes 20 do 50 m3 | AT119: PP | AU119: 2
D120: P | F120: Poznámka k položce:_x000D_ Bližší a přesné údaje viz PD D3a, D3a_01_TZ, D3a_02_sit, D3a_03_04_PV_KS_uložení potrubí, D3a_03_PV PP, D3a_04_PK PP_ulo | AT120: P | AU120: 2
D121: VV | F121: "pro napojení na kanal. sběrač" 8,0*4,0*0,9 | H121: 28.8 | AT121: VV | AU121: 2 | AV121: 2 | AW121: True | AX121: 1 | AY121: ROZPOCET
C122: 8 | D122: K | E122: 167151111 | F122: Nakládání výkopku z hornin třídy těžitelnosti I skupiny 1 až 3 přes 100 m3 | G122: m3 | H122: 68.04 | J122: =ROUND(I122*H122,2) -> 0 | N122: základní | P122: =O122*H122 -> 0 | Q122: 0 | R122: =Q122*H122 -> 0 | S122: 0 | T122: =S122*H122 -> 0 | AR122: 4 | AT122: K | AU122: 2 | AY122: ROZPOCET | BE122: =IF(N122="základní",J122,0) -> 0 | BF122: =IF(N122="snížená",J122,0) -> 0 | BG122: =IF(N122="zákl. přenesená",J122,0) -> 0 | BH122: =IF(N122="sníž. přenesená",J122,0) -> 0 | BI122: =IF(N122="nulová",J122,0) -> 0 | BJ122: 1 | BK122: =ROUND(I122*H122,2) -> 0 | BL122: 4 | BM122: 1007625509
D123: PP | F123: Nakládání, skládání a překládání neulehlého výkopku nebo sypaniny strojně nakládání, množství přes 100 m3, z hornin třídy těžitelnosti I, skupiny 1 až 3 | AT123: PP | AU123: 2
D124: P | F124: Poznámka k položce:_x000D_ Bližší a přesné údaje viz PD D3a, D3a_01_TZ, D3a_02_sit, D3a_03_04_PV_KS_uložení potrubí, D3a_03_PV PP, D3a_04_PK PP_ulo | AT124: P | AU124: 2
D125: VV | F125: "lože a obsyp" 68,04 | H125: 68.04 | AT125: VV | AU125: 2 | AV125: 2 | AW125: True | AX125: 1 | AY125: ROZPOCET
C126: 9 | D126: K | E126: 162351103 | F126: Vodorovné přemístění přes 50 do 500 m výkopku/sypaniny z horniny třídy těžitelnosti I skupiny 1 až 3 | G126: m3 | H126: 68.04 | J126: =ROUND(I126*H126,2) -> 0 | N126: základní | P126: =O126*H126 -> 0 | Q126: 0 | R126: =Q126*H126 -> 0 | S126: 0 | T126: =S126*H126 -> 0 | AR126: 4 | AT126: K | AU126: 2 | AY126: ROZPOCET | BE126: =IF(N126="základní",J126,0) -> 0 | BF126: =IF(N126="snížená",J126,0) -> 0 | BG126: =IF(N126="zákl. přenesená",J126,0) -> 0 | BH126: =IF(N126="sníž. přenesená",J126,0) -> 0 | BI126: =IF(N126="nulová",J126,0) -> 0 | BJ126: 1 | BK126: =ROUND(I126*H126,2) -> 0 | BL126: 4 | BM126: 913697616
D127: PP | F127: Vodorovné přemístění výkopku nebo sypaniny po suchu na obvyklém dopravním prostředku, bez naložení výkopku, avšak se složením bez rozhrnutí z horniny třídy těžitelnosti I skupiny 1 až 3 na vzdálenost přes 50 do 500 m | AT127: PP | AU127: 2
D128: P | F128: Poznámka k položce:_x000D_ Bližší a přesné údaje viz PD D3a, D3a_01_TZ, D3a_02_sit, D3a_03_04_PV_KS_uložení potrubí, D3a_03_PV PP, D3a_04_PK PP_ulo | AT128: P | AU128: 2
D129: VV | F129: "lože a obsyp" 68,04 | H129: 68.04 | AT129: VV | AU129: 2 | AV129: 2 | AW129: True | AX129: 0 | AY129: ROZPOCET
D130: VV | F130: Součet | H130: 68.04 | AT130: VV | AU130: 2 | AV130: 4 | AW130: True | AX130: 1 | AY130: ROZPOCET
C131: 10 | D131: K | E131: 175151101 | F131: Obsypání potrubí strojně sypaninou bez prohození, uloženou do 3 m | G131: m3 | H131: 68.04 | J131: =ROUND(I131*H131,2) -> 0 | N131: základní | P131: =O131*H131 -> 0 | Q131: 0 | R131: =Q131*H131 -> 0 | S131: 0 | T131: =S131*H131 -> 0 | AR131: 4 | AT131: K | AU131: 2 | AY131: ROZPOCET | BE131: =IF(N131="základní",J131,0) -> 0 | BF131: =IF(N131="snížená",J131,0) -> 0 | BG131: =IF(N131="zákl. přenesená",J131,0) -> 0 | BH131: =IF(N131="sníž. přenesená",J131,0) -> 0 | BI131: =IF(N131="nulová",J131,0) -> 0 | BJ131: 1 | BK131: =ROUND(I131*H131,2) -> 0 | BL131: 4 | BM131: 244133219
D132: PP | F132: Obsypání potrubí strojně sypaninou z vhodných třídy těžitelnosti I a II, skupiny 1 až 4 nebo materiálem připraveným podél výkopu ve vzdálenosti do 3 m od jeho kraje, pro jakoukoliv hloubku výkopu a míru zhutnění bez prohození sypaniny | AT132: PP | AU132: 2
D133: P | F133: Poznámka k položce:_x000D_ Bližší a přesné údaje viz PD D3a, D3a_01_TZ, D3a_02_sit, D3a_03_04_PV_KS_uložení potrubí, D3a_03_PV PP, D3a_04_PK PP_ulo | AT133: P | AU133: 2
...

Sheet SO 03.b.1 - Odvodnění - z...
AT2: {d3f81324-ca52-4308-863d-c12319876a3e}
AT3: 2
D4: KRYCÍ LIST SOUPISU PRACÍ | M4: v --- níže se nacházejí doplnkové a pomocné údaje k sestavám --- v | AT4: False
D6: Stavba:
E7: ='Rekapitulace stavby'!K6 -> Lesopark Na Kolečku-DPS - revize
D8: Objekt:
E9: 01 - 1. ETAPA
D10: Soupis:
E11: SO 03.b - Odvodnění
D12: Úroveň 3:
E13: SO 03.b.1 - Odvodnění - způsobilé náklady
D15: KSO: | F15: 823 27 11 | I15: CC-CZ:
D16: Místo: | F16: Roudnice nad Labem | I16: Datum: | J16: ='Rekapitulace stavby'!AN8 -> 22. 5. 2024
D18: Zadavatel: | I18: IČ:
I19: DIČ:
D21: Účastník: | I21: IČ: | J21: ='Rekapitulace stavby'!AN13 -> Vyplň údaj
E22: ='Rekapitulace stavby'!E14 -> Vyplň údaj | I22: DIČ: | J22: ='Rekapitulace stavby'!AN14 -> Vyplň údaj
D24: Projektant: | I24: IČ:
E25: Land05 s.r.o. | I25: DIČ:
D27: Zpracovatel: | I27: IČ: | J27: 07206062
E28: Soloreal s.r.o. | I28: DIČ:
D30: Poznámka:
D34: Cena bez DPH | J34: =ROUND(J97, 2) -> 0
F36: Základ daně | I36: Sazba daně | J36: Výše daně
D37: DPH | E37: základní | F37: =ROUND((SUM(BE97:BE238)), 2) -> 0 | I37: 0.21 | J37: =ROUND(((SUM(BE97:BE238))*I37), 2) -> 0
E38: snížená | F38: =ROUND((SUM(BF97:BF238)), 2) -> 0 | I38: 0.12 | J38: =ROUND(((SUM(BF97:BF238))*I38), 2) -> 0
E39: zákl. přenesená | F39: =ROUND((SUM(BG97:BG238)), 2) -> 0 | I39: 0.21 | J39: =0 -> 0
E40: sníž. přenesená | F40: =ROUND((SUM(BH97:BH238)), 2) -> 0 | I40: 0.12 | J40: =0 -> 0
E41: nulová | F41: =ROUND((SUM(BI97:BI238)), 2) -> 0 | I41: 0 | J41: =0 -> 0
D43: Cena s DPH | G43: v | H43: CZK | J43: =SUM(J34:J41) -> 0
C49: REKAPITULACE ČLENĚNÍ SOUPISU PRACÍ
C51: Stavba:
E52: =E7 -> Lesopark Na Kolečku-DPS - revize
C53: Objekt:
E54: 01 - 1. ETAPA
C55: Soupis:
E56: SO 03.b - Odvodnění
C57: Úroveň 3:
E58: =E13 -> SO 03.b.1 - Odvodnění - způsobilé náklady
C60: Místo: | F60: =F16 -> Roudnice nad Labem | I60: Datum: | J60: =IF(J16="","",J16) -> 22. 5. 2024
C62: Zadavatel: | F62: =E19 | I62: Projektant: | J62: =E25 -> Land05 s.r.o.
C63: Účastník: | F63: =IF(E22="","",E22) -> Vyplň údaj | I63: Zpracovatel: | J63: =E28 -> Soloreal s.r.o.
C65: Kód dílu - Popis | J65: Cena celkem [CZK]
C67: Náklady stavby celkem | J67: =J97 -> 0 | AU67: -1
D68: HSV - Práce a dodávky HSV | J68: =J98 -> 0
D69: 1 - Zemní práce | J69: =J99 -> 0
D70: 4 - Vodorovné konstrukce | J70: =J202 -> 0
D71: 5 - Komunikace pozemní | J71: =J211 -> 0
D72: 8 - Trubní vedení | J72: =J215 -> 0
D73: 998 - Přesun hmot | J73: =J235 -> 0
C80: SOUPIS PRACÍ
C82: Stavba:
E83: =E7 -> Lesopark Na Kolečku-DPS - revize
C84: Objekt:
E85: 01 - 1. ETAPA
C86: Soupis:
E87: SO 03.b - Odvodnění
C88: Úroveň 3:
E89: =E13 -> SO 03.b.1 - Odvodnění - způsobilé náklady
C91: Místo: | F91: =F16 -> Roudnice nad Labem | I91: Datum: | J91: =IF(J16="","",J16) -> 22. 5. 2024
C93: Zadavatel: | F93: =E19 | I93: Projektant: | J93: =E25 -> Land05 s.r.o.
C94: Účastník: | F94: =IF(E22="","",E22) -> Vyplň údaj | I94: Zpracovatel: | J94: =E28 -> Soloreal s.r.o.
C96: PČ | D96: Typ | E96: Kód | F96: Popis | G96: MJ | H96: Množství | I96: J.cena [CZK] | J96: Cena celkem [CZK] | K96: Cenová soustava | N96: DPH | O96: J. Nh [h] | P96: Nh celkem [h] | Q96: J. hmotnost [t] | R96: Hmotnost celkem [t] | S96: J. suť [t] | T96: Suť Celkem [t]
C97: Náklady soupisu celkem | J97: =BK97 -> 0 | P97: =P98 -> 0 | R97: =R98 -> 57.826501 | T97: =T98 -> 0 | AT97: D | AU97: -1 | BK97: =BK98 -> 0
D98: D | E98: HSV | F98: Práce a dodávky HSV | J98: =BK98 -> 0 | P98: =P99+P202+P211+P215+P235 -> 0 | R98: =R99+R202+R211+R215+R235 -> 57.826501 | T98: =T99+T202+T211+T215+T235 -> 0 | AR98: 1 | AT98: D | AU98: 0 | AY98: ROZPOCET | BK98: =BK99+BK202+BK211+BK215+BK235 -> 0
D99: D | E99: 1 | F99: Zemní práce | J99: =BK99 -> 0 | P99: =SUM(P100:P201) -> 0 | R99: =SUM(R100:R201) -> 56.502 | T99: =SUM(T100:T201) -> 0 | AR99: 1 | AT99: D | AU99: 1 | AY99: ROZPOCET | BK99: =SUM(BK100:BK201) -> 0
C100: 1 | D100: K | E100: 1190051.R | F100: Vytyčení bodů pro odvodnění dle projektové dokumentace přes 250 kusů | G100: kus | H100: 392 | J100: =ROUND(I100*H100,2) -> 0 | N100: základní | P100: =O100*H100 -> 0 | Q100: 0 | R100: =Q100*H100 -> 0 | S100: 0 | T100: =S100*H100 -> 0 | AR100: 64 | AT100: K | AU100: 2 | AY100: ROZPOCET | BE100: =IF(N100="základní",J100,0) -> 0 | BF100: =IF(N100="snížená",J100,0) -> 0 | BG100: =IF(N100="zákl. přenesená",J100,0) -> 0 | BH100: =IF(N100="sníž. přenesená",J100,0) -> 0 | BI100: =IF(N100="nulová",J100,0) -> 0 | BJ100: 1 | BK100: =ROUND(I100*H100,2) -> 0 | BL100: 64 | BM100: -183818788
D101: PP | F101: Vytyčení bodů pro odvodnění dle projektové dokumentace přes 250 kusů | AT101: PP | AU101: 2
D102: P | F102: Poznámka k položce:_x000D_ Bližší a přesné údaje viz PD D3b Odvodnění | AT102: P | AU102: 2
D103: VV | F103: 392 | H103: 392 | AT103: VV | AU103: 2 | AV103: 2 | AW103: True | AX103: 1 | AY103: ROZPOCET
C104: 2 | D104: K | E104: 121151125 | F104: Sejmutí ornice plochy přes 500 m2 tl vrstvy přes 250 do 300 mm strojně | G104: m2 | H104: 4008.11 | J104: =ROUND(I104*H104,2) -> 0 | N104: základní | P104: =O104*H104 -> 0 | Q104: 0 | R104: =Q104*H104 -> 0 | S104: 0 | T104: =S104*H104 -> 0 | AR104: 4 | AT104: K | AU104: 2 | AY104: ROZPOCET | BE104: =IF(N104="základní",J104,0) -> 0 | BF104: =IF(N104="snížená",J104,0) -> 0 | BG104: =IF(N104="zákl. přenesená",J104,0) -> 0 | BH104: =IF(N104="sníž. přenesená",J104,0) -> 0 | BI104: =IF(N104="nulová",J104,0) -> 0 | BJ104: 1 | BK104: =ROUND(I104*H104,2) -> 0 | BL104: 4 | BM104: 1402221515
D105: PP | F105: Sejmutí ornice strojně při souvislé ploše přes 500 m2, tl. vrstvy přes 250 do 300 mm | AT105: PP | AU105: 2
D106: P | F106: Poznámka k položce:_x000D_ Bližší a přesné údaje viz PD D3b Odvodnění | AT106: P | AU106: 2
D107: VV | F107: "průlehy P01-P13+vsakovací rýha"3645,54 | H107: 3645.54 | AT107: VV | AU107: 2 | AV107: 2 | AW107: True | AX107: 0 | AY107: ROZPOCET
D108: VV | F108: "záchytné příkopy" 362,57 | H108: 362.57 | AT108: VV | AU108: 2 | AV108: 2 | AW108: True | AX108: 0 | AY108: ROZPOCET
D109: VV | F109: Součet | H109: 4008.11 | AT109: VV | AU109: 2 | AV109: 4 | AW109: True | AX109: 1 | AY109: ROZPOCET
C110: 3 | D110: K | E110: 131251100 | F110: Hloubení jam nezapažených v hornině třídy těžitelnosti I skupiny 3 objem do 20 m3 strojně | G110: m3 | H110: 2.16 | J110: =ROUND(I110*H110,2) -> 0 | N110: základní | P110: =O110*H110 -> 0 | Q110: 0 | R110: =Q110*H110 -> 0 | S110: 0 | T110: =S110*H110 -> 0 | AR110: 4 | AT110: K | AU110: 2 | AY110: ROZPOCET | BE110: =IF(N110="základní",J110,0) -> 0 | BF110: =IF(N110="snížená",J110,0) -> 0 | BG110: =IF(N110="zákl. přenesená",J110,0) -> 0 | BH110: =IF(N110="sníž. přenesená",J110,0) -> 0 | BI110: =IF(N110="nulová",J110,0) -> 0 | BJ110: 1 | BK110: =ROUND(I110*H110,2) -> 0 | BL110: 4 | BM110: 1306849317
D111: PP | F111: Hloubení nezapažených jam a zářezů strojně s urovnáním dna do předepsaného profilu a spádu v hornině třídy těžitelnosti I skupiny 3 do 20 m3 | AT111: PP | AU111: 2
D112: P | F112: Poznámka k položce:_x000D_ Bližší a přesné údaje viz PD D3b Odvodnění | AT112: P | AU112: 2
D113: VV | F113: " výkop pro šachty průměr 425 mm" 0,6*0,6*1,5*4 | H113: 2.16 | AT113: VV | AU113: 2 | AV113: 2 | AW113: True | AX113: 1 | AY113: ROZPOCET
C114: 4 | D114: K | E114: 131251106 | F114: Hloubení jam nezapažených v hornině třídy těžitelnosti I skupiny 3 objem do 5000 m3 strojně | G114: m3 | H114: 1841.51 | J114: =ROUND(I114*H114,2) -> 0 | N114: základní | P114: =O114*H114 -> 0 | Q114: 0 | R114: =Q114*H114 -> 0 | S114: 0 | T114: =S114*H114 -> 0 | AR114: 4 | AT114: K | AU114: 2 | AY114: ROZPOCET | BE114: =IF(N114="základní",J114,0) -> 0 | BF114: =IF(N114="snížená",J114,0) -> 0 | BG114: =IF(N114="zákl. přenesená",J114,0) -> 0 | BH114: =IF(N114="sníž. přenesená",J114,0) -> 0 | BI114: =IF(N114="nulová",J114,0) -> 0 | BJ114: 1 | BK114: =ROUND(I114*H114,2) -> 0 | BL114: 4 | BM114: 906741561
D115: PP | F115: Hloubení nezapažených jam a zářezů strojně s urovnáním dna do předepsaného profilu a spádu v hornině třídy těžitelnosti I skupiny 3 přes 1 000 do 5 000 m3 | AT115: PP | AU115: 2
D116: P | F116: Poznámka k položce:_x000D_ Bližší a přesné údaje viz PD D3b Odvodnění | AT116: P | AU116: 2
D117: VV | F117: "Výkop jam vsakovací polštáře v průlezích" 406,03 | H117: 406.03 | AT117: VV | AU117: 2 | AV117: 2 | AW117: True | AX117: 0 | AY117: ROZPOCET
D118: VV | F118: "Celkový objem" 1357,22 | H118: 1357.22 | AT118: VV | AU118: 2 | AV118: 2 | AW118: True | AX118: 0 | AY118: ROZPOCET
D119: VV | F119: " výkop pro šachty průměr 425 mm" 0,6*0,6*1,5*4 | H119: 2.16 | AT119: VV | AU119: 2 | AV119: 2 | AW119: True | AX119: 0 | AY119: ROZPOCET
D120: VV | F120: "zatrubnění" 4,36 | H120: 4.36 | AT120: VV | AU120: 2 | AV120: 2 | AW120: True | AX120: 0 | AY120: ROZPOCET
D121: VV | F121: "větev 1" 35,94 | H121: 35.94 | AT121: VV | AU121: 2 | AV121: 2 | AW121: True | AX121: 0 | AY121: ROZPOCET
D122: VV | F122: "větev 1-1" 10,81 | H122: 10.81 | AT122: VV | AU122: 2 | AV122: 2 | AW122: True | AX122: 0 | AY122: ROZPOCET
D123: VV | F123: "větev 2" 19,37 | H123: 19.37 | AT123: VV | AU123: 2 | AV123: 2 | AW123: True | AX123: 0 | AY123: ROZPOCET
D124: VV | F124: "přepojení vpusti" 4,62 | H124: 4.62 | AT124: VV | AU124: 2 | AV124: 2 | AW124: True | AX124: 0 | AY124: ROZPOCET
D125: VV | F125: "drenáž pro pítko" 1,0 | H125: 1 | AT125: VV | AU125: 2 | AV125: 2 | AW125: True | AX125: 0 | AY125: ROZPOCET
D126: VV | F126: Součet | H126: 1841.51 | AT126: VV | AU126: 2 | AV126: 4 | AW126: True | AX126: 1 | AY126: ROZPOCET
C127: 5 | D127: K | E127: 132251101 | F127: Hloubení rýh nezapažených š do 800 mm v hornině třídy těžitelnosti I skupiny 3 objem do 20 m3 strojně | G127: m3 | H127: 76.1 | J127: =ROUND(I127*H127,2) -> 0 | N127: základní | P127: =O127*H127 -> 0 | Q127: 0 | R127: =Q127*H127 -> 0 | S127: 0 | T127: =S127*H127 -> 0 | AR127: 4 | AT127: K | AU127: 2 | AY127: ROZPOCET | BE127: =IF(N127="základní",J127,0) -> 0 | BF127: =IF(N127="snížená",J127,0) -> 0 | BG127: =IF(N127="zákl. přenesená",J127,0) -> 0 | BH127: =IF(N127="sníž. přenesená",J127,0) -> 0 | BI127: =IF(N127="nulová",J127,0) -> 0 | BJ127: 1 | BK127: =ROUND(I127*H127,2) -> 0 | BL127: 4 | BM127: -379227516
D128: PP | F128: Hloubení nezapažených rýh šířky do 800 mm strojně s urovnáním dna do předepsaného profilu a spádu v hornině třídy těžitelnosti I skupiny 3 do 20 m3 | AT128: PP | AU128: 2
D129: P | F129: Poznámka k položce:_x000D_ Bližší a přesné údaje viz PD D3b Odvodnění | AT129: P | AU129: 2
D130: VV | F130: "zatrubnění" 4,36 | H130: 4.36 | AT130: VV | AU130: 2 | AV130: 2 | AW130: True | AX130: 0 | AY130: ROZPOCET
D131: VV | F131: "větev 1" 35,94 | H131: 35.94 | AT131: VV | AU131: 2 | AV131: 2 | AW131: True | AX131: 0 | AY131: ROZPOCET
D132: VV | F132: "větev 1-1" 10,81 | H132: 10.81 | AT132: VV | AU132: 2 | AV132: 2 | AW132: True | AX132: 0 | AY132: ROZPOCET
D133: VV | F133: "větev 2" 19,37 | H133: 19.37 | AT133: VV | AU133: 2 | AV133: 2 | AW133: True | AX133: 0 | AY133: ROZPOCET
...

Sheet SO 03.b.2 - Odvodnění - n...
AT2: {91081f3e-d0ee-44c4-b7ba-66323b58a494}
AT3: 2
D4: KRYCÍ LIST SOUPISU PRACÍ | M4: v --- níže se nacházejí doplnkové a pomocné údaje k sestavám --- v | AT4: False
D6: Stavba:
E7: ='Rekapitulace stavby'!K6 -> Lesopark Na Kolečku-DPS - revize
D8: Objekt:
E9: 01 - 1. ETAPA
D10: Soupis:
E11: SO 03.b - Odvodnění
D12: Úroveň 3:
E13: SO 03.b.2 - Odvodnění - nezpůsobilé náklady
D15: KSO: | F15: 823 27 11 | I15: CC-CZ:
D16: Místo: | F16: Roudnice nad Labem | I16: Datum: | J16: ='Rekapitulace stavby'!AN8 -> 22. 5. 2024
D18: Zadavatel: | I18: IČ:
I19: DIČ:
D21: Účastník: | I21: IČ: | J21: ='Rekapitulace stavby'!AN13 -> Vyplň údaj
E22: ='Rekapitulace stavby'!E14 -> Vyplň údaj | I22: DIČ: | J22: ='Rekapitulace stavby'!AN14 -> Vyplň údaj
D24: Projektant: | I24: IČ:
E25: Land05 s.r.o. | I25: DIČ:
D27: Zpracovatel: | I27: IČ: | J27: 07206062
E28: Soloreal s.r.o. | I28: DIČ:
D30: Poznámka:
D34: Cena bez DPH | J34: =ROUND(J96, 2) -> 0
F36: Základ daně | I36: Sazba daně | J36: Výše daně
D37: DPH | E37: základní | F37: =ROUND((SUM(BE96:BE132)), 2) -> 0 | I37: 0.21 | J37: =ROUND(((SUM(BE96:BE132))*I37), 2) -> 0
E38: snížená | F38: =ROUND((SUM(BF96:BF132)), 2) -> 0 | I38: 0.12 | J38: =ROUND(((SUM(BF96:BF132))*I38), 2) -> 0
E39: zákl. přenesená | F39: =ROUND((SUM(BG96:BG132)), 2) -> 0 | I39: 0.21 | J39: =0 -> 0
E40: sníž. přenesená | F40: =ROUND((SUM(BH96:BH132)), 2) -> 0 | I40: 0.12 | J40: =0 -> 0
E41: nulová | F41: =ROUND((SUM(BI96:BI132)), 2) -> 0 | I41: 0 | J41: =0 -> 0
D43: Cena s DPH | G43: v | H43: CZK | J43: =SUM(J34:J41) -> 0
C49: REKAPITULACE ČLENĚNÍ SOUPISU PRACÍ
C51: Stavba:
E52: =E7 -> Lesopark Na Kolečku-DPS - revize
C53: Objekt:
E54: 01 - 1. ETAPA
C55: Soupis:
E56: SO 03.b - Odvodnění
C57: Úroveň 3:
E58: =E13 -> SO 03.b.2 - Odvodnění - nezpůsobilé náklady
C60: Místo: | F60: =F16 -> Roudnice nad Labem | I60: Datum: | J60: =IF(J16="","",J16) -> 22. 5. 2024
C62: Zadavatel: | F62: =E19 | I62: Projektant: | J62: =E25 -> Land05 s.r.o.
C63: Účastník: | F63: =IF(E22="","",E22) -> Vyplň údaj | I63: Zpracovatel: | J63: =E28 -> Soloreal s.r.o.
C65: Kód dílu - Popis | J65: Cena celkem [CZK]
C67: Náklady stavby celkem | J67: =J96 -> 0 | AU67: -1
D68: HSV - Práce a dodávky HSV | J68: =J97 -> 0
D69: 8 - Trubní vedení | J69: =J98 -> 0
D70: 998 - Přesun hmot | J70: =J114 -> 0
D71: M - Práce a dodávky M | J71: =J118 -> 0
D72: 46-M - Zemní práce při extr.mont.pracích | J72: =J119 -> 0
C79: SOUPIS PRACÍ
C81: Stavba:
E82: =E7 -> Lesopark Na Kolečku-DPS - revize
C83: Objekt:
E84: 01 - 1. ETAPA
C85: Soupis:
E86: SO 03.b - Odvodnění
C87: Úroveň 3:
E88: =E13 -> SO 03.b.2 - Odvodnění - nezpůsobilé náklady
C90: Místo: | F90: =F16 -> Roudnice nad Labem | I90: Datum: | J90: =IF(J16="","",J16) -> 22. 5. 2024
C92: Zadavatel: | F92: =E19 | I92: Projektant: | J92: =E25 -> Land05 s.r.o.
C93: Účastník: | F93: =IF(E22="","",E22) -> Vyplň údaj | I93: Zpracovatel: | J93: =E28 -> Soloreal s.r.o.
C95: PČ | D95: Typ | E95: Kód | F95: Popis | G95: MJ | H95: Množství | I95: J.cena [CZK] | J95: Cena celkem [CZK] | K95: Cenová soustava | N95: DPH | O95: J. Nh [h] | P95: Nh celkem [h] | Q95: J. hmotnost [t] | R95: Hmotnost celkem [t] | S95: J. suť [t] | T95: Suť Celkem [t]
C96: Náklady soupisu celkem | J96: =BK96 -> 0 | P96: =P97+P118 -> 0 | R96: =R97+R118 -> 1.517085 | T96: =T97+T118 -> 0 | AT96: D | AU96: -1 | BK96: =BK97+BK118 -> 0
D97: D | E97: HSV | F97: Práce a dodávky HSV | J97: =BK97 -> 0 | P97: =P98+P114 -> 0 | R97: =R98+R114 -> 0.305 | T97: =T98+T114 -> 0 | AR97: 1 | AT97: D | AU97: 0 | AY97: ROZPOCET | BK97: =BK98+BK114 -> 0
D98: D | E98: 8 | F98: Trubní vedení | J98: =BK98 -> 0 | P98: =SUM(P99:P113) -> 0 | R98: =SUM(R99:R113) -> 0.305 | T98: =SUM(T99:T113) -> 0 | AR98: 1 | AT98: D | AU98: 1 | AY98: ROZPOCET | BK98: =SUM(BK99:BK113) -> 0
C99: 1 | D99: K | E99: 8948122.R | F99: Revizní plastová šachta DN425 s betonovým poklopem B125 hl 1,5 m | G99: kus | H99: 4 | J99: =ROUND(I99*H99,2) -> 0 | N99: základní | P99: =O99*H99 -> 0 | Q99: 0.05803 | R99: =Q99*H99 -> 0.23212 | S99: 0 | T99: =S99*H99 -> 0 | AR99: 4 | AT99: K | AU99: 2 | AY99: ROZPOCET | BE99: =IF(N99="základní",J99,0) -> 0 | BF99: =IF(N99="snížená",J99,0) -> 0 | BG99: =IF(N99="zákl. přenesená",J99,0) -> 0 | BH99: =IF(N99="sníž. přenesená",J99,0) -> 0 | BI99: =IF(N99="nulová",J99,0) -> 0 | BJ99: 1 | BK99: =ROUND(I99*H99,2) -> 0 | BL99: 4 | BM99: -195061176
D100: PP | F100: Revizní plastová šachta DN425 s betonovým poklopem B125 hl 1,5 m | AT100: PP | AU100: 2
D101: P | F101: Poznámka k položce:_x000D_ Bližší a přesné údaje viz PD D3b Odvodnění | AT101: P | AU101: 2
D102: VV | F102: 4 | H102: 4 | AT102: VV | AU102: 2 | AV102: 2 | AW102: True | AX102: 1 | AY102: ROZPOCET
C103: 2 | D103: K | E103: 8948123.R | F103: Dvorní vpusť prefa. betonová Ø 300, s kalovým košem a a litinovou mříží A30 300x300 | G103: kus | H103: 1 | J103: =ROUND(I103*H103,2) -> 0 | N103: základní | P103: =O103*H103 -> 0 | Q103: 0.01136 | R103: =Q103*H103 -> 0.01136 | S103: 0 | T103: =S103*H103 -> 0 | AR103: 4 | AT103: K | AU103: 2 | AY103: ROZPOCET | BE103: =IF(N103="základní",J103,0) -> 0 | BF103: =IF(N103="snížená",J103,0) -> 0 | BG103: =IF(N103="zákl. přenesená",J103,0) -> 0 | BH103: =IF(N103="sníž. přenesená",J103,0) -> 0 | BI103: =IF(N103="nulová",J103,0) -> 0 | BJ103: 1 | BK103: =ROUND(I103*H103,2) -> 0 | BL103: 4 | BM103: 418925171
D104: PP | F104: Dvorní vpusť prefa. betonová Ø 300, s kalovým košem a a litinovou mříží A30 300x300 | AT104: PP | AU104: 2
D105: P | F105: Poznámka k položce:_x000D_ Bližší a přesné údaje viz PD D3b Odvodnění | AT105: P | AU105: 2
D106: VV | F106: 1 | H106: 1 | AT106: VV | AU106: 2 | AV106: 2 | AW106: True | AX106: 1 | AY106: ROZPOCET
C107: 3 | D107: K | E107: 8948124.R | F107: Výměna stávající vpusti pro napojení VP3 (Uliční vpusť prefa. betonová Ø450 s kalovým košem a litinovou mříží D400) | G107: kus | H107: 1 | J107: =ROUND(I107*H107,2) -> 0 | N107: základní | P107: =O107*H107 -> 0 | Q107: 0 | R107: =Q107*H107 -> 0 | S107: 0 | T107: =S107*H107 -> 0 | AR107: 4 | AT107: K | AU107: 2 | AY107: ROZPOCET | BE107: =IF(N107="základní",J107,0) -> 0 | BF107: =IF(N107="snížená",J107,0) -> 0 | BG107: =IF(N107="zákl. přenesená",J107,0) -> 0 | BH107: =IF(N107="sníž. přenesená",J107,0) -> 0 | BI107: =IF(N107="nulová",J107,0) -> 0 | BJ107: 1 | BK107: =ROUND(I107*H107,2) -> 0 | BL107: 4 | BM107: 1476269978
D108: PP | F108: Výměna stávající vpusti pro napojení VP3 (Uliční vpusť prefa. betonová Ø450 s kalovým košem a litinovou mříží D400) | AT108: PP | AU108: 2
D109: P | F109: Poznámka k položce:_x000D_ Bližší a přesné údaje viz PD D3b Odvodnění | AT109: P | AU109: 2
D110: VV | F110: 1 | H110: 1 | AT110: VV | AU110: 2 | AV110: 2 | AW110: True | AX110: 1 | AY110: ROZPOCET
C111: 4 | D111: K | E111: 8959413.R | F111: D+M Uliční vpusť prefa. betonová Ø450 s kalovým košem a litinovou mříží B125 D400 | G111: kus | H111: 2 | J111: =ROUND(I111*H111,2) -> 0 | N111: základní | P111: =O111*H111 -> 0 | Q111: 0.03076 | R111: =Q111*H111 -> 0.06152 | S111: 0 | T111: =S111*H111 -> 0 | AR111: 4 | AT111: K | AU111: 2 | AY111: ROZPOCET | BE111: =IF(N111="základní",J111,0) -> 0 | BF111: =IF(N111="snížená",J111,0) -> 0 | BG111: =IF(N111="zákl. přenesená",J111,0) -> 0 | BH111: =IF(N111="sníž. přenesená",J111,0) -> 0 | BI111: =IF(N111="nulová",J111,0) -> 0 | BJ111: 1 | BK111: =ROUND(I111*H111,2) -> 0 | BL111: 4 | BM111: 262953171
D112: PP | F112: D+M Uliční vpusť prefa. betonová Ø450 s kalovým košem a litinovou mříží B125 D400 | AT112: PP | AU112: 2
D113: P | F113: Poznámka k položce:_x000D_ Bližší a přesné údaje viz PD D3b Odvodnění | AT113: P | AU113: 2
D114: D | E114: 998 | F114: Přesun hmot | J114: =BK114 -> 0 | P114: =SUM(P115:P117) -> 0 | R114: =SUM(R115:R117) -> 0 | T114: =SUM(T115:T117) -> 0 | AR114: 1 | AT114: D | AU114: 1 | AY114: ROZPOCET | BK114: =SUM(BK115:BK117) -> 0
C115: 5 | D115: K | E115: 998311011 | F115: Přesun hmot pro odvodnění drenáží bez výplně rýh | G115: t | H115: 0.305 | J115: =ROUND(I115*H115,2) -> 0 | N115: základní | P115: =O115*H115 -> 0 | Q115: 0 | R115: =Q115*H115 -> 0 | S115: 0 | T115: =S115*H115 -> 0 | AR115: 4 | AT115: K | AU115: 2 | AY115: ROZPOCET | BE115: =IF(N115="základní",J115,0) -> 0 | BF115: =IF(N115="snížená",J115,0) -> 0 | BG115: =IF(N115="zákl. přenesená",J115,0) -> 0 | BH115: =IF(N115="sníž. přenesená",J115,0) -> 0 | BI115: =IF(N115="nulová",J115,0) -> 0 | BJ115: 1 | BK115: =ROUND(I115*H115,2) -> 0 | BL115: 4 | BM115: -227492825
D116: PP | F116: Přesun hmot pro odvodnění drenáží bez výplně rýh dopravní vzdálenost do 1 000 m | AT116: PP | AU116: 2
D117: P | F117: Poznámka k položce:_x000D_ Bližší a přesné údaje viz PD D3b Odvodnění | AT117: P | AU117: 2
D118: D | E118: M | F118: Práce a dodávky M | J118: =BK118 -> 0 | P118: =P119 -> 0 | R118: =R119 -> 1.212085 | T118: =T119 -> 0 | AR118: 3 | AT118: D | AU118: 0 | AY118: ROZPOCET | BK118: =BK119 -> 0
D119: D | E119: 46-M | F119: Zemní práce při extr.mont.pracích | J119: =BK119 -> 0 | P119: =SUM(P120:P132) -> 0 | R119: =SUM(R120:R132) -> 1.212085 | T119: =SUM(T120:T132) -> 0 | AR119: 3 | AT119: D | AU119: 1 | AY119: ROZPOCET | BK119: =SUM(BK120:BK132) -> 0
C120: 6 | D120: K | E120: 460881511 | F120: Kladení dlažby z kostek žulových velkých do lože z betonu | G120: m2 | H120: 3.5 | J120: =ROUND(I120*H120,2) -> 0 | N120: základní | P120: =O120*H120 -> 0 | Q120: 0.1837 | R120: =Q120*H120 -> 0.64295 | S120: 0 | T120: =S120*H120 -> 0 | AR120: 64 | AT120: K | AU120: 2 | AY120: ROZPOCET | BE120: =IF(N120="základní",J120,0) -> 0 | BF120: =IF(N120="snížená",J120,0) -> 0 | BG120: =IF(N120="zákl. přenesená",J120,0) -> 0 | BH120: =IF(N120="sníž. přenesená",J120,0) -> 0 | BI120: =IF(N120="nulová",J120,0) -> 0 | BJ120: 1 | BK120: =ROUND(I120*H120,2) -> 0 | BL120: 64 | BM120: -92244639
D121: PP | F121: Kladení dlažby z kostek žulových velkých do lože z betonu | AT121: PP | AU121: 2
D122: P | F122: Poznámka k položce:_x000D_ Bližší a přesné údaje viz PD D3b Odvodnění | AT122: P | AU122: 2
D123: VV | F123: "obklad vyústních objektů" 1,0*3 | H123: 3 | AT123: VV | AU123: 2 | AV123: 2 | AW123: True | AX123: 0 | AY123: ROZPOCET
D124: VV | F124: "fixace poklopu ovl. soupravy" 0,5 | H124: 0.5 | AT124: VV | AU124: 2 | AV124: 2 | AW124: True | AX124: 0 | AY124: ROZPOCET
D125: VV | F125: Součet | H125: 3.5 | AT125: VV | AU125: 2 | AV125: 4 | AW125: True | AX125: 1 | AY125: ROZPOCET
C126: 7 | D126: M | E126: 58381013 | F126: kostka řezanoštípaná dlažební žula 10x10x6cm | G126: m2 | H126: 3.535 | J126: =ROUND(I126*H126,2) -> 0 | N126: základní | P126: =O126*H126 -> 0 | Q126: 0.161 | R126: =Q126*H126 -> 0.569135 | S126: 0 | T126: =S126*H126 -> 0 | AR126: 128 | AT126: M | AU126: 2 | AY126: ROZPOCET | BE126: =IF(N126="základní",J126,0) -> 0 | BF126: =IF(N126="snížená",J126,0) -> 0 | BG126: =IF(N126="zákl. přenesená",J126,0) -> 0 | BH126: =IF(N126="sníž. přenesená",J126,0) -> 0 | BI126: =IF(N126="nulová",J126,0) -> 0 | BJ126: 1 | BK126: =ROUND(I126*H126,2) -> 0 | BL126: 128 | BM126: 1052611220
D127: PP | F127: kostka řezanoštípaná dlažební žula 10x10x6cm | AT127: PP | AU127: 2
D128: P | F128: Poznámka k položce:_x000D_ Bližší a přesné údaje viz PD D3b Odvodnění | AT128: P | AU128: 2
D129: VV | F129: "obklad vyústních objektů" 1,0*3 | H129: 3 | AT129: VV | AU129: 2 | AV129: 2 | AW129: True | AX129: 0 | AY129: ROZPOCET
D130: VV | F130: "fixace poklopu ovl. soupravy" 0,5 | H130: 0.5 | AT130: VV | AU130: 2 | AV130: 2 | AW130: True | AX130: 0 | AY130: ROZPOCET
D131: VV | F131: Součet | H131: 3.5 | AT131: VV | AU131: 2 | AV131: 4 | AW131: True | AX131: 0 | AY131: ROZPOCET
D132: VV | F132: 3,5*1,01 "Přepočtené koeficientem množství | H132: 3.535 | AT132: VV | AU132: 2 | AV132: 2 | AW132: True | AX132: 1 | AY132: ROZPOCET

Sheet SO 05 - Drobná architektura
AT2: {f127d2fa-00d8-44cb-ab64-1c551d41b5cb}
AT3: 2
D4: KRYCÍ LIST SOUPISU PRACÍ | M4: v --- níže se nacházejí doplnkové a pomocné údaje k sestavám --- v | AT4: False
D6: Stavba:
E7: ='Rekapitulace stavby'!K6 -> Lesopark Na Kolečku-DPS - revize
D8: Objekt:
E9: 01 - 1. ETAPA
D10: Soupis:
E11: SO 05 - Drobná architektura
D13: KSO: | F13: 823 27 11 | I13: CC-CZ:
D14: Místo: | F14: Roudnice nad Labem | I14: Datum: | J14: ='Rekapitulace stavby'!AN8 -> 22. 5. 2024
D16: Zadavatel: | I16: IČ:
I17: DIČ:
D19: Účastník: | I19: IČ: | J19: ='Rekapitulace stavby'!AN13 -> Vyplň údaj
E20: ='Rekapitulace stavby'!E14 -> Vyplň údaj | I20: DIČ: | J20: ='Rekapitulace stavby'!AN14 -> Vyplň údaj
D22: Projektant: | I22: IČ:
E23: Land05 s.r.o. | I23: DIČ:
D25: Zpracovatel: | I25: IČ: | J25: 07206062
E26: Soloreal s.r.o. | I26: DIČ:
D28: Poznámka:
D32: Cena bez DPH | J32: =ROUND(J93, 2) -> 0
F34: Základ daně | I34: Sazba daně | J34: Výše daně
D35: DPH | E35: základní | F35: =ROUND((SUM(BE93:BE231)), 2) -> 0 | I35: 0.21 | J35: =ROUND(((SUM(BE93:BE231))*I35), 2) -> 0
E36: snížená | F36: =ROUND((SUM(BF93:BF231)), 2) -> 0 | I36: 0.12 | J36: =ROUND(((SUM(BF93:BF231))*I36), 2) -> 0
E37: zákl. přenesená | F37: =ROUND((SUM(BG93:BG231)), 2) -> 0 | I37: 0.21 | J37: =0 -> 0
E38: sníž. přenesená | F38: =ROUND((SUM(BH93:BH231)), 2) -> 0 | I38: 0.12 | J38: =0 -> 0
E39: nulová | F39: =ROUND((SUM(BI93:BI231)), 2) -> 0 | I39: 0 | J39: =0 -> 0
D41: Cena s DPH | G41: v | H41: CZK | J41: =SUM(J32:J39) -> 0
C47: REKAPITULACE ČLENĚNÍ SOUPISU PRACÍ
C49: Stavba:
E50: =E7 -> Lesopark Na Kolečku-DPS - revize
C51: Objekt:
E52: 01 - 1. ETAPA
C53: Soupis:
E54: =E11 -> SO 05 - Drobná architektura
C56: Místo: | F56: =F14 -> Roudnice nad Labem | I56: Datum: | J56: =IF(J14="","",J14) -> 22. 5. 2024
C58: Zadavatel: | F58: =E17 | I58: Projektant: | J58: =E23 -> Land05 s.r.o.
C59: Účastník: | F59: =IF(E20="","",E20) -> Vyplň údaj | I59: Zpracovatel: | J59: =E26 -> Soloreal s.r.o.
C61: Kód dílu - Popis | J61: Cena celkem [CZK]
C63: Náklady stavby celkem | J63: =J93 -> 0 | AU63: -1
D64: HSV - Práce a dodávky HSV | J64: =J94 -> 0
D65: 1 - Zemní práce | J65: =J95 -> 0
D66: 2 - Zakládání | J66: =J146 -> 0
D67: 5 - Komunikace pozemní | J67: =J156 -> 0
D68: 9 - Ostatní konstrukce a práce, bourání | J68: =J176 -> 0
D69: 998 - Přesun hmot | J69: =J189 -> 0
D70: PSV - Práce a dodávky PSV | J70: =J193 -> 0
D71: 767 - Konstrukce zámečnické | J71: =J194 -> 0
C78: SOUPIS PRACÍ
C80: Stavba:
E81: =E7 -> Lesopark Na Kolečku-DPS - revize
C82: Objekt:
E83: 01 - 1. ETAPA
C84: Soupis:
E85: =E11 -> SO 05 - Drobná architektura
C87: Místo: | F87: =F14 -> Roudnice nad Labem | I87: Datum: | J87: =IF(J14="","",J14) -> 22. 5. 2024
C89: Zadavatel: | F89: =E17 | I89: Projektant: | J89: =E23 -> Land05 s.r.o.
C90: Účastník: | F90: =IF(E20="","",E20) -> Vyplň údaj | I90: Zpracovatel: | J90: =E26 -> Soloreal s.r.o.
C92: PČ | D92: Typ | E92: Kód | F92: Popis | G92: MJ | H92: Množství | I92: J.cena [CZK] | J92: Cena celkem [CZK] | K92: Cenová soustava | N92: DPH | O92: J. Nh [h] | P92: Nh celkem [h] | Q92: J. hmotnost [t] | R92: Hmotnost celkem [t] | S92: J. suť [t] | T92: Suť Celkem [t]
C93: Náklady soupisu celkem | J93: =BK93 -> 0 | P93: =P94+P193 -> 0 | R93: =R94+R193 -> 69.246976 | T93: =T94+T193 -> 0 | AT93: D | AU93: -1 | BK93: =BK94+BK193 -> 0
D94: D | E94: HSV | F94: Práce a dodávky HSV | J94: =BK94 -> 0 | P94: =P95+P146+P156+P176+P189 -> 0 | R94: =R95+R146+R156+R176+R189 -> 69.246976 | T94: =T95+T146+T156+T176+T189 -> 0 | AR94: 1 | AT94: D | AU94: 0 | AY94: ROZPOCET | BK94: =BK95+BK146+BK156+BK176+BK189 -> 0
D95: D | E95: 1 | F95: Zemní práce | J95: =BK95 -> 0 | P95: =SUM(P96:P145) -> 0 | R95: =SUM(R96:R145) -> 0 | T95: =SUM(T96:T145) -> 0 | AR95: 1 | AT95: D | AU95: 1 | AY95: ROZPOCET | BK95: =SUM(BK96:BK145) -> 0
C96: 1 | D96: K | E96: 121151105 | F96: Sejmutí ornice plochy do 100 m2 tl vrstvy přes 250 do 300 mm strojně | G96: m2 | H96: 150.24 | J96: =ROUND(I96*H96,2) -> 0 | N96: základní | P96: =O96*H96 -> 0 | Q96: 0 | R96: =Q96*H96 -> 0 | S96: 0 | T96: =S96*H96 -> 0 | AR96: 4 | AT96: K | AU96: 2 | AY96: ROZPOCET | BE96: =IF(N96="základní",J96,0) -> 0 | BF96: =IF(N96="snížená",J96,0) -> 0 | BG96: =IF(N96="zákl. přenesená",J96,0) -> 0 | BH96: =IF(N96="sníž. přenesená",J96,0) -> 0 | BI96: =IF(N96="nulová",J96,0) -> 0 | BJ96: 1 | BK96: =ROUND(I96*H96,2) -> 0 | BL96: 4 | BM96: -1703643627
D97: PP | F97: Sejmutí ornice strojně při souvislé ploše do 100 m2, tl. vrstvy přes 250 do 300 mm | AT97: PP | AU97: 2
D98: P | F98: Poznámka k položce:_x000D_ Bližší a přesné údaje viz PD D 5 1, D 5 2 1-D 5 2 10, statika vyhlídka kolečko, statika Zeď Mrak | AT98: P | AU98: 2
D99: VV | F99: "cortenová kolečka" 25,52*5 | H99: 127.6 | AT99: VV | AU99: 2 | AV99: 2 | AW99: True | AX99: 0 | AY99: ROZPOCET
D100: VV | F100: "kolo vyhlídka" 0,6*1,6*2 | H100: 1.92 | AT100: VV | AU100: 2 | AV100: 2 | AW100: True | AX100: 0 | AY100: ROZPOCET
D101: VV | F101: "bedna na síť" 0,5*0,5*6 | H101: 1.5 | AT101: VV | AU101: 2 | AV101: 2 | AW101: True | AX101: 0 | AY101: ROZPOCET
D102: VV | F102: "zábradlí" 0,5*0,5*10 | H102: 2.5 | AT102: VV | AU102: 2 | AV102: 2 | AW102: True | AX102: 0 | AY102: ROZPOCET
D103: VV | F103: "zeď Mrak" 1,9*4,4*2 | H103: 16.72 | AT103: VV | AU103: 2 | AV103: 2 | AW103: True | AX103: 0 | AY103: ROZPOCET
D104: VV | F104: Součet | H104: 150.24 | AT104: VV | AU104: 2 | AV104: 4 | AW104: True | AX104: 1 | AY104: ROZPOCET
C105: 2 | D105: K | E105: 122251102 | F105: Odkopávky a prokopávky nezapažené v hornině třídy těžitelnosti I skupiny 3 objem do 50 m3 strojně | G105: m3 | H105: 49.7 | J105: =ROUND(I105*H105,2) -> 0 | N105: základní | P105: =O105*H105 -> 0 | Q105: 0 | R105: =Q105*H105 -> 0 | S105: 0 | T105: =S105*H105 -> 0 | AR105: 4 | AT105: K | AU105: 2 | AY105: ROZPOCET | BE105: =IF(N105="základní",J105,0) -> 0 | BF105: =IF(N105="snížená",J105,0) -> 0 | BG105: =IF(N105="zákl. přenesená",J105,0) -> 0 | BH105: =IF(N105="sníž. přenesená",J105,0) -> 0 | BI105: =IF(N105="nulová",J105,0) -> 0 | BJ105: 1 | BK105: =ROUND(I105*H105,2) -> 0 | BL105: 4 | BM105: -1320356586
D106: PP | F106: Odkopávky a prokopávky nezapažené strojně v hornině třídy těžitelnosti I skupiny 3 přes 20 do 50 m3 | AT106: PP | AU106: 2
D107: P | F107: Poznámka k položce:_x000D_ Bližší a přesné údaje viz PD D 5 1, D 5 2 1-D 5 2 10, statika vyhlídka kolečko, statika Zeď Mrak | AT107: P | AU107: 2
D108: VV | F108: "cortenová kolečka" (10,1*0,6)*5 | H108: 30.3 | AT108: VV | AU108: 2 | AV108: 2 | AW108: True | AX108: 0 | AY108: ROZPOCET
D109: VV | F109: "kolo vyhlídka" (0,6*1,6*0,6)*2 | H109: 1.152 | AT109: VV | AU109: 2 | AV109: 2 | AW109: True | AX109: 0 | AY109: ROZPOCET
D110: VV | F110: "bedna na síť" 0,5*0,5*0,8*6 | H110: 1.2 | AT110: VV | AU110: 2 | AV110: 2 | AW110: True | AX110: 0 | AY110: ROZPOCET
D111: VV | F111: "zábradlí" 0,5*0,5*0,8*10 | H111: 2 | AT111: VV | AU111: 2 | AV111: 2 | AW111: True | AX111: 0 | AY111: ROZPOCET
D112: VV | F112: "zeď Mrak" 1,9*4,4*0,9*2 | H112: 15.048 | AT112: VV | AU112: 2 | AV112: 2 | AW112: True | AX112: 0 | AY112: ROZPOCET
D113: VV | F113: Součet | H113: 49.7 | AT113: VV | AU113: 2 | AV113: 4 | AW113: True | AX113: 1 | AY113: ROZPOCET
C114: 3 | D114: K | E114: 162351103 | F114: Vodorovné přemístění přes 50 do 500 m výkopku/sypaniny z horniny třídy těžitelnosti I skupiny 1 až 3 | G114: m3 | H114: 94.022 | J114: =ROUND(I114*H114,2) -> 0 | N114: základní | P114: =O114*H114 -> 0 | Q114: 0 | R114: =Q114*H114 -> 0 | S114: 0 | T114: =S114*H114 -> 0 | AR114: 4 | AT114: K | AU114: 2 | AY114: ROZPOCET | BE114: =IF(N114="základní",J114,0) -> 0 | BF114: =IF(N114="snížená",J114,0) -> 0 | BG114: =IF(N114="zákl. přenesená",J114,0) -> 0 | BH114: =IF(N114="sníž. přenesená",J114,0) -> 0 | BI114: =IF(N114="nulová",J114,0) -> 0 | BJ114: 1 | BK114: =ROUND(I114*H114,2) -> 0 | BL114: 4 | BM114: 1259737616
D115: PP | F115: Vodorovné přemístění výkopku nebo sypaniny po suchu na obvyklém dopravním prostředku, bez naložení výkopku, avšak se složením bez rozhrnutí z horniny třídy těžitelnosti I skupiny 1 až 3 na vzdálenost přes 50 do 500 m | AT115: PP | AU115: 2
D116: P | F116: Poznámka k položce:_x000D_ Bližší a přesné údaje viz PD D 5 1, D 5 2 1-D 5 2 10, statika vyhlídka kolečko, statika Zeď Mrak | AT116: P | AU116: 2
D117: VV | F117: "Ornice:" | AT117: VV | AU117: 2 | AV117: 1 | AW117: True | AX117: 0 | AY117: ROZPOCET
D118: VV | F118: "cortenová kolečka" 25,52*0,3*5 | H118: 38.28 | AT118: VV | AU118: 2 | AV118: 2 | AW118: True | AX118: 0 | AY118: ROZPOCET
D119: VV | F119: "kolo vyhlídka" 0,6*1,6*0,3*2 | H119: 0.576 | AT119: VV | AU119: 2 | AV119: 2 | AW119: True | AX119: 0 | AY119: ROZPOCET
D120: VV | F120: "bedna na síť" 0,5*0,5*0,3*6 | H120: 0.45 | AT120: VV | AU120: 2 | AV120: 2 | AW120: True | AX120: 0 | AY120: ROZPOCET
D121: VV | F121: "zábradlí" 0,5*0,5*0,3*10 | H121: 0.75 | AT121: VV | AU121: 2 | AV121: 2 | AW121: True | AX121: 0 | AY121: ROZPOCET
D122: VV | F122: "zeď Mrak" 1,9*4,4*0,3*2 | H122: 5.016 | AT122: VV | AU122: 2 | AV122: 2 | AW122: True | AX122: 0 | AY122: ROZPOCET
D123: VV | F123: "Výkopek:" | AT123: VV | AU123: 2 | AV123: 1 | AW123: True | AX123: 0 | AY123: ROZPOCET
D124: VV | F124: "cortenová kolečka" (10,1*0,6)*5 | H124: 30.3 | AT124: VV | AU124: 2 | AV124: 2 | AW124: True | AX124: 0 | AY124: ROZPOCET
D125: VV | F125: "kolo vyhlídka" (0,6*1,6*0,6)*2 | H125: 1.152 | AT125: VV | AU125: 2 | AV125: 2 | AW125: True | AX125: 0 | AY125: ROZPOCET
D126: VV | F126: "bedna na síť" 0,5*0,5*0,8*6 | H126: 1.2 | AT126: VV | AU126: 2 | AV126: 2 | AW126: True | AX126: 0 | AY126: ROZPOCET
D127: VV | F127: "zábradlí" 0,5*0,5*0,5*10 | H127: 1.25 | AT127: VV | AU127: 2 | AV127: 2 | AW127: True | AX127: 0 | AY127: ROZPOCET
D128: VV | F128: "zeď Mrak" 1,9*4,4*0,9*2 | H128: 15.048 | AT128: VV | AU128: 2 | AV128: 2 | AW128: True | AX128: 0 | AY128: ROZPOCET
D129: VV | F129: Součet | H129: 94.022 | AT129: VV | AU129: 2 | AV129: 4 | AW129: True | AX129: 1 | AY129: ROZPOCET
C130: 4 | D130: K | E130: 167151101 | F130: Nakládání výkopku z hornin třídy těžitelnosti I skupiny 1 až 3 do 100 m3 | G130: m3 | H130: 94.022 | J130: =ROUND(I130*H130,2) -> 0 | N130: základní | P130: =O130*H130 -> 0 | Q130: 0 | R130: =Q130*H130 -> 0 | S130: 0 | T130: =S130*H130 -> 0 | AR130: 4 | AT130: K | AU130: 2 | AY130: ROZPOCET | BE130: =IF(N130="základní",J130,0) -> 0 | BF130: =IF(N130="snížená",J130,0) -> 0 | BG130: =IF(N130="zákl. přenesená",J130,0) -> 0 | BH130: =IF(N130="sníž. přenesená",J130,0) -> 0 | BI130: =IF(N130="nulová",J130,0) -> 0 | BJ130: 1 | BK130: =ROUND(I130*H130,2) -> 0 | BL130: 4 | BM130: 1325362287
D131: PP | F131: Nakládání, skládání a překládání neulehlého výkopku nebo sypaniny strojně nakládání, množství do 100 m3, z horniny třídy těžitelnosti I, skupiny 1 až 3 | AT131: PP | AU131: 2
D132: P | F132: Poznámka k položce:_x000D_ Bližší a přesné údaje viz PD D 5 1, D 5 2 1-D 5 2 10, statika vyhlídka kolečko, statika Zeď Mrak | AT132: P | AU132: 2
D133: VV | F133: "Ornice:" | AT133: VV | AU133: 2 | AV133: 1 | AW133: True | AX133: 0 | AY133: ROZPOCET
...

Sheet SO 06.1 - Krajinářské úpr...
AT2: {170b0904-732c-49f6-a0a9-ab6ead5f3eea}
AT3: 2
D4: KRYCÍ LIST SOUPISU PRACÍ | M4: v --- níže se nacházejí doplnkové a pomocné údaje k sestavám --- v | AT4: False
D6: Stavba:
E7: ='Rekapitulace stavby'!K6 -> Lesopark Na Kolečku-DPS - revize
D8: Objekt:
E9: 01 - 1. ETAPA
D10: Soupis:
E11: SO 06 - Krajinářské úpravy
D12: Úroveň 3:
E13: SO 06.1 - Krajinářské úpravy - způsobilé náklady
D15: KSO: | F15: 823 27 11 | I15: CC-CZ:
D16: Místo: | F16: Roudnice nad Labem | I16: Datum: | J16: ='Rekapitulace stavby'!AN8 -> 22. 5. 2024
D18: Zadavatel: | I18: IČ:
I19: DIČ:
D21: Účastník: | I21: IČ: | J21: ='Rekapitulace stavby'!AN13 -> Vyplň údaj
E22: ='Rekapitulace stavby'!E14 -> Vyplň údaj | I22: DIČ: | J22: ='Rekapitulace stavby'!AN14 -> Vyplň údaj
D24: Projektant: | I24: IČ:
E25: Land05 s.r.o. | I25: DIČ:
D27: Zpracovatel: | I27: IČ: | J27: 07206062
E28: Soloreal s.r.o. | I28: DIČ:
D30: Poznámka:
D34: Cena bez DPH | J34: =ROUND(J96, 2) -> 0
F36: Základ daně | I36: Sazba daně | J36: Výše daně
D37: DPH | E37: základní | F37: =ROUND((SUM(BE96:BE697)), 2) -> 0 | I37: 0.21 | J37: =ROUND(((SUM(BE96:BE697))*I37), 2) -> 0
E38: snížená | F38: =ROUND((SUM(BF96:BF697)), 2) -> 0 | I38: 0.12 | J38: =ROUND(((SUM(BF96:BF697))*I38), 2) -> 0
E39: zákl. přenesená | F39: =ROUND((SUM(BG96:BG697)), 2) -> 0 | I39: 0.21 | J39: =0 -> 0
E40: sníž. přenesená | F40: =ROUND((SUM(BH96:BH697)), 2) -> 0 | I40: 0.12 | J40: =0 -> 0
E41: nulová | F41: =ROUND((SUM(BI96:BI697)), 2) -> 0 | I41: 0 | J41: =0 -> 0
D43: Cena s DPH | G43: v | H43: CZK | J43: =SUM(J34:J41) -> 0
C49: REKAPITULACE ČLENĚNÍ SOUPISU PRACÍ
C51: Stavba:
E52: =E7 -> Lesopark Na Kolečku-DPS - revize
C53: Objekt:
E54: 01 - 1. ETAPA
C55: Soupis:
E56: SO 06 - Krajinářské úpravy
C57: Úroveň 3:
E58: =E13 -> SO 06.1 - Krajinářské úpravy - způsobilé náklady
C60: Místo: | F60: =F16 -> Roudnice nad Labem | I60: Datum: | J60: =IF(J16="","",J16) -> 22. 5. 2024
C62: Zadavatel: | F62: =E19 | I62: Projektant: | J62: =E25 -> Land05 s.r.o.
C63: Účastník: | F63: =IF(E22="","",E22) -> Vyplň údaj | I63: Zpracovatel: | J63: =E28 -> Soloreal s.r.o.
C65: Kód dílu - Popis | J65: Cena celkem [CZK]
C67: Náklady stavby celkem | J67: =J96 -> 0 | AU67: -1
D68: HSV - Práce a dodávky HSV | J68: =J97 -> 0
D69: 1 - Zemní práce | J69: =J98 -> 0
D70: 998 - Přesun hmot | J70: =J684 -> 0
D71: M - Práce a dodávky M | J71: =J689 -> 0
D72: 46-M - Zemní práce při extr.mont.pracích | J72: =J690 -> 0
C79: SOUPIS PRACÍ
C81: Stavba:
E82: =E7 -> Lesopark Na Kolečku-DPS - revize
C83: Objekt:
E84: 01 - 1. ETAPA
C85: Soupis:
E86: SO 06 - Krajinářské úpravy
C87: Úroveň 3:
E88: =E13 -> SO 06.1 - Krajinářské úpravy - způsobilé náklady
C90: Místo: | F90: =F16 -> Roudnice nad Labem | I90: Datum: | J90: =IF(J16="","",J16) -> 22. 5. 2024
C92: Zadavatel: | F92: =E19 | I92: Projektant: | J92: =E25 -> Land05 s.r.o.
C93: Účastník: | F93: =IF(E22="","",E22) -> Vyplň údaj | I93: Zpracovatel: | J93: =E28 -> Soloreal s.r.o.
C95: PČ | D95: Typ | E95: Kód | F95: Popis | G95: MJ | H95: Množství | I95: J.cena [CZK] | J95: Cena celkem [CZK] | K95: Cenová soustava | N95: DPH | O95: J. Nh [h] | P95: Nh celkem [h] | Q95: J. hmotnost [t] | R95: Hmotnost celkem [t] | S95: J. suť [t] | T95: Suť Celkem [t]
C96: Náklady soupisu celkem | J96: =BK96 -> 0 | P96: =P97+P689 -> 0 | R96: =R97+R689 -> 87.160252 | T96: =T97+T689 -> 0 | AT96: D | AU96: -1 | BK96: =BK97+BK689 -> 0
D97: D | E97: HSV | F97: Práce a dodávky HSV | J97: =BK97 -> 0 | P97: =P98+P684 -> 0 | R97: =R98+R684 -> 87.160252 | T97: =T98+T684 -> 0 | AR97: 1 | AT97: D | AU97: 0 | AY97: ROZPOCET | BK97: =BK98+BK684 -> 0
D98: D | E98: 1 | F98: Zemní práce | J98: =BK98 -> 0 | P98: =SUM(P99:P683) -> 0 | R98: =SUM(R99:R683) -> 87.160252 | T98: =SUM(T99:T683) -> 0 | AR98: 1 | AT98: D | AU98: 1 | AY98: ROZPOCET | BK98: =SUM(BK99:BK683) -> 0
C99: 1 | D99: K | E99: 10100002R | F99: Péče o dřeviny během stavby | G99: kus | H99: 12 | J99: =ROUND(I99*H99,2) -> 0 | N99: základní | P99: =O99*H99 -> 0 | Q99: 0 | R99: =Q99*H99 -> 0 | S99: 0 | T99: =S99*H99 -> 0 | AR99: 4 | AT99: K | AU99: 2 | AY99: ROZPOCET | BE99: =IF(N99="základní",J99,0) -> 0 | BF99: =IF(N99="snížená",J99,0) -> 0 | BG99: =IF(N99="zákl. přenesená",J99,0) -> 0 | BH99: =IF(N99="sníž. přenesená",J99,0) -> 0 | BI99: =IF(N99="nulová",J99,0) -> 0 | BJ99: 1 | BK99: =ROUND(I99*H99,2) -> 0 | BL99: 4 | BM99: -451064447
D100: PP | F100: Péče o dřeviny během stavby | AT100: PP | AU100: 2
D101: P | F101: Poznámka k položce:_x000D_ Přesný a bližší popis viz dokumentace stavby, SO 06 Krajinářské úpravy | AT101: P | AU101: 2
D102: VV | F102: 12 | H102: 12 | AT102: VV | AU102: 2 | AV102: 2 | AW102: True | AX102: 1 | AY102: ROZPOCET
C103: 2 | D103: K | E103: 112155115 | F103: Štěpkování stromků a větví v zapojeném porostu průměru kmene do 300 mm s naložením | G103: kus | H103: 2 | J103: =ROUND(I103*H103,2) -> 0 | N103: základní | P103: =O103*H103 -> 0 | Q103: 0 | R103: =Q103*H103 -> 0 | S103: 0 | T103: =S103*H103 -> 0 | AR103: 4 | AT103: K | AU103: 2 | AY103: ROZPOCET | BE103: =IF(N103="základní",J103,0) -> 0 | BF103: =IF(N103="snížená",J103,0) -> 0 | BG103: =IF(N103="zákl. přenesená",J103,0) -> 0 | BH103: =IF(N103="sníž. přenesená",J103,0) -> 0 | BI103: =IF(N103="nulová",J103,0) -> 0 | BJ103: 1 | BK103: =ROUND(I103*H103,2) -> 0 | BL103: 4 | BM103: 1876442389
D104: PP | F104: Štěpkování s naložením na dopravní prostředek a odvozem do 20 km stromků a větví v zapojeném porostu, průměru kmene do 300 mm | AT104: PP | AU104: 2
D105: P | F105: Poznámka k položce:_x000D_ Přesný a bližší popis viz dokumentace stavby, SO 06 Krajinářské úpravy | AT105: P | AU105: 2
D106: VV | F106: "ze stromů D kmene do 100mm" 2 | H106: 2 | AT106: VV | AU106: 2 | AV106: 2 | AW106: True | AX106: 1 | AY106: ROZPOCET
C107: 3 | D107: K | E107: 112155115R | F107: Štěpkování odřezaných větví | G107: m3 | H107: 1.6 | J107: =ROUND(I107*H107,2) -> 0 | N107: základní | P107: =O107*H107 -> 0 | Q107: 0 | R107: =Q107*H107 -> 0 | S107: 0 | T107: =S107*H107 -> 0 | AR107: 4 | AT107: K | AU107: 2 | AY107: ROZPOCET | BE107: =IF(N107="základní",J107,0) -> 0 | BF107: =IF(N107="snížená",J107,0) -> 0 | BG107: =IF(N107="zákl. přenesená",J107,0) -> 0 | BH107: =IF(N107="sníž. přenesená",J107,0) -> 0 | BI107: =IF(N107="nulová",J107,0) -> 0 | BJ107: 1 | BK107: =ROUND(I107*H107,2) -> 0 | BL107: 4 | BM107: 1263214365
D108: PP | F108: Štěpkování odřezaných větví | AT108: PP | AU108: 2
D109: P | F109: Poznámka k položce:_x000D_ Přesný a bližší popis viz dokumentace stavby, SO 06 Krajinářské úpravy | AT109: P | AU109: 2
D110: VV | F110: (2*0,3)+(10*0,1) | H110: 1.6 | AT110: VV | AU110: 2 | AV110: 2 | AW110: True | AX110: 1 | AY110: ROZPOCET
C111: 4 | D111: K | E111: 112201111 | F111: Odstranění pařezů D do 0,2 m v rovině a svahu do 1:5 s odklizením do 20 m a zasypáním jámy | G111: kus | H111: 2 | J111: =ROUND(I111*H111,2) -> 0 | N111: základní | P111: =O111*H111 -> 0 | Q111: 0 | R111: =Q111*H111 -> 0 | S111: 0 | T111: =S111*H111 -> 0 | AR111: 4 | AT111: K | AU111: 2 | AY111: ROZPOCET | BE111: =IF(N111="základní",J111,0) -> 0 | BF111: =IF(N111="snížená",J111,0) -> 0 | BG111: =IF(N111="zákl. přenesená",J111,0) -> 0 | BH111: =IF(N111="sníž. přenesená",J111,0) -> 0 | BI111: =IF(N111="nulová",J111,0) -> 0 | BJ111: 1 | BK111: =ROUND(I111*H111,2) -> 0 | BL111: 4 | BM111: 1214734445
D112: PP | F112: Odstranění pařezu v rovině nebo na svahu do 1:5 o průměru pařezu na řezné ploše do 200 mm | AT112: PP | AU112: 2
D113: P | F113: Poznámka k položce:_x000D_ Přesný a bližší popis viz dokumentace stavby, SO 06 Krajinářské úpravy | AT113: P | AU113: 2
C114: 5 | D114: K | E114: 119005155 | F114: Vytyčení výsadeb s rozmístěním solitérních rostlin přes 50 kusů | G114: kus | H114: 321 | J114: =ROUND(I114*H114,2) -> 0 | N114: základní | P114: =O114*H114 -> 0 | Q114: 0 | R114: =Q114*H114 -> 0 | S114: 0 | T114: =S114*H114 -> 0 | AR114: 4 | AT114: K | AU114: 2 | AY114: ROZPOCET | BE114: =IF(N114="základní",J114,0) -> 0 | BF114: =IF(N114="snížená",J114,0) -> 0 | BG114: =IF(N114="zákl. přenesená",J114,0) -> 0 | BH114: =IF(N114="sníž. přenesená",J114,0) -> 0 | BI114: =IF(N114="nulová",J114,0) -> 0 | BJ114: 1 | BK114: =ROUND(I114*H114,2) -> 0 | BL114: 4 | BM114: -342798639
D115: PP | F115: Vytyčení výsadeb s rozmístěním rostlin dle projektové dokumentace solitérních přes 50 kusů | AT115: PP | AU115: 2
D116: P | F116: Poznámka k položce:_x000D_ Přesný a bližší popis viz dokumentace stavby, SO 06 Krajinářské úpravy | AT116: P | AU116: 2
D117: VV | F117: 321 | H117: 321 | AT117: VV | AU117: 2 | AV117: 2 | AW117: True | AX117: 0 | AY117: ROZPOCET
D118: VV | F118: Součet | H118: 321 | AT118: VV | AU118: 2 | AV118: 4 | AW118: True | AX118: 1 | AY118: ROZPOCET
C119: 6 | D119: K | E119: 121151123 | F119: Sejmutí ornice plochy přes 500 m2 tl vrstvy do 200 mm strojně | G119: m2 | H119: 100.218 | J119: =ROUND(I119*H119,2) -> 0 | N119: základní | P119: =O119*H119 -> 0 | Q119: 0 | R119: =Q119*H119 -> 0 | S119: 0 | T119: =S119*H119 -> 0 | AR119: 4 | AT119: K | AU119: 2 | AY119: ROZPOCET | BE119: =IF(N119="základní",J119,0) -> 0 | BF119: =IF(N119="snížená",J119,0) -> 0 | BG119: =IF(N119="zákl. přenesená",J119,0) -> 0 | BH119: =IF(N119="sníž. přenesená",J119,0) -> 0 | BI119: =IF(N119="nulová",J119,0) -> 0 | BJ119: 1 | BK119: =ROUND(I119*H119,2) -> 0 | BL119: 4 | BM119: -1054157333
D120: PP | F120: Sejmutí ornice strojně při souvislé ploše přes 500 m2, tl. vrstvy do 200 mm | AT120: PP | AU120: 2
D121: P | F121: Poznámka k položce:_x000D_ Přesný a bližší popis viz dokumentace stavby, SO 06 Krajinářské úpravy | AT121: P | AU121: 2
D122: VV | F122: "jámy pro stromy listnaté" 1,25*0,3*85 | H122: 31.875 | AT122: VV | AU122: 2 | AV122: 2 | AW122: True | AX122: 0 | AY122: ROZPOCET
D123: VV | F123: "jámy pro stromy jehličnaté" 1,25*0,3*38 | H123: 14.25 | AT123: VV | AU123: 2 | AV123: 2 | AW123: True | AX123: 0 | AY123: ROZPOCET
D124: VV | F124: "jámy pro stromy ovocné" 0,4*0,3*22 | H124: 2.64 | AT124: VV | AU124: 2 | AV124: 2 | AW124: True | AX124: 0 | AY124: ROZPOCET
D125: VV | F125: "jámy pro stromy dočasné" 0,5*0,3*122 | H125: 18.3 | AT125: VV | AU125: 2 | AV125: 2 | AW125: True | AX125: 0 | AY125: ROZPOCET
D126: VV | F126: "jámy pro špičák" 0,4*0,3*54 | H126: 6.48 | AT126: VV | AU126: 2 | AV126: 2 | AW126: True | AX126: 0 | AY126: ROZPOCET
D127: VV | F127: "jamky pro keře" 0,17*0,3*523 | H127: 26.673 | AT127: VV | AU127: 2 | AV127: 2 | AW127: True | AX127: 0 | AY127: ROZPOCET
D128: VV | F128: Součet | H128: 100.218 | AT128: VV | AU128: 2 | AV128: 4 | AW128: True | AX128: 1 | AY128: ROZPOCET
C129: 7 | D129: K | E129: 121151125 | F129: Sejmutí ornice plochy přes 500 m2 tl vrstvy přes 250 do 300 mm strojně | G129: m2 | H129: 1173 | J129: =ROUND(I129*H129,2) -> 0 | N129: základní | P129: =O129*H129 -> 0 | Q129: 0 | R129: =Q129*H129 -> 0 | S129: 0 | T129: =S129*H129 -> 0 | AR129: 4 | AT129: K | AU129: 2 | AY129: ROZPOCET | BE129: =IF(N129="základní",J129,0) -> 0 | BF129: =IF(N129="snížená",J129,0) -> 0 | BG129: =IF(N129="zákl. přenesená",J129,0) -> 0 | BH129: =IF(N129="sníž. přenesená",J129,0) -> 0 | BI129: =IF(N129="nulová",J129,0) -> 0 | BJ129: 1 | BK129: =ROUND(I129*H129,2) -> 0 | BL129: 4 | BM129: 2005201138
D130: PP | F130: Sejmutí ornice strojně při souvislé ploše přes 500 m2, tl. vrstvy přes 250 do 300 mm | AT130: PP | AU130: 2
D131: P | F131: Poznámka k položce:_x000D_ Přesný a bližší popis viz dokumentace stavby, SO 06 Krajinářské úpravy | AT131: P | AU131: 2
D132: VV | F132: 1173 | H132: 1173 | AT132: VV | AU132: 2 | AV132: 2 | AW132: True | AX132: 1 | AY132: ROZPOCET
C133: 8 | D133: K | E133: 162351103 | F133: Vodorovné přemístění přes 50 do 500 m výkopku/sypaniny z horniny třídy těžitelnosti I skupiny 1 až 3 | G133: m3 | H133: 116.495 | J133: =ROUND(I133*H133,2) -> 0 | N133: základní | P133: =O133*H133 -> 0 | Q133: 0 | R133: =Q133*H133 -> 0 | S133: 0 | T133: =S133*H133 -> 0 | AR133: 4 | AT133: K | AU133: 2 | AY133: ROZPOCET | BE133: =IF(N133="základní",J133,0) -> 0 | BF133: =IF(N133="snížená",J133,0) -> 0 | BG133: =IF(N133="zákl. přenesená",J133,0) -> 0 | BH133: =IF(N133="sníž. přenesená",J133,0) -> 0 | BI133: =IF(N133="nulová",J133,0) -> 0 | BJ133: 1 | BK133: =ROUND(I133*H133,2) -> 0 | BL133: 4 | BM133: -116796465
...

Sheet SO 06.2 - Krajinářské úpr...
AT2: {bacf2527-1626-4f29-927b-57cfcb501283}
AT3: 2
D4: KRYCÍ LIST SOUPISU PRACÍ | M4: v --- níže se nacházejí doplnkové a pomocné údaje k sestavám --- v | AT4: False
D6: Stavba:
E7: ='Rekapitulace stavby'!K6 -> Lesopark Na Kolečku-DPS - revize
D8: Objekt:
E9: 01 - 1. ETAPA
D10: Soupis:
E11: SO 06 - Krajinářské úpravy
D12: Úroveň 3:
E13: SO 06.2 - Krajinářské úpravy - nezpůsobilé náklady
D15: KSO: | F15: 823 27 11 | I15: CC-CZ:
D16: Místo: | F16: Roudnice nad Labem | I16: Datum: | J16: ='Rekapitulace stavby'!AN8 -> 22. 5. 2024
D18: Zadavatel: | I18: IČ:
I19: DIČ:
D21: Účastník: | I21: IČ: | J21: ='Rekapitulace stavby'!AN13 -> Vyplň údaj
E22: ='Rekapitulace stavby'!E14 -> Vyplň údaj | I22: DIČ: | J22: ='Rekapitulace stavby'!AN14 -> Vyplň údaj
D24: Projektant: | I24: IČ:
E25: Land05 s.r.o. | I25: DIČ:
D27: Zpracovatel: | I27: IČ: | J27: 07206062
E28: Soloreal s.r.o. | I28: DIČ:
D30: Poznámka:
D34: Cena bez DPH | J34: =ROUND(J104, 2) -> 0
F36: Základ daně | I36: Sazba daně | J36: Výše daně
D37: DPH | E37: základní | F37: =ROUND((SUM(BE104:BE466)), 2) -> 0 | I37: 0.21 | J37: =ROUND(((SUM(BE104:BE466))*I37), 2) -> 0
E38: snížená | F38: =ROUND((SUM(BF104:BF466)), 2) -> 0 | I38: 0.12 | J38: =ROUND(((SUM(BF104:BF466))*I38), 2) -> 0
E39: zákl. přenesená | F39: =ROUND((SUM(BG104:BG466)), 2) -> 0 | I39: 0.21 | J39: =0 -> 0
E40: sníž. přenesená | F40: =ROUND((SUM(BH104:BH466)), 2) -> 0 | I40: 0.12 | J40: =0 -> 0
E41: nulová | F41: =ROUND((SUM(BI104:BI466)), 2) -> 0 | I41: 0 | J41: =0 -> 0
D43: Cena s DPH | G43: v | H43: CZK | J43: =SUM(J34:J41) -> 0
C49: REKAPITULACE ČLENĚNÍ SOUPISU PRACÍ
C51: Stavba:
E52: =E7 -> Lesopark Na Kolečku-DPS - revize
C53: Objekt:
E54: 01 - 1. ETAPA
C55: Soupis:
E56: SO 06 - Krajinářské úpravy
C57: Úroveň 3:
E58: =E13 -> SO 06.2 - Krajinářské úpravy - nezpůsobilé náklady
C60: Místo: | F60: =F16 -> Roudnice nad Labem | I60: Datum: | J60: =IF(J16="","",J16) -> 22. 5. 2024
C62: Zadavatel: | F62: =E19 | I62: Projektant: | J62: =E25 -> Land05 s.r.o.
C63: Účastník: | F63: =IF(E22="","",E22) -> Vyplň údaj | I63: Zpracovatel: | J63: =E28 -> Soloreal s.r.o.
C65: Kód dílu - Popis | J65: Cena celkem [CZK]
C67: Náklady stavby celkem | J67: =J104 -> 0 | AU67: -1
D68: HSV - Práce a dodávky HSV | J68: =J105 -> 0
D69: 1 - Zemní práce | J69: =J106 -> 0
D70: 2 - Zakládání | J70: =J149 -> 0
D71: 3 - Svislé a kompletní konstrukce | J71: =J166 -> 0
D72: 4 - Vodorovné konstrukce | J72: =J252 -> 0
D73: 5 - Komunikace pozemní | J73: =J265 -> 0
D74: 9 - Ostatní konstrukce a práce, bourání | J74: =J273 -> 0
D75: 93 - Různé dokončovací konstrukce a práce inženýrských staveb | J75: =J426 -> 0
D76: 997 - Přesun sutě | J76: =J430 -> 0
D77: 998 - Přesun hmot | J77: =J441 -> 0
D78: PSV - Práce a dodávky PSV | J78: =J444 -> 0
D79: 741 - Elektroinstalace - silnoproud | J79: =J445 -> 0
D80: 767 - Konstrukce zámečnické | J80: =J460 -> 0
C87: SOUPIS PRACÍ
C89: Stavba:
E90: =E7 -> Lesopark Na Kolečku-DPS - revize
C91: Objekt:
E92: 01 - 1. ETAPA
C93: Soupis:
E94: SO 06 - Krajinářské úpravy
C95: Úroveň 3:
E96: =E13 -> SO 06.2 - Krajinářské úpravy - nezpůsobilé náklady
C98: Místo: | F98: =F16 -> Roudnice nad Labem | I98: Datum: | J98: =IF(J16="","",J16) -> 22. 5. 2024
C100: Zadavatel: | F100: =E19 | I100: Projektant: | J100: =E25 -> Land05 s.r.o.
C101: Účastník: | F101: =IF(E22="","",E22) -> Vyplň údaj | I101: Zpracovatel: | J101: =E28 -> Soloreal s.r.o.
C103: PČ | D103: Typ | E103: Kód | F103: Popis | G103: MJ | H103: Množství | I103: J.cena [CZK] | J103: Cena celkem [CZK] | K103: Cenová soustava | N103: DPH | O103: J. Nh [h] | P103: Nh celkem [h] | Q103: J. hmotnost [t] | R103: Hmotnost celkem [t] | S103: J. suť [t] | T103: Suť Celkem [t]
C104: Náklady soupisu celkem | J104: =BK104 -> 0 | P104: =P105+P444 -> 0 | R104: =R105+R444 -> 52.90472 | T104: =T105+T444 -> 0 | AT104: D | AU104: -1 | BK104: =BK105+BK444 -> 0
D105: D | E105: HSV | F105: Práce a dodávky HSV | J105: =BK105 -> 0 | P105: =P106+P149+P166+P252+P265+P273+P430+P441 -> 0 | R105: =R106+R149+R166+R252+R265+R273+R430+R441 -> 52.89997 | T105: =T106+T149+T166+T252+T265+T273+T430+T441 -> 0 | AR105: 1 | AT105: D | AU105: 0 | AY105: ROZPOCET | BK105: =BK106+BK149+BK166+BK252+BK265+BK273+BK430+BK441 -> 0
D106: D | E106: 1 | F106: Zemní práce | J106: =BK106 -> 0 | P106: =SUM(P107:P148) -> 0 | R106: =SUM(R107:R148) -> 0 | T106: =SUM(T107:T148) -> 0 | AR106: 1 | AT106: D | AU106: 1 | AY106: ROZPOCET | BK106: =SUM(BK107:BK148) -> 0
C107: 1 | D107: K | E107: 121151123 | F107: Sejmutí ornice plochy přes 500 m2 tl vrstvy do 200 mm strojně | G107: m2 | H107: 683 | J107: =ROUND(I107*H107,2) -> 0 | N107: základní | P107: =O107*H107 -> 0 | Q107: 0 | R107: =Q107*H107 -> 0 | S107: 0 | T107: =S107*H107 -> 0 | AR107: 4 | AT107: K | AU107: 2 | AY107: ROZPOCET | BE107: =IF(N107="základní",J107,0) -> 0 | BF107: =IF(N107="snížená",J107,0) -> 0 | BG107: =IF(N107="zákl. přenesená",J107,0) -> 0 | BH107: =IF(N107="sníž. přenesená",J107,0) -> 0 | BI107: =IF(N107="nulová",J107,0) -> 0 | BJ107: 1 | BK107: =ROUND(I107*H107,2) -> 0 | BL107: 4 | BM107: 918343843
D108: PP | F108: Sejmutí ornice strojně při souvislé ploše přes 500 m2, tl. vrstvy do 200 mm | AT108: PP | AU108: 2
D109: P | F109: Poznámka k položce:_x000D_ Přesný a bližší popis viz dokumentace stavby, SO 06 Krajinářské úpravy | AT109: P | AU109: 2
D110: VV | F110: "hřiště" 115 | H110: 115 | AT110: VV | AU110: 2 | AV110: 2 | AW110: True | AX110: 0 | AY110: ROZPOCET
D111: VV | F111: "sportoviště" 560 | H111: 560 | AT111: VV | AU111: 2 | AV111: 2 | AW111: True | AX111: 0 | AY111: ROZPOCET
D112: VV | F112: "houpačka s výhledem" 8 | H112: 8 | AT112: VV | AU112: 2 | AV112: 2 | AW112: True | AX112: 0 | AY112: ROZPOCET
D113: VV | F113: Součet | H113: 683 | AT113: VV | AU113: 2 | AV113: 4 | AW113: True | AX113: 1 | AY113: ROZPOCET
C114: 2 | D114: K | E114: 162351103 | F114: Vodorovné přemístění přes 50 do 500 m výkopku/sypaniny z horniny třídy těžitelnosti I skupiny 1 až 3 | G114: m3 | H114: 170.3 | J114: =ROUND(I114*H114,2) -> 0 | N114: základní | P114: =O114*H114 -> 0 | Q114: 0 | R114: =Q114*H114 -> 0 | S114: 0 | T114: =S114*H114 -> 0 | AR114: 4 | AT114: K | AU114: 2 | AY114: ROZPOCET | BE114: =IF(N114="základní",J114,0) -> 0 | BF114: =IF(N114="snížená",J114,0) -> 0 | BG114: =IF(N114="zákl. přenesená",J114,0) -> 0 | BH114: =IF(N114="sníž. přenesená",J114,0) -> 0 | BI114: =IF(N114="nulová",J114,0) -> 0 | BJ114: 1 | BK114: =ROUND(I114*H114,2) -> 0 | BL114: 4 | BM114: -1543994183
D115: PP | F115: Vodorovné přemístění výkopku nebo sypaniny po suchu na obvyklém dopravním prostředku, bez naložení výkopku, avšak se složením bez rozhrnutí z horniny třídy těžitelnosti I skupiny 1 až 3 na vzdálenost přes 50 do 500 m | AT115: PP | AU115: 2
D116: P | F116: Poznámka k položce:_x000D_ Přesný a bližší popis viz dokumentace stavby, SO 06 Krajinářské úpravy | AT116: P | AU116: 2
D117: VV | F117: "Výkopek-odvoz na vedlejší pozemek :" | AT117: VV | AU117: 2 | AV117: 1 | AW117: True | AX117: 0 | AY117: ROZPOCET
D118: VV | F118: "hřiště" 115 | H118: 115 | AT118: VV | AU118: 2 | AV118: 2 | AW118: True | AX118: 0 | AY118: ROZPOCET
D119: VV | F119: "houpačka s výhledem" 8 | H119: 8 | AT119: VV | AU119: 2 | AV119: 2 | AW119: True | AX119: 0 | AY119: ROZPOCET
D120: VV | F120: "okolo betonových schodů" 6,5 | H120: 6.5 | AT120: VV | AU120: 2 | AV120: 2 | AW120: True | AX120: 0 | AY120: ROZPOCET
D121: VV | F121: "pro štípanou dlažbu pod ToiToi" 17*0,3 | H121: 5.1 | AT121: VV | AU121: 2 | AV121: 2 | AW121: True | AX121: 0 | AY121: ROZPOCET
D122: VV | F122: "vývrt pro sloupky agility" 80*0,015 | H122: 1.2 | AT122: VV | AU122: 2 | AV122: 2 | AW122: True | AX122: 0 | AY122: ROZPOCET
D123: VV | F123: "Výkopek-dovoz z vedlejšího pozemku pro zásypy:" | AT123: VV | AU123: 2 | AV123: 1 | AW123: True | AX123: 0 | AY123: ROZPOCET
D124: VV | F124: "okolí dřevěné paluby" 20 | H124: 20 | AT124: VV | AU124: 2 | AV124: 2 | AW124: True | AX124: 0 | AY124: ROZPOCET
D125: VV | F125: "houpačka s výhledem" 8 | H125: 8 | AT125: VV | AU125: 2 | AV125: 2 | AW125: True | AX125: 0 | AY125: ROZPOCET
D126: VV | F126: "kolem betonových schodů" 6,5 | H126: 6.5 | AT126: VV | AU126: 2 | AV126: 2 | AW126: True | AX126: 0 | AY126: ROZPOCET
D127: VV | F127: Součet | H127: 170.3 | AT127: VV | AU127: 2 | AV127: 4 | AW127: True | AX127: 1 | AY127: ROZPOCET
C128: 3 | D128: K | E128: 167151111 | F128: Nakládání výkopku z hornin třídy těžitelnosti I skupiny 1 až 3 přes 100 m3 | G128: m3 | H128: 170.3 | J128: =ROUND(I128*H128,2) -> 0 | N128: základní | P128: =O128*H128 -> 0 | Q128: 0 | R128: =Q128*H128 -> 0 | S128: 0 | T128: =S128*H128 -> 0 | AR128: 4 | AT128: K | AU128: 2 | AY128: ROZPOCET | BE128: =IF(N128="základní",J128,0) -> 0 | BF128: =IF(N128="snížená",J128,0) -> 0 | BG128: =IF(N128="zákl. přenesená",J128,0) -> 0 | BH128: =IF(N128="sníž. přenesená",J128,0) -> 0 | BI128: =IF(N128="nulová",J128,0) -> 0 | BJ128: 1 | BK128: =ROUND(I128*H128,2) -> 0 | BL128: 4 | BM128: -1223718718
D129: PP | F129: Nakládání, skládání a překládání neulehlého výkopku nebo sypaniny strojně nakládání, množství přes 100 m3, z hornin třídy těžitelnosti I, skupiny 1 až 3 | AT129: PP | AU129: 2
D130: P | F130: Poznámka k položce:_x000D_ Přesný a bližší popis viz dokumentace stavby, SO 06 Krajinářské úpravy | AT130: P | AU130: 2
D131: VV | F131: "Výkopek-odvoz na vedlejší pozemek :" | AT131: VV | AU131: 2 | AV131: 1 | AW131: True | AX131: 0 | AY131: ROZPOCET
D132: VV | F132: "hřiště" 115 | H132: 115 | AT132: VV | AU132: 2 | AV132: 2 | AW132: True | AX132: 0 | AY132: ROZPOCET
D133: VV | F133: "houpačka s výhledem" 8 | H133: 8 | AT133: VV | AU133: 2 | AV133: 2 | AW133: True | AX133: 0 | AY133: ROZPOCET
...

Sheet SO 07 - Demolice
AT2: {3ce9ae23-8cc5-421c-978d-3d59b74f5113}
AT3: 2
D4: KRYCÍ LIST SOUPISU PRACÍ | M4: v --- níže se nacházejí doplnkové a pomocné údaje k sestavám --- v | AT4: False
D6: Stavba:
E7: ='Rekapitulace stavby'!K6 -> Lesopark Na Kolečku-DPS - revize
D8: Objekt:
E9: 01 - 1. ETAPA
D10: Soupis:
E11: SO 07 - Demolice
D13: KSO: | F13: 823 27 11 | I13: CC-CZ:
D14: Místo: | F14: Roudnice nad Labem | I14: Datum: | J14: ='Rekapitulace stavby'!AN8 -> 22. 5. 2024
D16: Zadavatel: | I16: IČ:
I17: DIČ:
D19: Účastník: | I19: IČ: | J19: ='Rekapitulace stavby'!AN13 -> Vyplň údaj
E20: ='Rekapitulace stavby'!E14 -> Vyplň údaj | I20: DIČ: | J20: ='Rekapitulace stavby'!AN14 -> Vyplň údaj
D22: Projektant: | I22: IČ:
E23: Land05 s.r.o. | I23: DIČ:
D25: Zpracovatel: | I25: IČ: | J25: 07206062
E26: Soloreal s.r.o. | I26: DIČ:
D28: Poznámka:
D32: Cena bez DPH | J32: =ROUND(J88, 2) -> 0
F34: Základ daně | I34: Sazba daně | J34: Výše daně
D35: DPH | E35: základní | F35: =ROUND((SUM(BE88:BE121)), 2) -> 0 | I35: 0.21 | J35: =ROUND(((SUM(BE88:BE121))*I35), 2) -> 0
E36: snížená | F36: =ROUND((SUM(BF88:BF121)), 2) -> 0 | I36: 0.12 | J36: =ROUND(((SUM(BF88:BF121))*I36), 2) -> 0
E37: zákl. přenesená | F37: =ROUND((SUM(BG88:BG121)), 2) -> 0 | I37: 0.21 | J37: =0 -> 0
E38: sníž. přenesená | F38: =ROUND((SUM(BH88:BH121)), 2) -> 0 | I38: 0.12 | J38: =0 -> 0
E39: nulová | F39: =ROUND((SUM(BI88:BI121)), 2) -> 0 | I39: 0 | J39: =0 -> 0
D41: Cena s DPH | G41: v | H41: CZK | J41: =SUM(J32:J39) -> 0
C47: REKAPITULACE ČLENĚNÍ SOUPISU PRACÍ
C49: Stavba:
E50: =E7 -> Lesopark Na Kolečku-DPS - revize
C51: Objekt:
E52: 01 - 1. ETAPA
C53: Soupis:
E54: =E11 -> SO 07 - Demolice
C56: Místo: | F56: =F14 -> Roudnice nad Labem | I56: Datum: | J56: =IF(J14="","",J14) -> 22. 5. 2024
C58: Zadavatel: | F58: =E17 | I58: Projektant: | J58: =E23 -> Land05 s.r.o.
C59: Účastník: | F59: =IF(E20="","",E20) -> Vyplň údaj | I59: Zpracovatel: | J59: =E26 -> Soloreal s.r.o.
C61: Kód dílu - Popis | J61: Cena celkem [CZK]
C63: Náklady stavby celkem | J63: =J88 -> 0 | AU63: -1
D64: HSV - Práce a dodávky HSV | J64: =J89 -> 0
D65: 1 - Zemní práce | J65: =J90 -> 0
D66: 997 - Přesun sutě | J66: =J103 -> 0
C73: SOUPIS PRACÍ
C75: Stavba:
E76: =E7 -> Lesopark Na Kolečku-DPS - revize
C77: Objekt:
E78: 01 - 1. ETAPA
C79: Soupis:
E80: =E11 -> SO 07 - Demolice
C82: Místo: | F82: =F14 -> Roudnice nad Labem | I82: Datum: | J82: =IF(J14="","",J14) -> 22. 5. 2024
C84: Zadavatel: | F84: =E17 | I84: Projektant: | J84: =E23 -> Land05 s.r.o.
C85: Účastník: | F85: =IF(E20="","",E20) -> Vyplň údaj | I85: Zpracovatel: | J85: =E26 -> Soloreal s.r.o.
C87: PČ | D87: Typ | E87: Kód | F87: Popis | G87: MJ | H87: Množství | I87: J.cena [CZK] | J87: Cena celkem [CZK] | K87: Cenová soustava | N87: DPH | O87: J. Nh [h] | P87: Nh celkem [h] | Q87: J. hmotnost [t] | R87: Hmotnost celkem [t] | S87: J. suť [t] | T87: Suť Celkem [t]
C88: Náklady soupisu celkem | J88: =BK88 -> 0 | P88: =P89 -> 0 | R88: =R89 -> 0 | T88: =T89 -> 11.8275 | AT88: D | AU88: -1 | BK88: =BK89 -> 0
D89: D | E89: HSV | F89: Práce a dodávky HSV | J89: =BK89 -> 0 | P89: =P90+P103 -> 0 | R89: =R90+R103 -> 0 | T89: =T90+T103 -> 11.8275 | AR89: 1 | AT89: D | AU89: 0 | AY89: ROZPOCET | BK89: =BK90+BK103 -> 0
D90: D | E90: 1 | F90: Zemní práce | J90: =BK90 -> 0 | P90: =SUM(P91:P102) -> 0 | R90: =SUM(R91:R102) -> 0 | T90: =SUM(T91:T102) -> 11.8275 | AR90: 1 | AT90: D | AU90: 1 | AY90: ROZPOCET | BK90: =SUM(BK91:BK102) -> 0
C91: 1 | D91: K | E91: 1131070.R | F91: Odstranění krytů a podkladů živičných tl přes 50 do 100 mm při překopech ručně | G91: m2 | H91: 30 | J91: =ROUND(I91*H91,2) -> 0 | N91: základní | P91: =O91*H91 -> 0 | Q91: 0 | R91: =Q91*H91 -> 0 | S91: 0.22 | T91: =S91*H91 -> 6.6 | AR91: 4 | AT91: K | AU91: 2 | AY91: ROZPOCET | BE91: =IF(N91="základní",J91,0) -> 0 | BF91: =IF(N91="snížená",J91,0) -> 0 | BG91: =IF(N91="zákl. přenesená",J91,0) -> 0 | BH91: =IF(N91="sníž. přenesená",J91,0) -> 0 | BI91: =IF(N91="nulová",J91,0) -> 0 | BJ91: 1 | BK91: =ROUND(I91*H91,2) -> 0 | BL91: 4 | BM91: 1246636410
D92: PP | F92: Odstranění krytů a podkladů živičných při překopech inženýrských sítí s přemístěním hmot na skládku ve vzdálenosti do 3 m nebo s naložením na dopravní prostředek ručně živičných, o tl. vrstvy přes 50 do 100 mm | AT92: PP | AU92: 2
D93: P | F93: Poznámka k položce:_x000D_ Bližší a přesné údaje viz PD D.7.1.1., D.7.2.1, SO07 VV | AT93: P | AU93: 2
D94: VV | F94: "demolice asfaltů" 30 | H94: 30 | AT94: VV | AU94: 2 | AV94: 2 | AW94: True | AX94: 1 | AY94: ROZPOCET
C95: 2 | D95: K | E95: 113202111 | F95: Vytrhání obrub krajníků obrubníků stojatých | G95: m | H95: 25.5 | J95: =ROUND(I95*H95,2) -> 0 | N95: základní | P95: =O95*H95 -> 0 | Q95: 0 | R95: =Q95*H95 -> 0 | S95: 0.205 | T95: =S95*H95 -> 5.2275 | AR95: 4 | AT95: K | AU95: 2 | AY95: ROZPOCET | BE95: =IF(N95="základní",J95,0) -> 0 | BF95: =IF(N95="snížená",J95,0) -> 0 | BG95: =IF(N95="zákl. přenesená",J95,0) -> 0 | BH95: =IF(N95="sníž. přenesená",J95,0) -> 0 | BI95: =IF(N95="nulová",J95,0) -> 0 | BJ95: 1 | BK95: =ROUND(I95*H95,2) -> 0 | BL95: 4 | BM95: 1961863679
D96: PP | F96: Vytrhání obrub s vybouráním lože, s přemístěním hmot na skládku na vzdálenost do 3 m nebo s naložením na dopravní prostředek z krajníků nebo obrubníků stojatých | AT96: PP | AU96: 2
D97: P | F97: Poznámka k položce:_x000D_ Bližší a přesné údaje viz PD D.7.1.1., D.7.2.1, SO07 VV | AT97: P | AU97: 2
D98: VV | F98: "odstranění betonového obrubníku" 25,5 | H98: 25.5 | AT98: VV | AU98: 2 | AV98: 2 | AW98: True | AX98: 1 | AY98: ROZPOCET
C99: 3 | D99: K | E99: 183117432 | F99: Plošné sejmutí zeminy v kořenové zóně stromu pneumatickým rýčem hl přes 150 do 300 mm v rovině nebo svahu do 1:5 | G99: m2 | H99: 14.911 | J99: =ROUND(I99*H99,2) -> 0 | N99: základní | P99: =O99*H99 -> 0 | Q99: 0 | R99: =Q99*H99 -> 0 | S99: 0 | T99: =S99*H99 -> 0 | AR99: 4 | AT99: K | AU99: 2 | AY99: ROZPOCET | BE99: =IF(N99="základní",J99,0) -> 0 | BF99: =IF(N99="snížená",J99,0) -> 0 | BG99: =IF(N99="zákl. přenesená",J99,0) -> 0 | BH99: =IF(N99="sníž. přenesená",J99,0) -> 0 | BI99: =IF(N99="nulová",J99,0) -> 0 | BJ99: 1 | BK99: =ROUND(I99*H99,2) -> 0 | BL99: 4 | BM99: 1964087176
D100: PP | F100: Plošné sejmutí zeminy v kořenové zóně stromu jakékoli plochy technologií pneumatického rýče v rovině nebo na svahu do 1:5, hloubky přes 200 do 300 mm | AT100: PP | AU100: 2
D101: P | F101: Poznámka k položce:_x000D_ Bližší a přesné údaje viz PD D.7.1.1., D.7.2.1, SO07 VV | AT101: P | AU101: 2
D102: VV | F102: "airspadedo hl. 0,25m" 3,75/0,2515 | H102: 14.911 | AT102: VV | AU102: 2 | AV102: 2 | AW102: True | AX102: 1 | AY102: ROZPOCET
D103: D | E103: 997 | F103: Přesun sutě | J103: =BK103 -> 0 | P103: =SUM(P104:P121) -> 0 | R103: =SUM(R104:R121) -> 0 | T103: =SUM(T104:T121) -> 0 | AR103: 1 | AT103: D | AU103: 1 | AY103: ROZPOCET | BK103: =SUM(BK104:BK121) -> 0
C104: 4 | D104: K | E104: 997013501 | F104: Odvoz suti a vybouraných hmot na skládku nebo meziskládku do 1 km se složením | G104: t | H104: 2 | J104: =ROUND(I104*H104,2) -> 0 | N104: základní | P104: =O104*H104 -> 0 | Q104: 0 | R104: =Q104*H104 -> 0 | S104: 0 | T104: =S104*H104 -> 0 | AR104: 4 | AT104: K | AU104: 2 | AY104: ROZPOCET | BE104: =IF(N104="základní",J104,0) -> 0 | BF104: =IF(N104="snížená",J104,0) -> 0 | BG104: =IF(N104="zákl. přenesená",J104,0) -> 0 | BH104: =IF(N104="sníž. přenesená",J104,0) -> 0 | BI104: =IF(N104="nulová",J104,0) -> 0 | BJ104: 1 | BK104: =ROUND(I104*H104,2) -> 0 | BL104: 4 | BM104: -1279825315
D105: PP | F105: Odvoz suti a vybouraných hmot na skládku nebo meziskládku se složením, na vzdálenost do 1 km | AT105: PP | AU105: 2
D106: P | F106: Poznámka k položce:_x000D_ Bližší a přesné údaje viz PD D.7.1.1., D.7.2.1, SO07 VV | AT106: P | AU106: 2
D107: VV | F107: "1x s asfalem" 1 | H107: 1 | AT107: VV | AU107: 2 | AV107: 2 | AW107: True | AX107: 0 | AY107: ROZPOCET
D108: VV | F108: "1x s betonem" 1 | H108: 1 | AT108: VV | AU108: 2 | AV108: 2 | AW108: True | AX108: 0 | AY108: ROZPOCET
D109: VV | F109: Součet | H109: 2 | AT109: VV | AU109: 2 | AV109: 4 | AW109: True | AX109: 1 | AY109: ROZPOCET
C110: 5 | D110: K | E110: 997013509 | F110: Příplatek k odvozu suti a vybouraných hmot na skládku ZKD 1 km přes 1 km | G110: t | H110: 224.732 | J110: =ROUND(I110*H110,2) -> 0 | N110: základní | P110: =O110*H110 -> 0 | Q110: 0 | R110: =Q110*H110 -> 0 | S110: 0 | T110: =S110*H110 -> 0 | AR110: 4 | AT110: K | AU110: 2 | AY110: ROZPOCET | BE110: =IF(N110="základní",J110,0) -> 0 | BF110: =IF(N110="snížená",J110,0) -> 0 | BG110: =IF(N110="zákl. přenesená",J110,0) -> 0 | BH110: =IF(N110="sníž. přenesená",J110,0) -> 0 | BI110: =IF(N110="nulová",J110,0) -> 0 | BJ110: 1 | BK110: =ROUND(I110*H110,2) -> 0 | BL110: 4 | BM110: -611010679
D111: PP | F111: Odvoz suti a vybouraných hmot na skládku nebo meziskládku se složením, na vzdálenost Příplatek k ceně za každý další započatý 1 km přes 1 km | AT111: PP | AU111: 2
D112: P | F112: Poznámka k položce:_x000D_ Bližší a přesné údaje viz PD D.7.1.1., D.7.2.1, SO07 VV | AT112: P | AU112: 2
D113: VV | F113: 11,828*19 "Přepočtené koeficientem množství | H113: 224.732 | AT113: VV | AU113: 2 | AV113: 2 | AW113: True | AX113: 1 | AY113: ROZPOCET
C114: 6 | D114: K | E114: 997013861 | F114: Poplatek za uložení stavebního odpadu na recyklační skládce (skládkovné) z prostého betonu kód odpadu 17 01 01 | G114: t | H114: 5.228 | J114: =ROUND(I114*H114,2) -> 0 | N114: základní | P114: =O114*H114 -> 0 | Q114: 0 | R114: =Q114*H114 -> 0 | S114: 0 | T114: =S114*H114 -> 0 | AR114: 4 | AT114: K | AU114: 2 | AY114: ROZPOCET | BE114: =IF(N114="základní",J114,0) -> 0 | BF114: =IF(N114="snížená",J114,0) -> 0 | BG114: =IF(N114="zákl. přenesená",J114,0) -> 0 | BH114: =IF(N114="sníž. přenesená",J114,0) -> 0 | BI114: =IF(N114="nulová",J114,0) -> 0 | BJ114: 1 | BK114: =ROUND(I114*H114,2) -> 0 | BL114: 4 | BM114: -1561128752
D115: PP | F115: Poplatek za uložení stavebního odpadu na recyklační skládce (skládkovné) z prostého betonu zatříděného do Katalogu odpadů pod kódem 17 01 01 | AT115: PP | AU115: 2
D116: P | F116: Poznámka k položce:_x000D_ Bližší a přesné údaje viz PD D.7.1.1., D.7.2.1, SO07 VV | AT116: P | AU116: 2
D117: VV | F117: "betonové oburby" 5,228 | H117: 5.228 | AT117: VV | AU117: 2 | AV117: 2 | AW117: True | AX117: 1 | AY117: ROZPOCET
C118: 7 | D118: K | E118: 997013875 | F118: Poplatek za uložení stavebního odpadu na recyklační skládce (skládkovné) asfaltového bez obsahu dehtu zatříděného do Katalogu odpadů pod kódem 17 03 02 | G118: t | H118: 6.6 | J118: =ROUND(I118*H118,2) -> 0 | N118: základní | P118: =O118*H118 -> 0 | Q118: 0 | R118: =Q118*H118 -> 0 | S118: 0 | T118: =S118*H118 -> 0 | AR118: 4 | AT118: K | AU118: 2 | AY118: ROZPOCET | BE118: =IF(N118="základní",J118,0) -> 0 | BF118: =IF(N118="snížená",J118,0) -> 0 | BG118: =IF(N118="zákl. přenesená",J118,0) -> 0 | BH118: =IF(N118="sníž. přenesená",J118,0) -> 0 | BI118: =IF(N118="nulová",J118,0) -> 0 | BJ118: 1 | BK118: =ROUND(I118*H118,2) -> 0 | BL118: 4 | BM118: 1783314622
D119: PP | F119: Poplatek za uložení stavebního odpadu na recyklační skládce (skládkovné) asfaltového bez obsahu dehtu zatříděného do Katalogu odpadů pod kódem 17 03 02 | AT119: PP | AU119: 2
D120: P | F120: Poznámka k položce:_x000D_ Bližší a přesné údaje viz PD D.7.1.1., D.7.2.1, SO07 VV | AT120: P | AU120: 2
D121: VV | F121: "likvidace asfaltů" 6,6 | H121: 6.6 | AT121: VV | AU121: 2 | AV121: 2 | AW121: True | AX121: 1 | AY121: ROZPOCET

Sheet SO 08 - Úprava sousedního...
AT2: {282b6369-209b-4b0d-91d7-c47f7bf8a0a7}
AT3: 2
D4: KRYCÍ LIST SOUPISU PRACÍ | M4: v --- níže se nacházejí doplnkové a pomocné údaje k sestavám --- v | AT4: False
D6: Stavba:
E7: ='Rekapitulace stavby'!K6 -> Lesopark Na Kolečku-DPS - revize
D8: Objekt:
E9: 01 - 1. ETAPA
D10: Soupis:
E11: SO 08 - Úprava sousedního pozemku
D13: KSO: | F13: 823 27 11 | I13: CC-CZ:
D14: Místo: | F14: Roudnice nad Labem | I14: Datum: | J14: ='Rekapitulace stavby'!AN8 -> 22. 5. 2024
D16: Zadavatel: | I16: IČ:
I17: DIČ:
D19: Účastník: | I19: IČ: | J19: ='Rekapitulace stavby'!AN13 -> Vyplň údaj
E20: ='Rekapitulace stavby'!E14 -> Vyplň údaj | I20: DIČ: | J20: ='Rekapitulace stavby'!AN14 -> Vyplň údaj
D22: Projektant: | I22: IČ:
E23: Land05 s.r.o. | I23: DIČ:
D25: Zpracovatel: | I25: IČ: | J25: 07206062
E26: Soloreal s.r.o. | I26: DIČ:
D28: Poznámka:
D32: Cena bez DPH | J32: =ROUND(J87, 2) -> 0
F34: Základ daně | I34: Sazba daně | J34: Výše daně
D35: DPH | E35: základní | F35: =ROUND((SUM(BE87:BE136)), 2) -> 0 | I35: 0.21 | J35: =ROUND(((SUM(BE87:BE136))*I35), 2) -> 0
E36: snížená | F36: =ROUND((SUM(BF87:BF136)), 2) -> 0 | I36: 0.12 | J36: =ROUND(((SUM(BF87:BF136))*I36), 2) -> 0
E37: zákl. přenesená | F37: =ROUND((SUM(BG87:BG136)), 2) -> 0 | I37: 0.21 | J37: =0 -> 0
E38: sníž. přenesená | F38: =ROUND((SUM(BH87:BH136)), 2) -> 0 | I38: 0.12 | J38: =0 -> 0
E39: nulová | F39: =ROUND((SUM(BI87:BI136)), 2) -> 0 | I39: 0 | J39: =0 -> 0
D41: Cena s DPH | G41: v | H41: CZK | J41: =SUM(J32:J39) -> 0
C47: REKAPITULACE ČLENĚNÍ SOUPISU PRACÍ
C49: Stavba:
E50: =E7 -> Lesopark Na Kolečku-DPS - revize
C51: Objekt:
E52: 01 - 1. ETAPA
C53: Soupis:
E54: =E11 -> SO 08 - Úprava sousedního pozemku
C56: Místo: | F56: =F14 -> Roudnice nad Labem | I56: Datum: | J56: =IF(J14="","",J14) -> 22. 5. 2024
C58: Zadavatel: | F58: =E17 | I58: Projektant: | J58: =E23 -> Land05 s.r.o.
C59: Účastník: | F59: =IF(E20="","",E20) -> Vyplň údaj | I59: Zpracovatel: | J59: =E26 -> Soloreal s.r.o.
C61: Kód dílu - Popis | J61: Cena celkem [CZK]
C63: Náklady stavby celkem | J63: =J87 -> 0 | AU63: -1
D64: HSV - Práce a dodávky HSV | J64: =J88 -> 0
D65: 1 - Zemní práce | J65: =J89 -> 0
C72: SOUPIS PRACÍ
C74: Stavba:
E75: =E7 -> Lesopark Na Kolečku-DPS - revize
C76: Objekt:
E77: 01 - 1. ETAPA
C78: Soupis:
E79: =E11 -> SO 08 - Úprava sousedního pozemku
C81: Místo: | F81: =F14 -> Roudnice nad Labem | I81: Datum: | J81: =IF(J14="","",J14) -> 22. 5. 2024
C83: Zadavatel: | F83: =E17 | I83: Projektant: | J83: =E23 -> Land05 s.r.o.
C84: Účastník: | F84: =IF(E20="","",E20) -> Vyplň údaj | I84: Zpracovatel: | J84: =E26 -> Soloreal s.r.o.
C86: PČ | D86: Typ | E86: Kód | F86: Popis | G86: MJ | H86: Množství | I86: J.cena [CZK] | J86: Cena celkem [CZK] | K86: Cenová soustava | N86: DPH | O86: J. Nh [h] | P86: Nh celkem [h] | Q86: J. hmotnost [t] | R86: Hmotnost celkem [t] | S86: J. suť [t] | T86: Suť Celkem [t]
C87: Náklady soupisu celkem | J87: =BK87 -> 0 | P87: =P88 -> 0 | R87: =R88 -> 0 | T87: =T88 -> 0 | AT87: D | AU87: -1 | BK87: =BK88 -> 0
D88: D | E88: HSV | F88: Práce a dodávky HSV | J88: =BK88 -> 0 | P88: =P89 -> 0 | R88: =R89 -> 0 | T88: =T89 -> 0 | AR88: 1 | AT88: D | AU88: 0 | AY88: ROZPOCET | BK88: =BK89 -> 0
D89: D | E89: 1 | F89: Zemní práce | J89: =BK89 -> 0 | P89: =SUM(P90:P136) -> 0 | R89: =SUM(R90:R136) -> 0 | T89: =SUM(T90:T136) -> 0 | AR89: 1 | AT89: D | AU89: 1 | AY89: ROZPOCET | BK89: =SUM(BK90:BK136) -> 0
C90: 1 | D90: K | E90: 121151125 | F90: Sejmutí ornice plochy přes 500 m2 tl vrstvy přes 250 do 300 mm strojně | G90: m2 | H90: 1420 | J90: =ROUND(I90*H90,2) -> 0 | N90: základní | P90: =O90*H90 -> 0 | Q90: 0 | R90: =Q90*H90 -> 0 | S90: 0 | T90: =S90*H90 -> 0 | AR90: 4 | AT90: K | AU90: 2 | AY90: ROZPOCET | BE90: =IF(N90="základní",J90,0) -> 0 | BF90: =IF(N90="snížená",J90,0) -> 0 | BG90: =IF(N90="zákl. přenesená",J90,0) -> 0 | BH90: =IF(N90="sníž. přenesená",J90,0) -> 0 | BI90: =IF(N90="nulová",J90,0) -> 0 | BJ90: 1 | BK90: =ROUND(I90*H90,2) -> 0 | BL90: 4 | BM90: 1222348192
D91: PP | F91: Sejmutí ornice strojně při souvislé ploše přes 500 m2, tl. vrstvy přes 250 do 300 mm | AT91: PP | AU91: 2
D92: P | F92: Poznámka k položce:_x000D_ Bližší a přesné údaje viz PD SO 08 Úprava sousedního pozemku | AT92: P | AU92: 2
D93: VV | F93: 10*71*2 | H93: 1420 | AT93: VV | AU93: 2 | AV93: 2 | AW93: True | AX93: 1 | AY93: ROZPOCET
C94: 2 | D94: K | E94: 171251101 | F94: Uložení sypaniny do násypů nezhutněných strojně | G94: m3 | H94: 2803.6 | J94: =ROUND(I94*H94,2) -> 0 | N94: základní | P94: =O94*H94 -> 0 | Q94: 0 | R94: =Q94*H94 -> 0 | S94: 0 | T94: =S94*H94 -> 0 | AR94: 4 | AT94: K | AU94: 2 | AY94: ROZPOCET | BE94: =IF(N94="základní",J94,0) -> 0 | BF94: =IF(N94="snížená",J94,0) -> 0 | BG94: =IF(N94="zákl. přenesená",J94,0) -> 0 | BH94: =IF(N94="sníž. přenesená",J94,0) -> 0 | BI94: =IF(N94="nulová",J94,0) -> 0 | BJ94: 1 | BK94: =ROUND(I94*H94,2) -> 0 | BL94: 4 | BM94: -212790645
D95: PP | F95: Uložení sypanin do násypů strojně s rozprostřením sypaniny ve vrstvách a s hrubým urovnáním nezhutněných jakékoliv třídy těžitelnosti | AT95: PP | AU95: 2
D96: P | F96: Poznámka k položce:_x000D_ Přesný a bližší popis viz dokumentace stavby, SO 08 Úprava sousedního pozemku | AT96: P | AU96: 2
D97: VV | F97: "Ornice z prostoru pro podorničí" 2*10*71*0,3 | H97: 426 | AT97: VV | AU97: 2 | AV97: 2 | AW97: True | AX97: 0 | AY97: ROZPOCET
D98: VV | F98: "Ornice do tvaru 1. valu" 160,0 | H98: 160 | AT98: VV | AU98: 2 | AV98: 2 | AW98: True | AX98: 0 | AY98: ROZPOCET
D99: VV | F99: "Ornice do tvaru 2. valu" 115,0 | H99: 115 | AT99: VV | AU99: 2 | AV99: 2 | AW99: True | AX99: 0 | AY99: ROZPOCET
D100: VV | F100: "Ornice do tvaru 3. valu" 100,0 | H100: 100 | AT100: VV | AU100: 2 | AV100: 2 | AW100: True | AX100: 0 | AY100: ROZPOCET
D101: VV | F101: "Podorničí z lesoparku" 2*1001,3 | H101: 2002.6 | AT101: VV | AU101: 2 | AV101: 2 | AW101: True | AX101: 0 | AY101: ROZPOCET
D102: VV | F102: Součet | H102: 2803.6 | AT102: VV | AU102: 2 | AV102: 4 | AW102: True | AX102: 1 | AY102: ROZPOCET
C103: 3 | D103: K | E103: 181351113 | F103: Rozprostření ornice tl vrstvy do 200 mm pl přes 500 m2 v rovině nebo ve svahu do 1:5 strojně | G103: m2 | H103: 5906 | J103: =ROUND(I103*H103,2) -> 0 | N103: základní | P103: =O103*H103 -> 0 | Q103: 0 | R103: =Q103*H103 -> 0 | S103: 0 | T103: =S103*H103 -> 0 | AR103: 4 | AT103: K | AU103: 2 | AY103: ROZPOCET | BE103: =IF(N103="základní",J103,0) -> 0 | BF103: =IF(N103="snížená",J103,0) -> 0 | BG103: =IF(N103="zákl. přenesená",J103,0) -> 0 | BH103: =IF(N103="sníž. přenesená",J103,0) -> 0 | BI103: =IF(N103="nulová",J103,0) -> 0 | BJ103: 1 | BK103: =ROUND(I103*H103,2) -> 0 | BL103: 4 | BM103: 144156672
D104: PP | F104: Rozprostření a urovnání ornice v rovině nebo ve svahu sklonu do 1:5 strojně při souvislé ploše přes 500 m2, tl. vrstvy do 200 mm | AT104: PP | AU104: 2
D105: P | F105: Poznámka k položce:_x000D_ Rozprostření ornice z budovaného lesoparku v jižní části pozemku (pod cestou)_x000D_ Přesný a bližší popis viz dokumentace stavby, SO 08 Úprava sousedního pozemku | AT105: P | AU105: 2
D106: VV | F106: "jižní pozemek pod cestou" 5906 | H106: 5906 | AT106: VV | AU106: 2 | AV106: 2 | AW106: True | AX106: 1 | AY106: ROZPOCET
C107: 4 | D107: K | E107: 181351114 | F107: Rozprostření ornice tl vrstvy přes 200 do 250 mm pl přes 500 m2 v rovině nebo ve svahu do 1:5 strojně | G107: m2 | H107: 8350 | J107: =ROUND(I107*H107,2) -> 0 | N107: základní | P107: =O107*H107 -> 0 | Q107: 0 | R107: =Q107*H107 -> 0 | S107: 0 | T107: =S107*H107 -> 0 | AR107: 4 | AT107: K | AU107: 2 | AY107: ROZPOCET | BE107: =IF(N107="základní",J107,0) -> 0 | BF107: =IF(N107="snížená",J107,0) -> 0 | BG107: =IF(N107="zákl. přenesená",J107,0) -> 0 | BH107: =IF(N107="sníž. přenesená",J107,0) -> 0 | BI107: =IF(N107="nulová",J107,0) -> 0 | BJ107: 1 | BK107: =ROUND(I107*H107,2) -> 0 | BL107: 4 | BM107: -742905999
D108: PP | F108: Rozprostření a urovnání ornice v rovině nebo ve svahu sklonu do 1:5 strojně při souvislé ploše přes 500 m2, tl. vrstvy přes 200 do 250 mm | AT108: PP | AU108: 2
D109: P | F109: Poznámka k položce:_x000D_ Rozprostření ornice z budovaného lesoparku v severní části pozemku (nad cestou)_x000D_ Přesný a bližší popis viz dokumentace stavby, SO 08 Úprava sousedního pozemku | AT109: P | AU109: 2
D110: VV | F110: "severní pozemek nad cestou" 8350 | H110: 8350 | AT110: VV | AU110: 2 | AV110: 2 | AW110: True | AX110: 1 | AY110: ROZPOCET
C111: 5 | D111: K | E111: 18145131R | F111: Založení travo-bylinných porostů strojně na rozprostřené ornici i na valech | G111: m2 | H111: 14256 | J111: =ROUND(I111*H111,2) -> 0 | N111: základní | P111: =O111*H111 -> 0 | Q111: 0 | R111: =Q111*H111 -> 0 | S111: 0 | T111: =S111*H111 -> 0 | AR111: 4 | AT111: K | AU111: 2 | AY111: ROZPOCET | BE111: =IF(N111="základní",J111,0) -> 0 | BF111: =IF(N111="snížená",J111,0) -> 0 | BG111: =IF(N111="zákl. přenesená",J111,0) -> 0 | BH111: =IF(N111="sníž. přenesená",J111,0) -> 0 | BI111: =IF(N111="nulová",J111,0) -> 0 | BJ111: 1 | BK111: =ROUND(I111*H111,2) -> 0 | BL111: 4 | BM111: -933854738
D112: PP | F112: Založení travo-bylinných porostů strojně na rozprostřené ornici i na valech | AT112: PP | AU112: 2
D113: P | F113: Poznámka k položce:_x000D_ Přesný a bližší popis viz dokumentace stavby, SO 08 Úprava sousedního pozemku | AT113: P | AU113: 2
D114: VV | F114: "na obou pozemcích S+J" 8350+5906 | H114: 14256 | AT114: VV | AU114: 2 | AV114: 2 | AW114: True | AX114: 1 | AY114: ROZPOCET
C115: 6 | D115: M | E115: 0057247R | F115: osivo směs travní RSM 2.4 bylinný trávník | G115: kg | H115: 214.71 | J115: =ROUND(I115*H115,2) -> 0 | N115: základní | P115: =O115*H115 -> 0 | Q115: 0 | R115: =Q115*H115 -> 0 | S115: 0 | T115: =S115*H115 -> 0 | AR115: 8 | AT115: M | AU115: 2 | AY115: ROZPOCET | BE115: =IF(N115="základní",J115,0) -> 0 | BF115: =IF(N115="snížená",J115,0) -> 0 | BG115: =IF(N115="zákl. přenesená",J115,0) -> 0 | BH115: =IF(N115="sníž. přenesená",J115,0) -> 0 | BI115: =IF(N115="nulová",J115,0) -> 0 | BJ115: 1 | BK115: =ROUND(I115*H115,2) -> 0 | BL115: 4 | BM115: 1929713312
D116: PP | F116: osivo směs travní RSM 2.4 bylinný trávník | AT116: PP | AU116: 2
D117: P | F117: Poznámka k položce:_x000D_ Přesný a bližší popis viz dokumentace stavby, SO 08 Úprava sousedního pozemku | AT117: P | AU117: 2
D118: VV | F118: 14314*0,015 | H118: 214.71 | AT118: VV | AU118: 2 | AV118: 2 | AW118: True | AX118: 1 | AY118: ROZPOCET
C119: 7 | D119: K | E119: 184813512 | F119: Chemické odplevelení před založením kultury postřikem na široko ve svahu přes 1:5 do 1:2 ručně | G119: m2 | H119: 3480 | J119: =ROUND(I119*H119,2) -> 0 | N119: základní | P119: =O119*H119 -> 0 | Q119: 0 | R119: =Q119*H119 -> 0 | S119: 0 | T119: =S119*H119 -> 0 | AR119: 4 | AT119: K | AU119: 2 | AY119: ROZPOCET | BE119: =IF(N119="základní",J119,0) -> 0 | BF119: =IF(N119="snížená",J119,0) -> 0 | BG119: =IF(N119="zákl. přenesená",J119,0) -> 0 | BH119: =IF(N119="sníž. přenesená",J119,0) -> 0 | BI119: =IF(N119="nulová",J119,0) -> 0 | BJ119: 1 | BK119: =ROUND(I119*H119,2) -> 0 | BL119: 4 | BM119: -158258181
D120: PP | F120: Chemické odplevelení půdy před založením kultury, trávníku nebo zpevněných ploch ručně o jakékoli výměře postřikem na široko na svahu přes 1:5 do 1:2 | AT120: PP | AU120: 2
D121: P | F121: Poznámka k položce:_x000D_ Chemické odplevelení uložené ornice sejmuté z prostoru pro uložení podorničí a ze dvou násypů uloženého podorničí před založením kultury postřikem na široko ve svahu přes 1:5 do 1:2 ručně (320+710+710m2)_x000D_ Přesný a bližší popis viz dokumentace stavby, SO 08 Úprava sousedního pozemku | AT121: P | AU121: 2
D122: VV | F122: "úložiště ornice ze dvou následujících lokalit+úložiště pro podorničí-2 pozemky a to vše 2x:" | AT122: VV | AU122: 2 | AV122: 1 | AW122: True | AX122: 0 | AY122: ROZPOCET
D123: VV | F123: 10*32*2 | H123: 640 | AT123: VV | AU123: 2 | AV123: 2 | AW123: True | AX123: 0 | AY123: ROZPOCET
D124: VV | F124: (10*71*2)*2 | H124: 2840 | AT124: VV | AU124: 2 | AV124: 2 | AW124: True | AX124: 0 | AY124: ROZPOCET
D125: VV | F125: Součet | H125: 3480 | AT125: VV | AU125: 2 | AV125: 4 | AW125: True | AX125: 1 | AY125: ROZPOCET
C126: 8 | D126: K | E126: 1858043.R | F126: Zalití trávníku vodou plochy přes 200 m2 | G126: m3 | H126: 286.28 | J126: =ROUND(I126*H126,2) -> 0 | N126: základní | P126: =O126*H126 -> 0 | Q126: 0 | R126: =Q126*H126 -> 0 | S126: 0 | T126: =S126*H126 -> 0 | AR126: 4 | AT126: K | AU126: 2 | AY126: ROZPOCET | BE126: =IF(N126="základní",J126,0) -> 0 | BF126: =IF(N126="snížená",J126,0) -> 0 | BG126: =IF(N126="zákl. přenesená",J126,0) -> 0 | BH126: =IF(N126="sníž. přenesená",J126,0) -> 0 | BI126: =IF(N126="nulová",J126,0) -> 0 | BJ126: 1 | BK126: =ROUND(I126*H126,2) -> 0 | BL126: 4 | BM126: 607747844
D127: PP | F127: Zalití trávníku vodou plochy přes 200 m2 | AT127: PP | AU127: 2
D128: P | F128: Poznámka k položce:_x000D_ Zalití trávníku (20 l vody na 1m2 = 14314*0,02=286m3)_x000D_ Přesný a bližší popis viz dokumentace stavby, SO 08 Úprava sousedního pozemku | AT128: P | AU128: 2
D129: VV | F129: 14314*0,02 | H129: 286.28 | AT129: VV | AU129: 2 | AV129: 2 | AW129: True | AX129: 1 | AY129: ROZPOCET
C130: 9 | D130: K | E130: 111151331 | F130: Pokosení trávníku lučního pl přes 10000 m2 s odvozem do 20 km v rovině a svahu do 1:5 | G130: m2 | H130: 14256 | J130: =ROUND(I130*H130,2) -> 0 | N130: základní | P130: =O130*H130 -> 0 | Q130: 0 | R130: =Q130*H130 -> 0 | S130: 0 | T130: =S130*H130 -> 0 | AR130: 4 | AT130: K | AU130: 2 | AY130: ROZPOCET | BE130: =IF(N130="základní",J130,0) -> 0 | BF130: =IF(N130="snížená",J130,0) -> 0 | BG130: =IF(N130="zákl. přenesená",J130,0) -> 0 | BH130: =IF(N130="sníž. přenesená",J130,0) -> 0 | BI130: =IF(N130="nulová",J130,0) -> 0 | BJ130: 1 | BK130: =ROUND(I130*H130,2) -> 0 | BL130: 4 | BM130: -1004583796
D131: PP | F131: Pokosení trávníku při souvislé ploše přes 10000 m2 lučního v rovině nebo svahu do 1:5 | AT131: PP | AU131: 2
D132: P | F132: Poznámka k položce:_x000D_ Přesný a bližší popis viz dokumentace stavby, SO 08 Úprava sousedního pozemku | AT132: P | AU132: 2
D133: VV | F133: "pouze 1 seč" 8350+5906 | H133: 14256 | AT133: VV | AU133: 2 | AV133: 2 | AW133: True | AX133: 1 | AY133: ROZPOCET
...

Sheet VRN - Vedlejší rozpočtové...
AT2: {173cdd30-dd52-48ae-9cf0-0b5f9af6c5b7}
AT3: 2
D4: KRYCÍ LIST SOUPISU PRACÍ | M4: v --- níže se nacházejí doplnkové a pomocné údaje k sestavám --- v | AT4: False
D6: Stavba:
E7: ='Rekapitulace stavby'!K6 -> Lesopark Na Kolečku-DPS - revize
D8: Objekt:
E9: 01 - 1. ETAPA
D10: Soupis:
E11: VRN - Vedlejší rozpočtové náklady
D13: KSO: | F13: 823 27 11 | I13: CC-CZ:
D14: Místo: | F14: Roudnice nad Labem | I14: Datum: | J14: ='Rekapitulace stavby'!AN8 -> 22. 5. 2024
D16: Zadavatel: | I16: IČ:
I17: DIČ:
D19: Účastník: | I19: IČ: | J19: ='Rekapitulace stavby'!AN13 -> Vyplň údaj
E20: ='Rekapitulace stavby'!E14 -> Vyplň údaj | I20: DIČ: | J20: ='Rekapitulace stavby'!AN14 -> Vyplň údaj
D22: Projektant: | I22: IČ:
E23: Land05 s.r.o. | I23: DIČ:
D25: Zpracovatel: | I25: IČ: | J25: 07206062
E26: Soloreal s.r.o. | I26: DIČ:
D28: Poznámka:
D32: Cena bez DPH | J32: =ROUND(J92, 2) -> 0
F34: Základ daně | I34: Sazba daně | J34: Výše daně
D35: DPH | E35: základní | F35: =ROUND((SUM(BE92:BE127)), 2) -> 0 | I35: 0.21 | J35: =ROUND(((SUM(BE92:BE127))*I35), 2) -> 0
E36: snížená | F36: =ROUND((SUM(BF92:BF127)), 2) -> 0 | I36: 0.12 | J36: =ROUND(((SUM(BF92:BF127))*I36), 2) -> 0
E37: zákl. přenesená | F37: =ROUND((SUM(BG92:BG127)), 2) -> 0 | I37: 0.21 | J37: =0 -> 0
E38: sníž. přenesená | F38: =ROUND((SUM(BH92:BH127)), 2) -> 0 | I38: 0.12 | J38: =0 -> 0
E39: nulová | F39: =ROUND((SUM(BI92:BI127)), 2) -> 0 | I39: 0 | J39: =0 -> 0
D41: Cena s DPH | G41: v | H41: CZK | J41: =SUM(J32:J39) -> 0
C47: REKAPITULACE ČLENĚNÍ SOUPISU PRACÍ
C49: Stavba:
E50: =E7 -> Lesopark Na Kolečku-DPS - revize
C51: Objekt:
E52: 01 - 1. ETAPA
C53: Soupis:
E54: =E11 -> VRN - Vedlejší rozpočtové náklady
C56: Místo: | F56: =F14 -> Roudnice nad Labem | I56: Datum: | J56: =IF(J14="","",J14) -> 22. 5. 2024
C58: Zadavatel: | F58: =E17 | I58: Projektant: | J58: =E23 -> Land05 s.r.o.
C59: Účastník: | F59: =IF(E20="","",E20) -> Vyplň údaj | I59: Zpracovatel: | J59: =E26 -> Soloreal s.r.o.
C61: Kód dílu - Popis | J61: Cena celkem [CZK]
C63: Náklady stavby celkem | J63: =J92 -> 0 | AU63: -1
D64: VRN - Vedlejší rozpočtové náklady | J64: =J93 -> 0
D65: VRN1 - Průzkumné, geodetické a projektové práce | J65: =J94 -> 0
D66: VRN3 - Zařízení staveniště | J66: =J103 -> 0
D67: VRN4 - Inženýrská činnost | J67: =J108 -> 0
D68: VRN5 - Finanční náklady | J68: =J117 -> 0
D69: VRN6 - Územní vlivy | J69: =J120 -> 0
D70: VRN9 - Ostatní náklady | J70: =J123 -> 0
C77: SOUPIS PRACÍ
C79: Stavba:
E80: =E7 -> Lesopark Na Kolečku-DPS - revize
C81: Objekt:
E82: 01 - 1. ETAPA
C83: Soupis:
E84: =E11 -> VRN - Vedlejší rozpočtové náklady
C86: Místo: | F86: =F14 -> Roudnice nad Labem | I86: Datum: | J86: =IF(J14="","",J14) -> 22. 5. 2024
C88: Zadavatel: | F88: =E17 | I88: Projektant: | J88: =E23 -> Land05 s.r.o.
C89: Účastník: | F89: =IF(E20="","",E20) -> Vyplň údaj | I89: Zpracovatel: | J89: =E26 -> Soloreal s.r.o.
C91: PČ | D91: Typ | E91: Kód | F91: Popis | G91: MJ | H91: Množství | I91: J.cena [CZK] | J91: Cena celkem [CZK] | K91: Cenová soustava | N91: DPH | O91: J. Nh [h] | P91: Nh celkem [h] | Q91: J. hmotnost [t] | R91: Hmotnost celkem [t] | S91: J. suť [t] | T91: Suť Celkem [t]
C92: Náklady soupisu celkem | J92: =BK92 -> 0 | P92: =P93 -> 0 | R92: =R93 -> 0 | T92: =T93 -> 0 | AT92: D | AU92: -1 | BK92: =BK93 -> 0
D93: D | E93: VRN | F93: Vedlejší rozpočtové náklady | J93: =BK93 -> 0 | P93: =P94+P103+P108+P117+P120+P123 -> 0 | R93: =R94+R103+R108+R117+R120+R123 -> 0 | T93: =T94+T103+T108+T117+T120+T123 -> 0 | AR93: 5 | AT93: D | AU93: 0 | AY93: ROZPOCET | BK93: =BK94+BK103+BK108+BK117+BK120+BK123 -> 0
D94: D | E94: VRN1 | F94: Průzkumné, geodetické a projektové práce | J94: =BK94 -> 0 | P94: =SUM(P95:P102) -> 0 | R94: =SUM(R95:R102) -> 0 | T94: =SUM(T95:T102) -> 0 | AR94: 5 | AT94: D | AU94: 1 | AY94: ROZPOCET | BK94: =SUM(BK95:BK102) -> 0
C95: 1 | D95: K | E95: 011464000 | F95: Měření (monitoring) úrovně osvětlení | G95: … | H95: 1 | J95: =ROUND(I95*H95,2) -> 0 | N95: základní | P95: =O95*H95 -> 0 | Q95: 0 | R95: =Q95*H95 -> 0 | S95: 0 | T95: =S95*H95 -> 0 | AR95: 1024 | AT95: K | AU95: 2 | AY95: ROZPOCET | BE95: =IF(N95="základní",J95,0) -> 0 | BF95: =IF(N95="snížená",J95,0) -> 0 | BG95: =IF(N95="zákl. přenesená",J95,0) -> 0 | BH95: =IF(N95="sníž. přenesená",J95,0) -> 0 | BI95: =IF(N95="nulová",J95,0) -> 0 | BJ95: 1 | BK95: =ROUND(I95*H95,2) -> 0 | BL95: 1024 | BM95: -1631390049
D96: PP | F96: Měření (monitoring) úrovně osvětlení | AT96: PP | AU96: 2
C97: 2 | D97: K | E97: 012002000 | F97: Geodetické práce | G97: kpl | H97: 1 | J97: =ROUND(I97*H97,2) -> 0 | N97: základní | P97: =O97*H97 -> 0 | Q97: 0 | R97: =Q97*H97 -> 0 | S97: 0 | T97: =S97*H97 -> 0 | AR97: 1024 | AT97: K | AU97: 2 | AY97: ROZPOCET | BE97: =IF(N97="základní",J97,0) -> 0 | BF97: =IF(N97="snížená",J97,0) -> 0 | BG97: =IF(N97="zákl. přenesená",J97,0) -> 0 | BH97: =IF(N97="sníž. přenesená",J97,0) -> 0 | BI97: =IF(N97="nulová",J97,0) -> 0 | BJ97: 1 | BK97: =ROUND(I97*H97,2) -> 0 | BL97: 1024 | BM97: 454198400
D98: PP | F98: Geodetické práce | AT98: PP | AU98: 2
C99: 3 | D99: K | E99: 013254000 | F99: Dokumentace skutečného provedení stavby | G99: kpl | H99: 1 | J99: =ROUND(I99*H99,2) -> 0 | N99: základní | P99: =O99*H99 -> 0 | Q99: 0 | R99: =Q99*H99 -> 0 | S99: 0 | T99: =S99*H99 -> 0 | AR99: 1024 | AT99: K | AU99: 2 | AY99: ROZPOCET | BE99: =IF(N99="základní",J99,0) -> 0 | BF99: =IF(N99="snížená",J99,0) -> 0 | BG99: =IF(N99="zákl. přenesená",J99,0) -> 0 | BH99: =IF(N99="sníž. přenesená",J99,0) -> 0 | BI99: =IF(N99="nulová",J99,0) -> 0 | BJ99: 1 | BK99: =ROUND(I99*H99,2) -> 0 | BL99: 1024 | BM99: -116228023
D100: PP | F100: Dokumentace skutečného provedení stavby | AT100: PP | AU100: 2
C101: 4 | D101: K | E101: 013294000 | F101: Ostatní dokumentace - výrobní a dílenská dokumentace | G101: kpl | H101: 1 | J101: =ROUND(I101*H101,2) -> 0 | N101: základní | P101: =O101*H101 -> 0 | Q101: 0 | R101: =Q101*H101 -> 0 | S101: 0 | T101: =S101*H101 -> 0 | AR101: 1024 | AT101: K | AU101: 2 | AY101: ROZPOCET | BE101: =IF(N101="základní",J101,0) -> 0 | BF101: =IF(N101="snížená",J101,0) -> 0 | BG101: =IF(N101="zákl. přenesená",J101,0) -> 0 | BH101: =IF(N101="sníž. přenesená",J101,0) -> 0 | BI101: =IF(N101="nulová",J101,0) -> 0 | BJ101: 1 | BK101: =ROUND(I101*H101,2) -> 0 | BL101: 1024 | BM101: 1498446256
D102: PP | F102: Ostatní dokumentace - výrobní a dílenská dokumentace | AT102: PP | AU102: 2
D103: D | E103: VRN3 | F103: Zařízení staveniště | J103: =BK103 -> 0 | P103: =SUM(P104:P107) -> 0 | R103: =SUM(R104:R107) -> 0 | T103: =SUM(T104:T107) -> 0 | AR103: 5 | AT103: D | AU103: 1 | AY103: ROZPOCET | BK103: =SUM(BK104:BK107) -> 0
C104: 5 | D104: K | E104: 030001000 | F104: Zařízení staveniště | G104: kpl | H104: 1 | J104: =ROUND(I104*H104,2) -> 0 | N104: základní | P104: =O104*H104 -> 0 | Q104: 0 | R104: =Q104*H104 -> 0 | S104: 0 | T104: =S104*H104 -> 0 | AR104: 1024 | AT104: K | AU104: 2 | AY104: ROZPOCET | BE104: =IF(N104="základní",J104,0) -> 0 | BF104: =IF(N104="snížená",J104,0) -> 0 | BG104: =IF(N104="zákl. přenesená",J104,0) -> 0 | BH104: =IF(N104="sníž. přenesená",J104,0) -> 0 | BI104: =IF(N104="nulová",J104,0) -> 0 | BJ104: 1 | BK104: =ROUND(I104*H104,2) -> 0 | BL104: 1024 | BM104: 1455700768
D105: PP | F105: Zařízení staveniště | AT105: PP | AU105: 2
C106: 6 | D106: K | E106: 034503000 | F106: Informační tabule na staveništi | G106: kpl | H106: 1 | J106: =ROUND(I106*H106,2) -> 0 | N106: základní | P106: =O106*H106 -> 0 | Q106: 0 | R106: =Q106*H106 -> 0 | S106: 0 | T106: =S106*H106 -> 0 | AR106: 1024 | AT106: K | AU106: 2 | AY106: ROZPOCET | BE106: =IF(N106="základní",J106,0) -> 0 | BF106: =IF(N106="snížená",J106,0) -> 0 | BG106: =IF(N106="zákl. přenesená",J106,0) -> 0 | BH106: =IF(N106="sníž. přenesená",J106,0) -> 0 | BI106: =IF(N106="nulová",J106,0) -> 0 | BJ106: 1 | BK106: =ROUND(I106*H106,2) -> 0 | BL106: 1024 | BM106: 1190587931
D107: PP | F107: Informační tabule na staveništi | AT107: PP | AU107: 2
D108: D | E108: VRN4 | F108: Inženýrská činnost | J108: =BK108 -> 0 | P108: =SUM(P109:P116) -> 0 | R108: =SUM(R109:R116) -> 0 | T108: =SUM(T109:T116) -> 0 | AR108: 5 | AT108: D | AU108: 1 | AY108: ROZPOCET | BK108: =SUM(BK109:BK116) -> 0
C109: 7 | D109: K | E109: 043103000 | F109: Zkoušky bez rozlišení | G109: kpl | H109: 1 | J109: =ROUND(I109*H109,2) -> 0 | N109: základní | P109: =O109*H109 -> 0 | Q109: 0 | R109: =Q109*H109 -> 0 | S109: 0 | T109: =S109*H109 -> 0 | AR109: 1024 | AT109: K | AU109: 2 | AY109: ROZPOCET | BE109: =IF(N109="základní",J109,0) -> 0 | BF109: =IF(N109="snížená",J109,0) -> 0 | BG109: =IF(N109="zákl. přenesená",J109,0) -> 0 | BH109: =IF(N109="sníž. přenesená",J109,0) -> 0 | BI109: =IF(N109="nulová",J109,0) -> 0 | BJ109: 1 | BK109: =ROUND(I109*H109,2) -> 0 | BL109: 1024 | BM109: 1446417340
D110: PP | F110: Zkoušky bez rozlišení | AT110: PP | AU110: 2
C111: 8 | D111: K | E111: 044002000 | F111: Revize | G111: kpl | H111: 1 | J111: =ROUND(I111*H111,2) -> 0 | N111: základní | P111: =O111*H111 -> 0 | Q111: 0 | R111: =Q111*H111 -> 0 | S111: 0 | T111: =S111*H111 -> 0 | AR111: 1024 | AT111: K | AU111: 2 | AY111: ROZPOCET | BE111: =IF(N111="základní",J111,0) -> 0 | BF111: =IF(N111="snížená",J111,0) -> 0 | BG111: =IF(N111="zákl. přenesená",J111,0) -> 0 | BH111: =IF(N111="sníž. přenesená",J111,0) -> 0 | BI111: =IF(N111="nulová",J111,0) -> 0 | BJ111: 1 | BK111: =ROUND(I111*H111,2) -> 0 | BL111: 1024 | BM111: 1084454142
D112: PP | F112: Revize | AT112: PP | AU112: 2
C113: 9 | D113: K | E113: 045203000 | F113: Kompletační činnost | G113: kpl | H113: 1 | J113: =ROUND(I113*H113,2) -> 0 | N113: základní | P113: =O113*H113 -> 0 | Q113: 0 | R113: =Q113*H113 -> 0 | S113: 0 | T113: =S113*H113 -> 0 | AR113: 1024 | AT113: K | AU113: 2 | AY113: ROZPOCET | BE113: =IF(N113="základní",J113,0) -> 0 | BF113: =IF(N113="snížená",J113,0) -> 0 | BG113: =IF(N113="zákl. přenesená",J113,0) -> 0 | BH113: =IF(N113="sníž. přenesená",J113,0) -> 0 | BI113: =IF(N113="nulová",J113,0) -> 0 | BJ113: 1 | BK113: =ROUND(I113*H113,2) -> 0 | BL113: 1024 | BM113: -1294020647
D114: PP | F114: Kompletační činnost | AT114: PP | AU114: 2
C115: 10 | D115: K | E115: 045303000 | F115: Koordinační činnost | G115: kpl | H115: 1 | J115: =ROUND(I115*H115,2) -> 0 | N115: základní | P115: =O115*H115 -> 0 | Q115: 0 | R115: =Q115*H115 -> 0 | S115: 0 | T115: =S115*H115 -> 0 | AR115: 1024 | AT115: K | AU115: 2 | AY115: ROZPOCET | BE115: =IF(N115="základní",J115,0) -> 0 | BF115: =IF(N115="snížená",J115,0) -> 0 | BG115: =IF(N115="zákl. přenesená",J115,0) -> 0 | BH115: =IF(N115="sníž. přenesená",J115,0) -> 0 | BI115: =IF(N115="nulová",J115,0) -> 0 | BJ115: 1 | BK115: =ROUND(I115*H115,2) -> 0 | BL115: 1024 | BM115: 1175526218
D116: PP | F116: Koordinační činnost | AT116: PP | AU116: 2
D117: D | E117: VRN5 | F117: Finanční náklady | J117: =BK117 -> 0 | P117: =SUM(P118:P119) -> 0 | R117: =SUM(R118:R119) -> 0 | T117: =SUM(T118:T119) -> 0 | AR117: 5 | AT117: D | AU117: 1 | AY117: ROZPOCET | BK117: =SUM(BK118:BK119) -> 0
C118: 11 | D118: K | E118: 059002000 | F118: Ostatní finance - vzorkování viditelných částí | G118: kpl | H118: 1 | J118: =ROUND(I118*H118,2) -> 0 | N118: základní | P118: =O118*H118 -> 0 | Q118: 0 | R118: =Q118*H118 -> 0 | S118: 0 | T118: =S118*H118 -> 0 | AR118: 1024 | AT118: K | AU118: 2 | AY118: ROZPOCET | BE118: =IF(N118="základní",J118,0) -> 0 | BF118: =IF(N118="snížená",J118,0) -> 0 | BG118: =IF(N118="zákl. přenesená",J118,0) -> 0 | BH118: =IF(N118="sníž. přenesená",J118,0) -> 0 | BI118: =IF(N118="nulová",J118,0) -> 0 | BJ118: 1 | BK118: =ROUND(I118*H118,2) -> 0 | BL118: 1024 | BM118: -326157913
D119: PP | F119: Ostatní finance - vzorkování viditelných částí | AT119: PP | AU119: 2
D120: D | E120: VRN6 | F120: Územní vlivy | J120: =BK120 -> 0 | P120: =SUM(P121:P122) -> 0 | R120: =SUM(R121:R122) -> 0 | T120: =SUM(T121:T122) -> 0 | AR120: 5 | AT120: D | AU120: 1 | AY120: ROZPOCET | BK120: =SUM(BK121:BK122) -> 0
C121: 12 | D121: K | E121: 065002000 | F121: Mimostaveništní doprava materiálů | G121: kpl | H121: 1 | J121: =ROUND(I121*H121,2) -> 0 | N121: základní | P121: =O121*H121 -> 0 | Q121: 0 | R121: =Q121*H121 -> 0 | S121: 0 | T121: =S121*H121 -> 0 | AR121: 1024 | AT121: K | AU121: 2 | AY121: ROZPOCET | BE121: =IF(N121="základní",J121,0) -> 0 | BF121: =IF(N121="snížená",J121,0) -> 0 | BG121: =IF(N121="zákl. přenesená",J121,0) -> 0 | BH121: =IF(N121="sníž. přenesená",J121,0) -> 0 | BI121: =IF(N121="nulová",J121,0) -> 0 | BJ121: 1 | BK121: =ROUND(I121*H121,2) -> 0 | BL121: 1024 | BM121: 696163635
D122: PP | F122: Mimostaveništní doprava materiálů | AT122: PP | AU122: 2
D123: D | E123: VRN9 | F123: Ostatní náklady | J123: =BK123 -> 0 | P123: =SUM(P124:P127) -> 0 | R123: =SUM(R124:R127) -> 0 | T123: =SUM(T124:T127) -> 0 | AR123: 5 | AT123: D | AU123: 1 | AY123: ROZPOCET | BK123: =SUM(BK124:BK127) -> 0
C124: 13 | D124: K | E124: 094002001R | F124: Ostatní náklady související s výstavbou - vytyčení sítí | G124: kpl | H124: 1 | J124: =ROUND(I124*H124,2) -> 0 | N124: základní | P124: =O124*H124 -> 0 | Q124: 0 | R124: =Q124*H124 -> 0 | S124: 0 | T124: =S124*H124 -> 0 | AR124: 1024 | AT124: K | AU124: 2 | AY124: ROZPOCET | BE124: =IF(N124="základní",J124,0) -> 0 | BF124: =IF(N124="snížená",J124,0) -> 0 | BG124: =IF(N124="zákl. přenesená",J124,0) -> 0 | BH124: =IF(N124="sníž. přenesená",J124,0) -> 0 | BI124: =IF(N124="nulová",J124,0) -> 0 | BJ124: 1 | BK124: =ROUND(I124*H124,2) -> 0 | BL124: 1024 | BM124: -551495013
D125: PP | F125: Ostatní náklady související s výstavbou - vytyčení sítí | AT125: PP | AU125: 2
C126: 14 | D126: K | E126: 094323003R | F126: Agrochemické rozbory substrátů | G126: kpl | H126: 1 | J126: =ROUND(I126*H126,2) -> 0 | N126: základní | P126: =O126*H126 -> 0 | Q126: 0 | R126: =Q126*H126 -> 0 | S126: 0 | T126: =S126*H126 -> 0 | AR126: 1024 | AT126: K | AU126: 2 | AY126: ROZPOCET | BE126: =IF(N126="základní",J126,0) -> 0 | BF126: =IF(N126="snížená",J126,0) -> 0 | BG126: =IF(N126="zákl. přenesená",J126,0) -> 0 | BH126: =IF(N126="sníž. přenesená",J126,0) -> 0 | BI126: =IF(N126="nulová",J126,0) -> 0 | BJ126: 1 | BK126: =ROUND(I126*H126,2) -> 0 | BL126: 1024 | BM126: 321691763
D127: PP | F127: Agrochemické rozbory substrátů | AT127: PP | AU127: 2

Sheet SO 01.3 - Dřevěná paluba
AT2: {688bc7cf-ac18-44f9-9c84-bfd5ca7781aa}
AT3: 2
D4: KRYCÍ LIST SOUPISU PRACÍ | M4: v --- níže se nacházejí doplnkové a pomocné údaje k sestavám --- v | AT4: False
D6: Stavba:
E7: ='Rekapitulace stavby'!K6 -> Lesopark Na Kolečku-DPS - revize
D8: Objekt:
E9: 02 - 2. ETAPA
D10: Soupis:
E11: SO 01.3 - Dřevěná paluba
D13: KSO: | F13: 823 27 11 | I13: CC-CZ:
D14: Místo: | F14: Roudnice nad Labem | I14: Datum: | J14: ='Rekapitulace stavby'!AN8 -> 22. 5. 2024
D16: Zadavatel: | I16: IČ:
I17: DIČ:
D19: Účastník: | I19: IČ: | J19: ='Rekapitulace stavby'!AN13 -> Vyplň údaj
E20: ='Rekapitulace stavby'!E14 -> Vyplň údaj | I20: DIČ: | J20: ='Rekapitulace stavby'!AN14 -> Vyplň údaj
D22: Projektant: | I22: IČ:
E23: Land05 s.r.o. | I23: DIČ:
D25: Zpracovatel: | I25: IČ: | J25: 07206062
E26: Soloreal s.r.o. | I26: DIČ:
D28: Poznámka:
D32: Cena bez DPH | J32: =ROUND(J93, 2) -> 0
F34: Základ daně | I34: Sazba daně | J34: Výše daně
D35: DPH | E35: základní | F35: =ROUND((SUM(BE93:BE286)), 2) -> 0 | I35: 0.21 | J35: =ROUND(((SUM(BE93:BE286))*I35), 2) -> 0
E36: snížená | F36: =ROUND((SUM(BF93:BF286)), 2) -> 0 | I36: 0.12 | J36: =ROUND(((SUM(BF93:BF286))*I36), 2) -> 0
E37: zákl. přenesená | F37: =ROUND((SUM(BG93:BG286)), 2) -> 0 | I37: 0.21 | J37: =0 -> 0
E38: sníž. přenesená | F38: =ROUND((SUM(BH93:BH286)), 2) -> 0 | I38: 0.12 | J38: =0 -> 0
E39: nulová | F39: =ROUND((SUM(BI93:BI286)), 2) -> 0 | I39: 0 | J39: =0 -> 0
D41: Cena s DPH | G41: v | H41: CZK | J41: =SUM(J32:J39) -> 0
C47: REKAPITULACE ČLENĚNÍ SOUPISU PRACÍ
C49: Stavba:
E50: =E7 -> Lesopark Na Kolečku-DPS - revize
C51: Objekt:
E52: 02 - 2. ETAPA
C53: Soupis:
E54: =E11 -> SO 01.3 - Dřevěná paluba
C56: Místo: | F56: =F14 -> Roudnice nad Labem | I56: Datum: | J56: =IF(J14="","",J14) -> 22. 5. 2024
C58: Zadavatel: | F58: =E17 | I58: Projektant: | J58: =E23 -> Land05 s.r.o.
C59: Účastník: | F59: =IF(E20="","",E20) -> Vyplň údaj | I59: Zpracovatel: | J59: =E26 -> Soloreal s.r.o.
C61: Kód dílu - Popis | J61: Cena celkem [CZK]
C63: Náklady stavby celkem | J63: =J93 -> 0 | AU63: -1
D64: HSV - Práce a dodávky HSV | J64: =J94 -> 0
D65: 1 - Zemní práce | J65: =J95 -> 0
D66: 5 - Komunikace pozemní | J66: =J213 -> 0
D67: 9 - Ostatní konstrukce a práce, bourání | J67: =J218 -> 0
D68: PSV - Práce a dodávky PSV | J68: =J231 -> 0
D69: 766 - Konstrukce truhlářské | J69: =J232 -> 0
D70: 767 - Konstrukce zámečnické | J70: =J248 -> 0
D71: 783 - Dokončovací práce - nátěry | J71: =J279 -> 0
C78: SOUPIS PRACÍ
C80: Stavba:
E81: =E7 -> Lesopark Na Kolečku-DPS - revize
C82: Objekt:
E83: 02 - 2. ETAPA
C84: Soupis:
E85: =E11 -> SO 01.3 - Dřevěná paluba
C87: Místo: | F87: =F14 -> Roudnice nad Labem | I87: Datum: | J87: =IF(J14="","",J14) -> 22. 5. 2024
C89: Zadavatel: | F89: =E17 | I89: Projektant: | J89: =E23 -> Land05 s.r.o.
C90: Účastník: | F90: =IF(E20="","",E20) -> Vyplň údaj | I90: Zpracovatel: | J90: =E26 -> Soloreal s.r.o.
C92: PČ | D92: Typ | E92: Kód | F92: Popis | G92: MJ | H92: Množství | I92: J.cena [CZK] | J92: Cena celkem [CZK] | K92: Cenová soustava | N92: DPH | O92: J. Nh [h] | P92: Nh celkem [h] | Q92: J. hmotnost [t] | R92: Hmotnost celkem [t] | S92: J. suť [t] | T92: Suť Celkem [t]
C93: Náklady soupisu celkem | J93: =BK93 -> 0 | P93: =P94+P231 -> 0 | R93: =R94+R231 -> 152.5897 | T93: =T94+T231 -> 0 | AT93: D | AU93: -1 | BK93: =BK94+BK231 -> 0
D94: D | E94: HSV | F94: Práce a dodávky HSV | J94: =BK94 -> 0 | P94: =P95+P213+P218 -> 0 | R94: =R95+R213+R218 -> 146.9797 | T94: =T95+T213+T218 -> 0 | AR94: 1 | AT94: D | AU94: 0 | AY94: ROZPOCET | BK94: =BK95+BK213+BK218 -> 0
D95: D | E95: 1 | F95: Zemní práce | J95: =BK95 -> 0 | P95: =SUM(P96:P212) -> 0 | R95: =SUM(R96:R212) -> 146.8801 | T95: =SUM(T96:T212) -> 0 | AR95: 1 | AT95: D | AU95: 1 | AY95: ROZPOCET | BK95: =SUM(BK96:BK212) -> 0
C96: 1 | D96: K | E96: 119005155 | F96: Vytyčení výsadeb s rozmístěním solitérních rostlin přes 50 kusů | G96: kus | H96: 2 | J96: =ROUND(I96*H96,2) -> 0 | N96: základní | P96: =O96*H96 -> 0 | Q96: 0 | R96: =Q96*H96 -> 0 | S96: 0 | T96: =S96*H96 -> 0 | AR96: 4 | AT96: K | AU96: 2 | AY96: ROZPOCET | BE96: =IF(N96="základní",J96,0) -> 0 | BF96: =IF(N96="snížená",J96,0) -> 0 | BG96: =IF(N96="zákl. přenesená",J96,0) -> 0 | BH96: =IF(N96="sníž. přenesená",J96,0) -> 0 | BI96: =IF(N96="nulová",J96,0) -> 0 | BJ96: 1 | BK96: =ROUND(I96*H96,2) -> 0 | BL96: 4 | BM96: 1732618472
D97: PP | F97: Vytyčení výsadeb s rozmístěním rostlin dle projektové dokumentace solitérních přes 50 kusů | AT97: PP | AU97: 2
D98: P | F98: Poznámka k položce:_x000D_ Přesný a bližší popis viz dokumentace stavby, SO 06 Krajinářské úpravy | AT98: P | AU98: 2
D99: VV | F99: "cílové stromy listnaté VK 3xp 12-14 (bal) - do paluby" 2 | H99: 2 | AT99: VV | AU99: 2 | AV99: 2 | AW99: True | AX99: 0 | AY99: ROZPOCET
D100: VV | F100: Součet | H100: 2 | AT100: VV | AU100: 2 | AV100: 4 | AW100: True | AX100: 1 | AY100: ROZPOCET
C101: 2 | D101: K | E101: 121151105 | F101: Sejmutí ornice plochy do 100 m2 tl vrstvy přes 250 do 300 mm strojně | G101: m2 | H101: 120.7 | J101: =ROUND(I101*H101,2) -> 0 | N101: základní | P101: =O101*H101 -> 0 | Q101: 0 | R101: =Q101*H101 -> 0 | S101: 0 | T101: =S101*H101 -> 0 | AR101: 4 | AT101: K | AU101: 2 | AY101: ROZPOCET | BE101: =IF(N101="základní",J101,0) -> 0 | BF101: =IF(N101="snížená",J101,0) -> 0 | BG101: =IF(N101="zákl. přenesená",J101,0) -> 0 | BH101: =IF(N101="sníž. přenesená",J101,0) -> 0 | BI101: =IF(N101="nulová",J101,0) -> 0 | BJ101: 1 | BK101: =ROUND(I101*H101,2) -> 0 | BL101: 4 | BM101: -448468802
D102: PP | F102: Sejmutí ornice strojně při souvislé ploše do 100 m2, tl. vrstvy přes 250 do 300 mm | AT102: PP | AU102: 2
D103: P | F103: Poznámka k položce:_x000D_ Přesný a bližší popis viz dokumentace stavby, SO 01.3 Dřevěná paluba | AT103: P | AU103: 2
D104: VV | F104: 120,7 | H104: 120.7 | AT104: VV | AU104: 2 | AV104: 2 | AW104: True | AX104: 1 | AY104: ROZPOCET
C105: 3 | D105: K | E105: 121151123 | F105: Sejmutí ornice plochy přes 500 m2 tl vrstvy do 200 mm strojně | G105: m2 | H105: 1.89 | J105: =ROUND(I105*H105,2) -> 0 | N105: základní | P105: =O105*H105 -> 0 | Q105: 0 | R105: =Q105*H105 -> 0 | S105: 0 | T105: =S105*H105 -> 0 | AR105: 4 | AT105: K | AU105: 2 | AY105: ROZPOCET | BE105: =IF(N105="základní",J105,0) -> 0 | BF105: =IF(N105="snížená",J105,0) -> 0 | BG105: =IF(N105="zákl. přenesená",J105,0) -> 0 | BH105: =IF(N105="sníž. přenesená",J105,0) -> 0 | BI105: =IF(N105="nulová",J105,0) -> 0 | BJ105: 1 | BK105: =ROUND(I105*H105,2) -> 0 | BL105: 4 | BM105: 24819827
D106: PP | F106: Sejmutí ornice strojně při souvislé ploše přes 500 m2, tl. vrstvy do 200 mm | AT106: PP | AU106: 2
D107: P | F107: Poznámka k položce:_x000D_ Přesný a bližší popis viz dokumentace stavby, SO 06 Krajinářské úpravy | AT107: P | AU107: 2
D108: VV | F108: "jámy pro stromy do paluby" 3,15*0,3*2 | H108: 1.89 | AT108: VV | AU108: 2 | AV108: 2 | AW108: True | AX108: 0 | AY108: ROZPOCET
D109: VV | F109: Součet | H109: 1.89 | AT109: VV | AU109: 2 | AV109: 4 | AW109: True | AX109: 1 | AY109: ROZPOCET
C110: 4 | D110: K | E110: 167151101 | F110: Nakládání výkopku z hornin třídy těžitelnosti I skupiny 1 až 3 do 100 m3 | G110: m3 | H110: 42.762 | J110: =ROUND(I110*H110,2) -> 0 | N110: základní | P110: =O110*H110 -> 0 | Q110: 1.7 | R110: =Q110*H110 -> 72.6954 | S110: 0 | T110: =S110*H110 -> 0 | AR110: 4 | AT110: K | AU110: 2 | AY110: ROZPOCET | BE110: =IF(N110="základní",J110,0) -> 0 | BF110: =IF(N110="snížená",J110,0) -> 0 | BG110: =IF(N110="zákl. přenesená",J110,0) -> 0 | BH110: =IF(N110="sníž. přenesená",J110,0) -> 0 | BI110: =IF(N110="nulová",J110,0) -> 0 | BJ110: 1 | BK110: =ROUND(I110*H110,2) -> 0 | BL110: 4 | BM110: 1570957595
D111: PP | F111: Nakládání, skládání a překládání neulehlého výkopku nebo sypaniny strojně nakládání, množství do 100 m3, z horniny třídy těžitelnosti I, skupiny 1 až 3 | AT111: PP | AU111: 2
D112: P | F112: Poznámka k položce:_x000D_ Přesný a bližší popis viz dokumentace stavby, SO 01.3 Dřevěná paluba | AT112: P | AU112: 2
D113: VV | F113: "jámy pro stromy do paluby" 3,15*1,04*2 | H113: 6.552 | AT113: VV | AU113: 2 | AV113: 2 | AW113: True | AX113: 0 | AY113: ROZPOCET
D114: VV | F114: 120,7*0,3 | H114: 36.21 | AT114: VV | AU114: 2 | AV114: 2 | AW114: True | AX114: 0 | AY114: ROZPOCET
D115: VV | F115: Součet | H115: 42.762 | AT115: VV | AU115: 2 | AV115: 4 | AW115: True | AX115: 1 | AY115: ROZPOCET
C116: 5 | D116: K | E116: 162351103 | F116: Vodorovné přemístění přes 50 do 500 m výkopku/sypaniny z horniny třídy těžitelnosti I skupiny 1 až 3 | G116: m3 | H116: 42.762 | J116: =ROUND(I116*H116,2) -> 0 | N116: základní | P116: =O116*H116 -> 0 | Q116: 1.7 | R116: =Q116*H116 -> 72.6954 | S116: 0 | T116: =S116*H116 -> 0 | AR116: 4 | AT116: K | AU116: 2 | AY116: ROZPOCET | BE116: =IF(N116="základní",J116,0) -> 0 | BF116: =IF(N116="snížená",J116,0) -> 0 | BG116: =IF(N116="zákl. přenesená",J116,0) -> 0 | BH116: =IF(N116="sníž. přenesená",J116,0) -> 0 | BI116: =IF(N116="nulová",J116,0) -> 0 | BJ116: 1 | BK116: =ROUND(I116*H116,2) -> 0 | BL116: 4 | BM116: -708614041
D117: PP | F117: Vodorovné přemístění výkopku nebo sypaniny po suchu na obvyklém dopravním prostředku, bez naložení výkopku, avšak se složením bez rozhrnutí z horniny třídy těžitelnosti I skupiny 1 až 3 na vzdálenost přes 50 do 500 m | AT117: PP | AU117: 2
D118: P | F118: Poznámka k položce:_x000D_ Přesný a bližší popis viz dokumentace stavby, SO 01.3 Dřevěná paluba | AT118: P | AU118: 2
D119: VV | F119: "jámy pro stromy do paluby" 3,15*1,04*2 | H119: 6.552 | AT119: VV | AU119: 2 | AV119: 2 | AW119: True | AX119: 0 | AY119: ROZPOCET
D120: VV | F120: 120,7*0,3 | H120: 36.21 | AT120: VV | AU120: 2 | AV120: 2 | AW120: True | AX120: 0 | AY120: ROZPOCET
D121: VV | F121: Součet | H121: 42.762 | AT121: VV | AU121: 2 | AV121: 4 | AW121: True | AX121: 1 | AY121: ROZPOCET
C122: 6 | D122: K | E122: 183101325 | F122: Jamky pro výsadbu s výměnou 100 % půdy zeminy skupiny 1 až 4 obj přes 4 do 5 m3 v rovině a svahu do 1:5 | G122: kus | H122: 2 | J122: =ROUND(I122*H122,2) -> 0 | N122: základní | P122: =O122*H122 -> 0 | Q122: 0 | R122: =Q122*H122 -> 0 | S122: 0 | T122: =S122*H122 -> 0 | AR122: 4 | AT122: K | AU122: 2 | AY122: ROZPOCET | BE122: =IF(N122="základní",J122,0) -> 0 | BF122: =IF(N122="snížená",J122,0) -> 0 | BG122: =IF(N122="zákl. přenesená",J122,0) -> 0 | BH122: =IF(N122="sníž. přenesená",J122,0) -> 0 | BI122: =IF(N122="nulová",J122,0) -> 0 | BJ122: 1 | BK122: =ROUND(I122*H122,2) -> 0 | BL122: 4 | BM122: 726122817
D123: PP | F123: Hloubení jamek pro vysazování rostlin v zemině skupiny 1 až 4 s výměnou půdy z 100% v rovině nebo na svahu do 1:5, objemu přes 4,00 do 5,00 m3 | AT123: PP | AU123: 2
D124: P | F124: Poznámka k položce:_x000D_ Přesný a bližší popis viz dokumentace stavby, SO 06 Krajinářské úpravy | AT124: P | AU124: 2
D125: VV | F125: "jámy pro stromy do paluby" 2 | H125: 2 | AT125: VV | AU125: 2 | AV125: 2 | AW125: True | AX125: 1 | AY125: ROZPOCET
C126: 7 | D126: K | E126: 184102116 | F126: Výsadba dřeviny s balem D přes 0,6 do 0,8 m do jamky se zalitím v rovině a svahu do 1:5 | G126: kus | H126: 2 | J126: =ROUND(I126*H126,2) -> 0 | N126: základní | P126: =O126*H126 -> 0 | Q126: 0 | R126: =Q126*H126 -> 0 | S126: 0 | T126: =S126*H126 -> 0 | AR126: 4 | AT126: K | AU126: 2 | AY126: ROZPOCET | BE126: =IF(N126="základní",J126,0) -> 0 | BF126: =IF(N126="snížená",J126,0) -> 0 | BG126: =IF(N126="zákl. přenesená",J126,0) -> 0 | BH126: =IF(N126="sníž. přenesená",J126,0) -> 0 | BI126: =IF(N126="nulová",J126,0) -> 0 | BJ126: 1 | BK126: =ROUND(I126*H126,2) -> 0 | BL126: 4 | BM126: -1560406991
