Workbook

Sheet Rekapitulace stavby
A1: Export Komplet | AZ1: VZ | BA1: 2.0 | BB1: ZAMOK | BT1: False | BU1: False | BV1: {86f972e1-12fa-4d00-89d2-b2bc43c02817}
BS2: 0,01 | BT2: 21
BS3: 0,01 | BT3: 12
D4: REKAPITULACE STAVBY | AS4: v --- níže se nacházejí doplnkové a pomocné údaje k sestavám --- v | BE4: Návod na vyplnění | BS4: 0,001
D5: Kód: | K5: 235 | BE5: Měnit lze pouze buňky se žlutým podbarvením!_x000D_ _x000D_ 1) v Rekapitulaci stavby vyplňte údaje o Účastníkovi (přenesou se do ostatních sestav i v jiných listech)_x000D_ _x000D_ 2) na vybraných listech vyplňte v sestavě Soupis prací ceny u položek | BS5: 0,01
D6: Stavba: | K6: Lesopark Na Kolečku-DPS - revize | BS6: 0,01
D7: KSO: | K7: 823 27 11 | AK7: CC-CZ: | BS7: 0,01
D8: Místo: | K8: Roudnice nad Labem | AK8: Datum: | AN8: 22. 5. 2024 | BS8: 0,01
BS9: 0,01
D10: Zadavatel: | AK10: IČ: | BS10: 0,01
AK11: DIČ: | BS11: 0,01
BS12: 0,01
D13: Účastník: | AK13: IČ: | AN13: Vyplň údaj | BS13: 0,01
E14: Vyplň údaj | AK14: DIČ: | AN14: Vyplň údaj | BS14: 0,01
BS15: False
D16: Projektant: | AK16: IČ: | BS16: False
E17: Land05 s.r.o. | AK17: DIČ: | BS17: True
BS18: 0,01
D19: Zpracovatel: | AK19: IČ: | AN19: 07206062 | BS19: 0,01
E20: Soloreal s.r.o. | AK20: DIČ: | BS20: True
D22: Poznámka:
E23: Soupis prací je sestaven s využitím Cenové soustavy ÚRS. Položky, které pochází z této cenové soustavy, jsou ve sloupci 'Cenová soustava' označeny popisem 'CS ÚRS' a úrovní příslušného kalendářního pololetí. Veškeré další informace vymezující popis a podmínky použití těchto položek z Cenové soustavy, které nejsou uvedeny přímo v soupisu prací, jsou neomezeně dálkově k dispozici na webu podminky.urs.cz.
D26: Cena bez DPH | AK26: =ROUND(AG54,2) -> 0
L28: Sazba daně | W28: Základ daně | AK28: Výše daně
D29: DPH | F29: základní | L29: 0.21 | W29: =ROUND(AZ54, 2) -> 0 | AK29: =ROUND(AV54, 2) -> 0
F30: snížená | L30: 0.12 | W30: =ROUND(BA54, 2) -> 0 | AK30: =ROUND(AW54, 2) -> 0
F31: zákl. přenesená | L31: 0.21 | W31: =ROUND(BB54, 2) -> 0 | AK31: 0
F32: sníž. přenesená | L32: 0.12 | W32: =ROUND(BC54, 2) -> 0 | AK32: 0
F33: nulová | L33: 0 | W33: =ROUND(BD54, 2) -> 0 | AK33: 0
D35: Cena s DPH | T35: v | X35: CZK | AK35: =SUM(AK26:AK33) -> 0
C42: REKAPITULACE OBJEKTŮ STAVBY A SOUPISŮ PRACÍ
C44: Kód: | L44: =K5 -> 235
C45: Stavba: | L45: =K6 -> Lesopark Na Kolečku-DPS - revize
C47: Místo: | L47: =IF(K8="","",K8) -> Roudnice nad Labem | AI47: Datum: | AM47: =IF(AN8= "","",AN8) -> 22. 5. 2024
C49: Zadavatel: | L49: =IF(E11= "","",E11) | AI49: Projektant: | AM49: =IF(E17="","",E17) -> Land05 s.r.o. | AS49: Informatívní údaje z listů zakázek
C50: Účastník: | L50: =IF(E14= "Vyplň údaj","",E14) | AI50: Zpracovatel: | AM50: =IF(E20="","",E20) -> Soloreal s.r.o.
C52: Kód | I52: Popis | AG52: Cena bez DPH [CZK] | AN52: Cena s DPH [CZK] | AQ52: Typ | AS52: z toho Ostat._x000D_ náklady [CZK] | AT52: DPH [CZK] | AU52: Normohodiny [h] | AV52: DPH základní [CZK] | AW52: DPH snížená [CZK] | AX52: DPH základní přenesená_x000D_ [CZK] | AY52: DPH snížená přenesená_x000D_ [CZK] | AZ52: Základna_x000D_ DPH základní | BA52: Základna_x000D_ DPH snížená | BB52: Základna_x000D_ DPH zákl. přenesená | BC52: Základna_x000D_ DPH sníž. přenesená | BD52: Základna_x000D_ DPH nulová
C54: Náklady stavby celkem | AG54: =ROUND(AG55+AG71,2) -> 0 | AN54: =SUM(AG54,AT54) -> 0 | AS54: =ROUND(AS55+AS71,2) -> 0 | AT54: =ROUND(SUM(AV54:AW54),2) -> 0 | AU54: =ROUND(AU55+AU71,5) -> 0 | AV54: =ROUND(AZ54*L29,2) -> 0 | AW54: =ROUND(BA54*L30,2) -> 0 | AX54: =ROUND(BB54*L29,2) -> 0 | AY54: =ROUND(BC54*L30,2) -> 0 | AZ54: =ROUND(AZ55+AZ71,2) -> 0 | BA54: =ROUND(BA55+BA71,2) -> 0 | BB54: =ROUND(BB55+BB71,2) -> 0 | BC54: =ROUND(BC55+BC71,2) -> 0 | BD54: =ROUND(BD55+BD71,2) -> 0 | BS54: D | BT54: 0 | BU54: ###NOIMPORT### | BV54: IMPORT | BW54: {86f972e1-12fa-4d00-89d2-b2bc43c02817} | BX54: {00000000-0000-0000-0000-000000000000} | CL54: 823 27 11
D55: 01 | J55: 1. ETAPA | AG55: =ROUND(AG56+SUM(AG57:AG61)+AG64+AG65+SUM(AG68:AG70),2) -> 0 | AN55: =SUM(AG55,AT55) -> 0 | AQ55: STA | AS55: =ROUND(AS56+SUM(AS57:AS61)+AS64+AS65+SUM(AS68:AS70),2) -> 0 | AT55: =ROUND(SUM(AV55:AW55),2) -> 0 | AU55: =ROUND(AU56+SUM(AU57:AU61)+AU64+AU65+SUM(AU68:AU70),5) -> 0 | AV55: =ROUND(AZ55*L29,2) -> 0 | AW55: =ROUND(BA55*L30,2) -> 0 | AX55: =ROUND(BB55*L29,2) -> 0 | AY55: =ROUND(BC55*L30,2) -> 0 | AZ55: =ROUND(AZ56+SUM(AZ57:AZ61)+AZ64+AZ65+SUM(AZ68:AZ70),2) -> 0 | BA55: =ROUND(BA56+SUM(BA57:BA61)+BA64+BA65+SUM(BA68:BA70),2) -> 0 | BB55: =ROUND(BB56+SUM(BB57:BB61)+BB64+BB65+SUM(BB68:BB70),2) -> 0 | BC55: =ROUND(BC56+SUM(BC57:BC61)+BC64+BC65+SUM(BC68:BC70),2) -> 0 | BD55: =ROUND(BD56+SUM(BD57:BD61)+BD64+BD65+SUM(BD68:BD70),2) -> 0 | BS55: D | BT55: 1 | BU55: ###NOIMPORT### | BV55: IMPORT | BW55: {d66d242e-d88e-4c7e-b374-23ef312c3e58} | BX55: {86f972e1-12fa-4d00-89d2-b2bc43c02817} | CL55: 823 27 11 | CM55: 2
A56: / | E56: SO 01 | K56: Komunikace a zpevněné plochy | AG56: ='SO 01 - Komunikace a zpev...'!J32 -> 0 | AN56: =SUM(AG56,AT56) -> 0 | AQ56: Soupis | AS56: 0 | AT56: =ROUND(SUM(AV56:AW56),2) -> 0 | AU56: ='SO 01 - Komunikace a zpev...'!P97 -> 0 | AV56: ='SO 01 - Komunikace a zpev...'!J35 -> 0 | AW56: ='SO 01 - Komunikace a zpev...'!J36 -> 0 | AX56: ='SO 01 - Komunikace a zpev...'!J37 -> 0 | AY56: ='SO 01 - Komunikace a zpev...'!J38 -> 0 | AZ56: ='SO 01 - Komunikace a zpev...'!F35 -> 0 | BA56: ='SO 01 - Komunikace a zpev...'!F36 -> 0 | BB56: ='SO 01 - Komunikace a zpev...'!F37 -> 0 | BC56: ='SO 01 - Komunikace a zpev...'!F38 -> 0 | BD56: ='SO 01 - Komunikace a zpev...'!F39 -> 0 | BT56: 2 | BV56: IMPORT | BW56: {32f4593d-0619-4518-bead-55c0805f1bf8} | BX56: {d66d242e-d88e-4c7e-b374-23ef312c3e58}
...

Sheet SO 01 - Komunikace a zpev...
AT2: {32f4593d-0619-4518-bead-55c0805f1bf8}
AT3: 2
D4: KRYCÍ LIST SOUPISU PRACÍ | M4: v --- níže se nacházejí doplnkové a pomocné údaje k sestavám --- v | AT4: False
D6: Stavba:
E7: ='Rekapitulace stavby'!K6 -> Lesopark Na Kolečku-DPS - revize
D8: Objekt:
E9: 01 - 1. ETAPA
D10: Soupis:
E11: SO 01 - Komunikace a zpevněné plochy
D13: KSO: | I13: CC-CZ:
D14: Místo: | F14: Roudnice nad Labem | I14: Datum: | J14: ='Rekapitulace stavby'!AN8 -> 22. 5. 2024
D16: Zadavatel: | I16: IČ:
E17: Město Roudnice nad Labem | I17: DIČ:
D19: Účastník: | I19: IČ: | J19: ='Rekapitulace stavby'!AN13 -> Vyplň údaj
E20: ='Rekapitulace stavby'!E14 -> Vyplň údaj | I20: DIČ: | J20: ='Rekapitulace stavby'!AN14 -> Vyplň údaj
D22: Projektant: | I22: IČ:
E23: MKdoprava - Ing. Miroslav Kalina | I23: DIČ:
D25: Zpracovatel: | I25: IČ: | J25: 07206062
E26: Soloreal s.r.o. | I26: DIČ:
D28: Poznámka:
D32: Cena bez DPH | J32: =ROUND(J97, 2) -> 0
F34: Základ daně | I34: Sazba daně | J34: Výše daně
D35: DPH | E35: základní | F35: =ROUND((SUM(BE97:BE638)), 2) -> 0 | I35: 0.21 | J35: =ROUND(((SUM(BE97:BE638))*I35), 2) -> 0
E36: snížená | F36: =ROUND((SUM(BF97:BF638)), 2) -> 0 | I36: 0.12 | J36: =ROUND(((SUM(BF97:BF638))*I36), 2) -> 0
E37: zákl. přenesená | F37: =ROUND((SUM(BG97:BG638)), 2) -> 0 | I37: 0.21 | J37: =0 -> 0
E38: sníž. přenesená | F38: =ROUND((SUM(BH97:BH638)), 2) -> 0 | I38: 0.12 | J38: =0 -> 0
E39: nulová | F39: =ROUND((SUM(BI97:BI638)), 2) -> 0 | I39: 0 | J39: =0 -> 0
D41: Cena s DPH | G41: v | H41: CZK | J41: =SUM(J32:J39) -> 0
C47: REKAPITULACE ČLENĚNÍ SOUPISU PRACÍ
C49: Stavba:
E50: =E7 -> Lesopark Na Kolečku-DPS - revize
C51: Objekt:
E52: 01 - 1. ETAPA
C53: Soupis:
E54: =E11 -> SO 01 - Komunikace a zpevněné plochy
C56: Místo: | F56: =F14 -> Roudnice nad Labem | I56: Datum: | J56: =IF(J14="","",J14) -> 22. 5. 2024
C58: Zadavatel: | F58: =E17 -> Město Roudnice nad Labem | I58: Projektant: | J58: =E23 -> MKdoprava - Ing. Miroslav Kalina
C59: Účastník: | F59: =IF(E20="","",E20) -> Vyplň údaj | I59: Zpracovatel: | J59: =E26 -> Soloreal s.r.o.
C61: Kód dílu - Popis | J61: Cena celkem [CZK]
C63: Náklady stavby celkem | J63: =J97 -> 0 | AU63: -1
...

Sheet SO 01.2 - Schody a rampa
AT2: {adde1d4f-5e9d-4ad0-95a8-d7566620517a}
AT3: 2
D4: KRYCÍ LIST SOUPISU PRACÍ | M4: v --- níže se nacházejí doplnkové a pomocné údaje k sestavám --- v | AT4: False
D6: Stavba:
E7: ='Rekapitulace stavby'!K6 -> Lesopark Na Kolečku-DPS - revize
D8: Objekt:
E9: 01 - 1. ETAPA
D10: Soupis:
E11: SO 01.2 - Schody a rampa
D13: KSO: | F13: 823 27 11 | I13: CC-CZ:
D14: Místo: | F14: Roudnice nad Labem | I14: Datum: | J14: ='Rekapitulace stavby'!AN8 -> 22. 5. 2024
D16: Zadavatel: | I16: IČ:
I17: DIČ:
D19: Účastník: | I19: IČ: | J19: ='Rekapitulace stavby'!AN13 -> Vyplň údaj
E20: ='Rekapitulace stavby'!E14 -> Vyplň údaj | I20: DIČ: | J20: ='Rekapitulace stavby'!AN14 -> Vyplň údaj
D22: Projektant: | I22: IČ:
E23: Land05 s.r.o. | I23: DIČ:
D25: Zpracovatel: | I25: IČ: | J25: 07206062
E26: Soloreal s.r.o. | I26: DIČ:
D28: Poznámka:
D32: Cena bez DPH | J32: =ROUND(J94, 2) -> 0
F34: Základ daně | I34: Sazba daně | J34: Výše daně
D35: DPH | E35: základní | F35: =ROUND((SUM(BE94:BE248)), 2) -> 0 | I35: 0.21 | J35: =ROUND(((SUM(BE94:BE248))*I35), 2) -> 0
E36: snížená | F36: =ROUND((SUM(BF94:BF248)), 2) -> 0 | I36: 0.12 | J36: =ROUND(((SUM(BF94:BF248))*I36), 2) -> 0
E37: zákl. přenesená | F37: =ROUND((SUM(BG94:BG248)), 2) -> 0 | I37: 0.21 | J37: =0 -> 0
E38: sníž. přenesená | F38: =ROUND((SUM(BH94:BH248)), 2) -> 0 | I38: 0.12 | J38: =0 -> 0
E39: nulová | F39: =ROUND((SUM(BI94:BI248)), 2) -> 0 | I39: 0 | J39: =0 -> 0
D41: Cena s DPH | G41: v | H41: CZK | J41: =SUM(J32:J39) -> 0
C47: REKAPITULACE ČLENĚNÍ SOUPISU PRACÍ
C49: Stavba:
E50: =E7 -> Lesopark Na Kolečku-DPS - revize
C51: Objekt:
E52: 01 - 1. ETAPA
C53: Soupis:
E54: =E11 -> SO 01.2 - Schody a rampa
C56: Místo: | F56: =F14 -> Roudnice nad Labem | I56: Datum: | J56: =IF(J14="","",J14) -> 22. 5. 2024
C58: Zadavatel: | F58: =E17 | I58: Projektant: | J58: =E23 -> Land05 s.r.o.
C59: Účastník: | F59: =IF(E20="","",E20) -> Vyplň údaj | I59: Zpracovatel: | J59: =E26 -> Soloreal s.r.o.
C61: Kód dílu - Popis | J61: Cena celkem [CZK]
C63: Náklady stavby celkem | J63: =J94 -> 0 | AU63: -1
...

Sheet SO 02 - Veřejné osvětlení
AT2: {99df0b34-04f2-4810-aa2b-cd84f8259663}
AT3: 2
D4: KRYCÍ LIST SOUPISU PRACÍ | M4: v --- níže se nacházejí doplnkové a pomocné údaje k sestavám --- v | AT4: False
D6: Stavba:
E7: ='Rekapitulace stavby'!K6 -> Lesopark Na Kolečku-DPS - revize
D8: Objekt:
E9: 01 - 1. ETAPA
D10: Soupis:
E11: SO 02 - Veřejné osvětlení
D13: KSO: | F13: 823 27 11 | I13: CC-CZ:
D14: Místo: | F14: Roudnice nad Labem | I14: Datum: | J14: ='Rekapitulace stavby'!AN8 -> 22. 5. 2024
D16: Zadavatel: | I16: IČ:
I17: DIČ:
D19: Účastník: | I19: IČ: | J19: ='Rekapitulace stavby'!AN13 -> Vyplň údaj
E20: ='Rekapitulace stavby'!E14 -> Vyplň údaj | I20: DIČ: | J20: ='Rekapitulace stavby'!AN14 -> Vyplň údaj
D22: Projektant: | I22: IČ:
E23: Land05 s.r.o. | I23: DIČ:
D25: Zpracovatel: | I25: IČ: | J25: 07206062
E26: Soloreal s.r.o. | I26: DIČ:
D28: Poznámka:
D32: Cena bez DPH | J32: =ROUND(J97, 2) -> 0
F34: Základ daně | I34: Sazba daně | J34: Výše daně
D35: DPH | E35: základní | F35: =ROUND((SUM(BE97:BE296)), 2) -> 0 | I35: 0.21 | J35: =ROUND(((SUM(BE97:BE296))*I35), 2) -> 0
E36: snížená | F36: =ROUND((SUM(BF97:BF296)), 2) -> 0 | I36: 0.12 | J36: =ROUND(((SUM(BF97:BF296))*I36), 2) -> 0
E37: zákl. přenesená | F37: =ROUND((SUM(BG97:BG296)), 2) -> 0 | I37: 0.21 | J37: =0 -> 0
E38: sníž. přenesená | F38: =ROUND((SUM(BH97:BH296)), 2) -> 0 | I38: 0.12 | J38: =0 -> 0
E39: nulová | F39: =ROUND((SUM(BI97:BI296)), 2) -> 0 | I39: 0 | J39: =0 -> 0
D41: Cena s DPH | G41: v | H41: CZK | J41: =SUM(J32:J39) -> 0
C47: REKAPITULACE ČLENĚNÍ SOUPISU PRACÍ
C49: Stavba:
E50: =E7 -> Lesopark Na Kolečku-DPS - revize
C51: Objekt:
E52: 01 - 1. ETAPA
C53: Soupis:
E54: =E11 -> SO 02 - Veřejné osvětlení
C56: Místo: | F56: =F14 -> Roudnice nad Labem | I56: Datum: | J56: =IF(J14="","",J14) -> 22. 5. 2024
C58: Zadavatel: | F58: =E17 | I58: Projektant: | J58: =E23 -> Land05 s.r.o.
C59: Účastník: | F59: =IF(E20="","",E20) -> Vyplň údaj | I59: Zpracovatel: | J59: =E26 -> Soloreal s.r.o.
C61: Kód dílu - Popis | J61: Cena celkem [CZK]
C63: Náklady stavby celkem | J63: =J97 -> 0 | AU63: -1
...

Sheet SO 03.1a - Vodovodní příp...
AT2: {866a0846-e2fc-4195-82c8-7ee56c3863ca}
AT3: 2
D4: KRYCÍ LIST SOUPISU PRACÍ | M4: v --- níže se nacházejí doplnkové a pomocné údaje k sestavám --- v | AT4: False
D6: Stavba:
E7: ='Rekapitulace stavby'!K6 -> Lesopark Na Kolečku-DPS - revize
D8: Objekt:
E9: 01 - 1. ETAPA
D10: Soupis:
E11: SO 03.1a - Vodovodní přípojka
D13: KSO: | F13: 823 27 11 | I13: CC-CZ:
D14: Místo: | F14: Roudnice nad Labem | I14: Datum: | J14: ='Rekapitulace stavby'!AN8 -> 22. 5. 2024
D16: Zadavatel: | I16: IČ:
I17: DIČ:
D19: Účastník: | I19: IČ: | J19: ='Rekapitulace stavby'!AN13 -> Vyplň údaj
E20: ='Rekapitulace stavby'!E14 -> Vyplň údaj | I20: DIČ: | J20: ='Rekapitulace stavby'!AN14 -> Vyplň údaj
D22: Projektant: | I22: IČ:
E23: Land05 s.r.o. | I23: DIČ:
D25: Zpracovatel: | I25: IČ: | J25: 07206062
E26: Soloreal s.r.o. | I26: DIČ:
D28: Poznámka:
D32: Cena bez DPH | J32: =ROUND(J94, 2) -> 0
F34: Základ daně | I34: Sazba daně | J34: Výše daně
D35: DPH | E35: základní | F35: =ROUND((SUM(BE94:BE280)), 2) -> 0 | I35: 0.21 | J35: =ROUND(((SUM(BE94:BE280))*I35), 2) -> 0
E36: snížená | F36: =ROUND((SUM(BF94:BF280)), 2) -> 0 | I36: 0.12 | J36: =ROUND(((SUM(BF94:BF280))*I36), 2) -> 0
E37: zákl. přenesená | F37: =ROUND((SUM(BG94:BG280)), 2) -> 0 | I37: 0.21 | J37: =0 -> 0
E38: sníž. přenesená | F38: =ROUND((SUM(BH94:BH280)), 2) -> 0 | I38: 0.12 | J38: =0 -> 0
E39: nulová | F39: =ROUND((SUM(BI94:BI280)), 2) -> 0 | I39: 0 | J39: =0 -> 0
D41: Cena s DPH | G41: v | H41: CZK | J41: =SUM(J32:J39) -> 0
C47: REKAPITULACE ČLENĚNÍ SOUPISU PRACÍ
C49: Stavba:
E50: =E7 -> Lesopark Na Kolečku-DPS - revize
C51: Objekt:
E52: 01 - 1. ETAPA
C53: Soupis:
E54: =E11 -> SO 03.1a - Vodovodní přípojka
C56: Místo: | F56: =F14 -> Roudnice nad Labem | I56: Datum: | J56: =IF(J14="","",J14) -> 22. 5. 2024
C58: Zadavatel: | F58: =E17 | I58: Projektant: | J58: =E23 -> Land05 s.r.o.
C59: Účastník: | F59: =IF(E20="","",E20) -> Vyplň údaj | I59: Zpracovatel: | J59: =E26 -> Soloreal s.r.o.
C61: Kód dílu - Popis | J61: Cena celkem [CZK]
C63: Náklady stavby celkem | J63: =J94 -> 0 | AU63: -1
...

Sheet SO 03.2a - Kanalizační př...
AT2: {115b3f86-e07f-40c9-98b5-21d4c6321772}
AT3: 2
D4: KRYCÍ LIST SOUPISU PRACÍ | M4: v --- níže se nacházejí doplnkové a pomocné údaje k sestavám --- v | AT4: False
D6: Stavba:
E7: ='Rekapitulace stavby'!K6 -> Lesopark Na Kolečku-DPS - revize
D8: Objekt:
E9: 01 - 1. ETAPA
D10: Soupis:
E11: SO 03.2a - Kanalizační přípojka
D13: KSO: | F13: 823 27 11 | I13: CC-CZ:
D14: Místo: | F14: Roudnice nad Labem | I14: Datum: | J14: ='Rekapitulace stavby'!AN8 -> 22. 5. 2024
D16: Zadavatel: | I16: IČ:
I17: DIČ:
D19: Účastník: | I19: IČ: | J19: ='Rekapitulace stavby'!AN13 -> Vyplň údaj
E20: ='Rekapitulace stavby'!E14 -> Vyplň údaj | I20: DIČ: | J20: ='Rekapitulace stavby'!AN14 -> Vyplň údaj
D22: Projektant: | I22: IČ:
E23: Land05 s.r.o. | I23: DIČ:
D25: Zpracovatel: | I25: IČ: | J25: 07206062
E26: Soloreal s.r.o. | I26: DIČ:
D28: Poznámka:
D32: Cena bez DPH | J32: =ROUND(J92, 2) -> 0
F34: Základ daně | I34: Sazba daně | J34: Výše daně
D35: DPH | E35: základní | F35: =ROUND((SUM(BE92:BE202)), 2) -> 0 | I35: 0.21 | J35: =ROUND(((SUM(BE92:BE202))*I35), 2) -> 0
E36: snížená | F36: =ROUND((SUM(BF92:BF202)), 2) -> 0 | I36: 0.12 | J36: =ROUND(((SUM(BF92:BF202))*I36), 2) -> 0
E37: zákl. přenesená | F37: =ROUND((SUM(BG92:BG202)), 2) -> 0 | I37: 0.21 | J37: =0 -> 0
E38: sníž. přenesená | F38: =ROUND((SUM(BH92:BH202)), 2) -> 0 | I38: 0.12 | J38: =0 -> 0
E39: nulová | F39: =ROUND((SUM(BI92:BI202)), 2) -> 0 | I39: 0 | J39: =0 -> 0
D41: Cena s DPH | G41: v | H41: CZK | J41: =SUM(J32:J39) -> 0
C47: REKAPITULACE ČLENĚNÍ SOUPISU PRACÍ
C49: Stavba:
E50: =E7 -> Lesopark Na Kolečku-DPS - revize
C51: Objekt:
E52: 01 - 1. ETAPA
C53: Soupis:
E54: =E11 -> SO 03.2a - Kanalizační přípojka
C56: Místo: | F56: =F14 -> Roudnice nad Labem | I56: Datum: | J56: =IF(J14="","",J14) -> 22. 5. 2024
C58: Zadavatel: | F58: =E17 | I58: Projektant: | J58: =E23 -> Land05 s.r.o.
C59: Účastník: | F59: =IF(E20="","",E20) -> Vyplň údaj | I59: Zpracovatel: | J59: =E26 -> Soloreal s.r.o.
C61: Kód dílu - Popis | J61: Cena celkem [CZK]
C63: Náklady stavby celkem | J63: =J92 -> 0 | AU63: -1
...

Sheet SO 03.b.1 - Odvodnění - z...
AT2: {d3f81324-ca52-4308-863d-c12319876a3e}
AT3: 2
D4: KRYCÍ LIST SOUPISU PRACÍ | M4: v --- níže se nacházejí doplnkové a pomocné údaje k sestavám --- v | AT4: False
D6: Stavba:
E7: ='Rekapitulace stavby'!K6 -> Lesopark Na Kolečku-DPS - revize
D8: Objekt:
E9: 01 - 1. ETAPA
D10: Soupis:
E11: SO 03.b - Odvodnění
D12: Úroveň 3:
E13: SO 03.b.1 - Odvodnění - způsobilé náklady
D15: KSO: | F15: 823 27 11 | I15: CC-CZ:
D16: Místo: | F16: Roudnice nad Labem | I16: Datum: | J16: ='Rekapitulace stavby'!AN8 -> 22. 5. 2024
D18: Zadavatel: | I18: IČ:
I19: DIČ:
D21: Účastník: | I21: IČ: | J21: ='Rekapitulace stavby'!AN13 -> Vyplň údaj
E22: ='Rekapitulace stavby'!E14 -> Vyplň údaj | I22: DIČ: | J22: ='Rekapitulace stavby'!AN14 -> Vyplň údaj
D24: Projektant: | I24: IČ:
E25: Land05 s.r.o. | I25: DIČ:
D27: Zpracovatel: | I27: IČ: | J27: 07206062
E28: Soloreal s.r.o. | I28: DIČ:
D30: Poznámka:
D34: Cena bez DPH | J34: =ROUND(J97, 2) -> 0
F36: Základ daně | I36: Sazba daně | J36: Výše daně
D37: DPH | E37: základní | F37: =ROUND((SUM(BE97:BE238)), 2) -> 0 | I37: 0.21 | J37: =ROUND(((SUM(BE97:BE238))*I37), 2) -> 0
E38: snížená | F38: =ROUND((SUM(BF97:BF238)), 2) -> 0 | I38: 0.12 | J38: =ROUND(((SUM(BF97:BF238))*I38), 2) -> 0
E39: zákl. přenesená | F39: =ROUND((SUM(BG97:BG238)), 2) -> 0 | I39: 0.21 | J39: =0 -> 0
E40: sníž. přenesená | F40: =ROUND((SUM(BH97:BH238)), 2) -> 0 | I40: 0.12 | J40: =0 -> 0
E41: nulová | F41: =ROUND((SUM(BI97:BI238)), 2) -> 0 | I41: 0 | J41: =0 -> 0
D43: Cena s DPH | G43: v | H43: CZK | J43: =SUM(J34:J41) -> 0
C49: REKAPITULACE ČLENĚNÍ SOUPISU PRACÍ
C51: Stavba:
E52: =E7 -> Lesopark Na Kolečku-DPS - revize
C53: Objekt:
E54: 01 - 1. ETAPA
C55: Soupis:
E56: SO 03.b - Odvodnění
C57: Úroveň 3:
E58: =E13 -> SO 03.b.1 - Odvodnění - způsobilé náklady
C60: Místo: | F60: =F16 -> Roudnice nad Labem | I60: Datum: | J60: =IF(J16="","",J16) -> 22. 5. 2024
...

Sheet SO 03.b.2 - Odvodnění - n...
AT2: {91081f3e-d0ee-44c4-b7ba-66323b58a494}
AT3: 2
D4: KRYCÍ LIST SOUPISU PRACÍ | M4: v --- níže se nacházejí doplnkové a pomocné údaje k sestavám --- v | AT4: False
D6: Stavba:
E7: ='Rekapitulace stavby'!K6 -> Lesopark Na Kolečku-DPS - revize
D8: Objekt:
E9: 01 - 1. ETAPA
D10: Soupis:
E11: SO 03.b - Odvodnění
D12: Úroveň 3:
E13: SO 03.b.2 - Odvodnění - nezpůsobilé náklady
D15: KSO: | F15: 823 27 11 | I15: CC-CZ:
D16: Místo: | F16: Roudnice nad Labem | I16: Datum: | J16: ='Rekapitulace stavby'!AN8 -> 22. 5. 2024
D18: Zadavatel: | I18: IČ:
I19: DIČ:
D21: Účastník: | I21: IČ: | J21: ='Rekapitulace stavby'!AN13 -> Vyplň údaj
E22: ='Rekapitulace stavby'!E14 -> Vyplň údaj | I22: DIČ: | J22: ='Rekapitulace stavby'!AN14 -> Vyplň údaj
D24: Projektant: | I24: IČ:
E25: Land05 s.r.o. | I25: DIČ:
D27: Zpracovatel: | I27: IČ: | J27: 07206062
E28: Soloreal s.r.o. | I28: DIČ:
D30: Poznámka:
D34: Cena bez DPH | J34: =ROUND(J96, 2) -> 0
F36: Základ daně | I36: Sazba daně | J36: Výše daně
D37: DPH | E37: základní | F37: =ROUND((SUM(BE96:BE132)), 2) -> 0 | I37: 0.21 | J37: =ROUND(((SUM(BE96:BE132))*I37), 2) -> 0
E38: snížená | F38: =ROUND((SUM(BF96:BF132)), 2) -> 0 | I38: 0.12 | J38: =ROUND(((SUM(BF96:BF132))*I38), 2) -> 0
E39: zákl. přenesená | F39: =ROUND((SUM(BG96:BG132)), 2) -> 0 | I39: 0.21 | J39: =0 -> 0
E40: sníž. přenesená | F40: =ROUND((SUM(BH96:BH132)), 2) -> 0 | I40: 0.12 | J40: =0 -> 0
E41: nulová | F41: =ROUND((SUM(BI96:BI132)), 2) -> 0 | I41: 0 | J41: =0 -> 0
D43: Cena s DPH | G43: v | H43: CZK | J43: =SUM(J34:J41) -> 0
C49: REKAPITULACE ČLENĚNÍ SOUPISU PRACÍ
C51: Stavba:
E52: =E7 -> Lesopark Na Kolečku-DPS - revize
C53: Objekt:
E54: 01 - 1. ETAPA
C55: Soupis:
E56: SO 03.b - Odvodnění
C57: Úroveň 3:
E58: =E13 -> SO 03.b.2 - Odvodnění - nezpůsobilé náklady
C60: Místo: | F60: =F16 -> Roudnice nad Labem | I60: Datum: | J60: =IF(J16="","",J16) -> 22. 5. 2024
...

Sheet SO 05 - Drobná architektura
AT2: {f127d2fa-00d8-44cb-ab64-1c551d41b5cb}
AT3: 2
D4: KRYCÍ LIST SOUPISU PRACÍ | M4: v --- níže se nacházejí doplnkové a pomocné údaje k sestavám --- v | AT4: False
D6: Stavba:
E7: ='Rekapitulace stavby'!K6 -> Lesopark Na Kolečku-DPS - revize
D8: Objekt:
E9: 01 - 1. ETAPA
D10: Soupis:
E11: SO 05 - Drobná architektura
D13: KSO: | F13: 823 27 11 | I13: CC-CZ:
D14: Místo: | F14: Roudnice nad Labem | I14: Datum: | J14: ='Rekapitulace stavby'!AN8 -> 22. 5. 2024
D16: Zadavatel: | I16: IČ:
I17: DIČ:
D19: Účastník: | I19: IČ: | J19: ='Rekapitulace stavby'!AN13 -> Vyplň údaj
E20: ='Rekapitulace stavby'!E14 -> Vyplň údaj | I20: DIČ: | J20: ='Rekapitulace stavby'!AN14 -> Vyplň údaj
D22: Projektant: | I22: IČ:
E23: Land05 s.r.o. | I23: DIČ:
D25: Zpracovatel: | I25: IČ: | J25: 07206062
E26: Soloreal s.r.o. | I26: DIČ:
D28: Poznámka:
D32: Cena bez DPH | J32: =ROUND(J93, 2) -> 0
F34: Základ daně | I34: Sazba daně | J34: Výše daně
D35: DPH | E35: základní | F35: =ROUND((SUM(BE93:BE231)), 2) -> 0 | I35: 0.21 | J35: =ROUND(((SUM(BE93:BE231))*I35), 2) -> 0
E36: snížená | F36: =ROUND((SUM(BF93:BF231)), 2) -> 0 | I36: 0.12 | J36: =ROUND(((SUM(BF93:BF231))*I36), 2) -> 0
E37: zákl. přenesená | F37: =ROUND((SUM(BG93:BG231)), 2) -> 0 | I37: 0.21 | J37: =0 -> 0
E38: sníž. přenesená | F38: =ROUND((SUM(BH93:BH231)), 2) -> 0 | I38: 0.12 | J38: =0 -> 0
E39: nulová | F39: =ROUND((SUM(BI93:BI231)), 2) -> 0 | I39: 0 | J39: =0 -> 0
D41: Cena s DPH | G41: v | H41: CZK | J41: =SUM(J32:J39) -> 0
C47: REKAPITULACE ČLENĚNÍ SOUPISU PRACÍ
C49: Stavba:
E50: =E7 -> Lesopark Na Kolečku-DPS - revize
C51: Objekt:
E52: 01 - 1. ETAPA
C53: Soupis:
E54: =E11 -> SO 05 - Drobná architektura
C56: Místo: | F56: =F14 -> Roudnice nad Labem | I56: Datum: | J56: =IF(J14="","",J14) -> 22. 5. 2024
C58: Zadavatel: | F58: =E17 | I58: Projektant: | J58: =E23 -> Land05 s.r.o.
C59: Účastník: | F59: =IF(E20="","",E20) -> Vyplň údaj | I59: Zpracovatel: | J59: =E26 -> Soloreal s.r.o.
C61: Kód dílu - Popis | J61: Cena celkem [CZK]
C63: Náklady stavby celkem | J63: =J93 -> 0 | AU63: -1
...

Sheet SO 06.1 - Krajinářské úpr...
AT2: {170b0904-732c-49f6-a0a9-ab6ead5f3eea}
AT3: 2
D4: KRYCÍ LIST SOUPISU PRACÍ | M4: v --- níže se nacházejí doplnkové a pomocné údaje k sestavám --- v | AT4: False
D6: Stavba:
E7: ='Rekapitulace stavby'!K6 -> Lesopark Na Kolečku-DPS - revize
D8: Objekt:
E9: 01 - 1. ETAPA
D10: Soupis:
E11: SO 06 - Krajinářské úpravy
D12: Úroveň 3:
E13: SO 06.1 - Krajinářské úpravy - způsobilé náklady
D15: KSO: | F15: 823 27 11 | I15: CC-CZ:
D16: Místo: | F16: Roudnice nad Labem | I16: Datum: | J16: ='Rekapitulace stavby'!AN8 -> 22. 5. 2024
D18: Zadavatel: | I18: IČ:
I19: DIČ:
D21: Účastník: | I21: IČ: | J21: ='Rekapitulace stavby'!AN13 -> Vyplň údaj
E22: ='Rekapitulace stavby'!E14 -> Vyplň údaj | I22: DIČ: | J22: ='Rekapitulace stavby'!AN14 -> Vyplň údaj
D24: Projektant: | I24: IČ:
E25: Land05 s.r.o. | I25: DIČ:
D27: Zpracovatel: | I27: IČ: | J27: 07206062
E28: Soloreal s.r.o. | I28: DIČ:
D30: Poznámka:
D34: Cena bez DPH | J34: =ROUND(J96, 2) -> 0
F36: Základ daně | I36: Sazba daně | J36: Výše daně
D37: DPH | E37: základní | F37: =ROUND((SUM(BE96:BE697)), 2) -> 0 | I37: 0.21 | J37: =ROUND(((SUM(BE96:BE697))*I37), 2) -> 0
E38: snížená | F38: =ROUND((SUM(BF96:BF697)), 2) -> 0 | I38: 0.12 | J38: =ROUND(((SUM(BF96:BF697))*I38), 2) -> 0
E39: zákl. přenesená | F39: =ROUND((SUM(BG96:BG697)), 2) -> 0 | I39: 0.21 | J39: =0 -> 0
E40: sníž. přenesená | F40: =ROUND((SUM(BH96:BH697)), 2) -> 0 | I40: 0.12 | J40: =0 -> 0
E41: nulová | F41: =ROUND((SUM(BI96:BI697)), 2) -> 0 | I41: 0 | J41: =0 -> 0
D43: Cena s DPH | G43: v | H43: CZK | J43: =SUM(J34:J41) -> 0
C49: REKAPITULACE ČLENĚNÍ SOUPISU PRACÍ
C51: Stavba:
E52: =E7 -> Lesopark Na Kolečku-DPS - revize
C53: Objekt:
E54: 01 - 1. ETAPA
C55: Soupis:
E56: SO 06 - Krajinářské úpravy
C57: Úroveň 3:
E58: =E13 -> SO 06.1 - Krajinářské úpravy - způsobilé náklady
C60: Místo: | F60: =F16 -> Roudnice nad Labem | I60: Datum: | J60: =IF(J16="","",J16) -> 22. 5. 2024
...

Sheet SO 06.2 - Krajinářské úpr...
AT2: {bacf2527-1626-4f29-927b-57cfcb501283}
AT3: 2
D4: KRYCÍ LIST SOUPISU PRACÍ | M4: v --- níže se nacházejí doplnkové a pomocné údaje k sestavám --- v | AT4: False
D6: Stavba:
E7: ='Rekapitulace stavby'!K6 -> Lesopark Na Kolečku-DPS - revize
D8: Objekt:
E9: 01 - 1. ETAPA
D10: Soupis:
E11: SO 06 - Krajinářské úpravy
D12: Úroveň 3:
E13: SO 06.2 - Krajinářské úpravy - nezpůsobilé náklady
D15: KSO: | F15: 823 27 11 | I15: CC-CZ:
D16: Místo: | F16: Roudnice nad Labem | I16: Datum: | J16: ='Rekapitulace stavby'!AN8 -> 22. 5. 2024
D18: Zadavatel: | I18: IČ:
I19: DIČ:
D21: Účastník: | I21: IČ: | J21: ='Rekapitulace stavby'!AN13 -> Vyplň údaj
E22: ='Rekapitulace stavby'!E14 -> Vyplň údaj | I22: DIČ: | J22: ='Rekapitulace stavby'!AN14 -> Vyplň údaj
D24: Projektant: | I24: IČ:
E25: Land05 s.r.o. | I25: DIČ:
D27: Zpracovatel: | I27: IČ: | J27: 07206062
E28: Soloreal s.r.o. | I28: DIČ:
D30: Poznámka:
D34: Cena bez DPH | J34: =ROUND(J104, 2) -> 0
F36: Základ daně | I36: Sazba daně | J36: Výše daně
D37: DPH | E37: základní | F37: =ROUND((SUM(BE104:BE466)), 2) -> 0 | I37: 0.21 | J37: =ROUND(((SUM(BE104:BE466))*I37), 2) -> 0
E38: snížená | F38: =ROUND((SUM(BF104:BF466)), 2) -> 0 | I38: 0.12 | J38: =ROUND(((SUM(BF104:BF466))*I38), 2) -> 0
E39: zákl. přenesená | F39: =ROUND((SUM(BG104:BG466)), 2) -> 0 | I39: 0.21 | J39: =0 -> 0
E40: sníž. přenesená | F40: =ROUND((SUM(BH104:BH466)), 2) -> 0 | I40: 0.12 | J40: =0 -> 0
E41: nulová | F41: =ROUND((SUM(BI104:BI466)), 2) -> 0 | I41: 0 | J41: =0 -> 0
D43: Cena s DPH | G43: v | H43: CZK | J43: =SUM(J34:J41) -> 0
C49: REKAPITULACE ČLENĚNÍ SOUPISU PRACÍ
C51: Stavba:
E52: =E7 -> Lesopark Na Kolečku-DPS - revize
C53: Objekt:
E54: 01 - 1. ETAPA
C55: Soupis:
E56: SO 06 - Krajinářské úpravy
C57: Úroveň 3:
E58: =E13 -> SO 06.2 - Krajinářské úpravy - nezpůsobilé náklady
C60: Místo: | F60: =F16 -> Roudnice nad Labem | I60: Datum: | J60: =IF(J16="","",J16) -> 22. 5. 2024
...

Sheet SO 07 - Demolice
AT2: {3ce9ae23-8cc5-421c-978d-3d59b74f5113}
AT3: 2
D4: KRYCÍ LIST SOUPISU PRACÍ | M4: v --- níže se nacházejí doplnkové a pomocné údaje k sestavám --- v | AT4: False
D6: Stavba:
E7: ='Rekapitulace stavby'!K6 -> Lesopark Na Kolečku-DPS - revize
D8: Objekt:
E9: 01 - 1. ETAPA
D10: Soupis:
E11: SO 07 - Demolice
D13: KSO: | F13: 823 27 11 | I13: CC-CZ:
D14: Místo: | F14: Roudnice nad Labem | I14: Datum: | J14: ='Rekapitulace stavby'!AN8 -> 22. 5. 2024
D16: Zadavatel: | I16: IČ:
I17: DIČ:
D19: Účastník: | I19: IČ: | J19: ='Rekapitulace stavby'!AN13 -> Vyplň údaj
E20: ='Rekapitulace stavby'!E14 -> Vyplň údaj | I20: DIČ: | J20: ='Rekapitulace stavby'!AN14 -> Vyplň údaj
D22: Projektant: | I22: IČ:
E23: Land05 s.r.o. | I23: DIČ:
D25: Zpracovatel: | I25: IČ: | J25: 07206062
E26: Soloreal s.r.o. | I26: DIČ:
D28: Poznámka:
D32: Cena bez DPH | J32: =ROUND(J88, 2) -> 0
F34: Základ daně | I34: Sazba daně | J34: Výše daně
D35: DPH | E35: základní | F35: =ROUND((SUM(BE88:BE121)), 2) -> 0 | I35: 0.21 | J35: =ROUND(((SUM(BE88:BE121))*I35), 2) -> 0
E36: snížená | F36: =ROUND((SUM(BF88:BF121)), 2) -> 0 | I36: 0.12 | J36: =ROUND(((SUM(BF88:BF121))*I36), 2) -> 0
E37: zákl. přenesená | F37: =ROUND((SUM(BG88:BG121)), 2) -> 0 | I37: 0.21 | J37: =0 -> 0
E38: sníž. přenesená | F38: =ROUND((SUM(BH88:BH121)), 2) -> 0 | I38: 0.12 | J38: =0 -> 0
E39: nulová | F39: =ROUND((SUM(BI88:BI121)), 2) -> 0 | I39: 0 | J39: =0 -> 0
D41: Cena s DPH | G41: v | H41: CZK | J41: =SUM(J32:J39) -> 0
C47: REKAPITULACE ČLENĚNÍ SOUPISU PRACÍ
C49: Stavba:
E50: =E7 -> Lesopark Na Kolečku-DPS - revize
C51: Objekt:
E52: 01 - 1. ETAPA
C53: Soupis:
E54: =E11 -> SO 07 - Demolice
C56: Místo: | F56: =F14 -> Roudnice nad Labem | I56: Datum: | J56: =IF(J14="","",J14) -> 22. 5. 2024
C58: Zadavatel: | F58: =E17 | I58: Projektant: | J58: =E23 -> Land05 s.r.o.
C59: Účastník: | F59: =IF(E20="","",E20) -> Vyplň údaj | I59: Zpracovatel: | J59: =E26 -> Soloreal s.r.o.
C61: Kód dílu - Popis | J61: Cena celkem [CZK]
C63: Náklady stavby celkem | J63: =J88 -> 0 | AU63: -1
...

Sheet SO 08 - Úprava sousedního...
AT2: {282b6369-209b-4b0d-91d7-c47f7bf8a0a7}
AT3: 2
D4: KRYCÍ LIST SOUPISU PRACÍ | M4: v --- níže se nacházejí doplnkové a pomocné údaje k sestavám --- v | AT4: False
D6: Stavba:
E7: ='Rekapitulace stavby'!K6 -> Lesopark Na Kolečku-DPS - revize
D8: Objekt:
E9: 01 - 1. ETAPA
D10: Soupis:
E11: SO 08 - Úprava sousedního pozemku
D13: KSO: | F13: 823 27 11 | I13: CC-CZ:
D14: Místo: | F14: Roudnice nad Labem | I14: Datum: | J14: ='Rekapitulace stavby'!AN8 -> 22. 5. 2024
D16: Zadavatel: | I16: IČ:
I17: DIČ:
D19: Účastník: | I19: IČ: | J19: ='Rekapitulace stavby'!AN13 -> Vyplň údaj
E20: ='Rekapitulace stavby'!E14 -> Vyplň údaj | I20: DIČ: | J20: ='Rekapitulace stavby'!AN14 -> Vyplň údaj
D22: Projektant: | I22: IČ:
E23: Land05 s.r.o. | I23: DIČ:
D25: Zpracovatel: | I25: IČ: | J25: 07206062
E26: Soloreal s.r.o. | I26: DIČ:
D28: Poznámka:
D32: Cena bez DPH | J32: =ROUND(J87, 2) -> 0
F34: Základ daně | I34: Sazba daně | J34: Výše daně
D35: DPH | E35: základní | F35: =ROUND((SUM(BE87:BE136)), 2) -> 0 | I35: 0.21 | J35: =ROUND(((SUM(BE87:BE136))*I35), 2) -> 0
E36: snížená | F36: =ROUND((SUM(BF87:BF136)), 2) -> 0 | I36: 0.12 | J36: =ROUND(((SUM(BF87:BF136))*I36), 2) -> 0
E37: zákl. přenesená | F37: =ROUND((SUM(BG87:BG136)), 2) -> 0 | I37: 0.21 | J37: =0 -> 0
E38: sníž. přenesená | F38: =ROUND((SUM(BH87:BH136)), 2) -> 0 | I38: 0.12 | J38: =0 -> 0
E39: nulová | F39: =ROUND((SUM(BI87:BI136)), 2) -> 0 | I39: 0 | J39: =0 -> 0
D41: Cena s DPH | G41: v | H41: CZK | J41: =SUM(J32:J39) -> 0
C47: REKAPITULACE ČLENĚNÍ SOUPISU PRACÍ
C49: Stavba:
E50: =E7 -> Lesopark Na Kolečku-DPS - revize
C51: Objekt:
E52: 01 - 1. ETAPA
C53: Soupis:
E54: =E11 -> SO 08 - Úprava sousedního pozemku
C56: Místo: | F56: =F14 -> Roudnice nad Labem | I56: Datum: | J56: =IF(J14="","",J14) -> 22. 5. 2024
C58: Zadavatel: | F58: =E17 | I58: Projektant: | J58: =E23 -> Land05 s.r.o.
C59: Účastník: | F59: =IF(E20="","",E20) -> Vyplň údaj | I59: Zpracovatel: | J59: =E26 -> Soloreal s.r.o.
C61: Kód dílu - Popis | J61: Cena celkem [CZK]
C63: Náklady stavby celkem | J63: =J87 -> 0 | AU63: -1
...

Sheet VRN - Vedlejší rozpočtové...
AT2: {173cdd30-dd52-48ae-9cf0-0b5f9af6c5b7}
AT3: 2
D4: KRYCÍ LIST SOUPISU PRACÍ | M4: v --- níže se nacházejí doplnkové a pomocné údaje k sestavám --- v | AT4: False
D6: Stavba:
E7: ='Rekapitulace stavby'!K6 -> Lesopark Na Kolečku-DPS - revize
D8: Objekt:
E9: 01 - 1. ETAPA
D10: Soupis:
E11: VRN - Vedlejší rozpočtové náklady
D13: KSO: | F13: 823 27 11 | I13: CC-CZ:
D14: Místo: | F14: Roudnice nad Labem | I14: Datum: | J14: ='Rekapitulace stavby'!AN8 -> 22. 5. 2024
D16: Zadavatel: | I16: IČ:
I17: DIČ:
D19: Účastník: | I19: IČ: | J19: ='Rekapitulace stavby'!AN13 -> Vyplň údaj
E20: ='Rekapitulace stavby'!E14 -> Vyplň údaj | I20: DIČ: | J20: ='Rekapitulace stavby'!AN14 -> Vyplň údaj
D22: Projektant: | I22: IČ:
E23: Land05 s.r.o. | I23: DIČ:
D25: Zpracovatel: | I25: IČ: | J25: 07206062
E26: Soloreal s.r.o. | I26: DIČ:
D28: Poznámka:
D32: Cena bez DPH | J32: =ROUND(J92, 2) -> 0
F34: Základ daně | I34: Sazba daně | J34: Výše daně
D35: DPH | E35: základní | F35: =ROUND((SUM(BE92:BE127)), 2) -> 0 | I35: 0.21 | J35: =ROUND(((SUM(BE92:BE127))*I35), 2) -> 0
E36: snížená | F36: =ROUND((SUM(BF92:BF127)), 2) -> 0 | I36: 0.12 | J36: =ROUND(((SUM(BF92:BF127))*I36), 2) -> 0
E37: zákl. přenesená | F37: =ROUND((SUM(BG92:BG127)), 2) -> 0 | I37: 0.21 | J37: =0 -> 0
E38: sníž. přenesená | F38: =ROUND((SUM(BH92:BH127)), 2) -> 0 | I38: 0.12 | J38: =0 -> 0
E39: nulová | F39: =ROUND((SUM(BI92:BI127)), 2) -> 0 | I39: 0 | J39: =0 -> 0
D41: Cena s DPH | G41: v | H41: CZK | J41: =SUM(J32:J39) -> 0
C47: REKAPITULACE ČLENĚNÍ SOUPISU PRACÍ
C49: Stavba:
E50: =E7 -> Lesopark Na Kolečku-DPS - revize
C51: Objekt:
E52: 01 - 1. ETAPA
C53: Soupis:
E54: =E11 -> VRN - Vedlejší rozpočtové náklady
C56: Místo: | F56: =F14 -> Roudnice nad Labem | I56: Datum: | J56: =IF(J14="","",J14) -> 22. 5. 2024
C58: Zadavatel: | F58: =E17 | I58: Projektant: | J58: =E23 -> Land05 s.r.o.
C59: Účastník: | F59: =IF(E20="","",E20) -> Vyplň údaj | I59: Zpracovatel: | J59: =E26 -> Soloreal s.r.o.
C61: Kód dílu - Popis | J61: Cena celkem [CZK]
C63: Náklady stavby celkem | J63: =J92 -> 0 | AU63: -1
...

Sheet SO 01.3 - Dřevěná paluba
AT2: {688bc7cf-ac18-44f9-9c84-bfd5ca7781aa}
AT3: 2
D4: KRYCÍ LIST SOUPISU PRACÍ | M4: v --- níže se nacházejí doplnkové a pomocné údaje k sestavám --- v | AT4: False
D6: Stavba:
E7: ='Rekapitulace stavby'!K6 -> Lesopark Na Kolečku-DPS - revize
D8: Objekt:
E9: 02 - 2. ETAPA
D10: Soupis:
E11: SO 01.3 - Dřevěná paluba
D13: KSO: | F13: 823 27 11 | I13: CC-CZ:
D14: Místo: | F14: Roudnice nad Labem | I14: Datum: | J14: ='Rekapitulace stavby'!AN8 -> 22. 5. 2024
D16: Zadavatel: | I16: IČ:
I17: DIČ:
D19: Účastník: | I19: IČ: | J19: ='Rekapitulace stavby'!AN13 -> Vyplň údaj
E20: ='Rekapitulace stavby'!E14 -> Vyplň údaj | I20: DIČ: | J20: ='Rekapitulace stavby'!AN14 -> Vyplň údaj
D22: Projektant: | I22: IČ:
E23: Land05 s.r.o. | I23: DIČ:
D25: Zpracovatel: | I25: IČ: | J25: 07206062
E26: Soloreal s.r.o. | I26: DIČ:
D28: Poznámka:
D32: Cena bez DPH | J32: =ROUND(J93, 2) -> 0
F34: Základ daně | I34: Sazba daně | J34: Výše daně
D35: DPH | E35: základní | F35: =ROUND((SUM(BE93:BE286)), 2) -> 0 | I35: 0.21 | J35: =ROUND(((SUM(BE93:BE286))*I35), 2) -> 0
E36: snížená | F36: =ROUND((SUM(BF93:BF286)), 2) -> 0 | I36: 0.12 | J36: =ROUND(((SUM(BF93:BF286))*I36), 2) -> 0
E37: zákl. přenesená | F37: =ROUND((SUM(BG93:BG286)), 2) -> 0 | I37: 0.21 | J37: =0 -> 0
E38: sníž. přenesená | F38: =ROUND((SUM(BH93:BH286)), 2) -> 0 | I38: 0.12 | J38: =0 -> 0
E39: nulová | F39: =ROUND((SUM(BI93:BI286)), 2) -> 0 | I39: 0 | J39: =0 -> 0
D41: Cena s DPH | G41: v | H41: CZK | J41: =SUM(J32:J39) -> 0
C47: REKAPITULACE ČLENĚNÍ SOUPISU PRACÍ
C49: Stavba:
E50: =E7 -> Lesopark Na Kolečku-DPS - revize
C51: Objekt:
E52: 02 - 2. ETAPA
C53: Soupis:
E54: =E11 -> SO 01.3 - Dřevěná paluba
C56: Místo: | F56: =F14 -> Roudnice nad Labem | I56: Datum: | J56: =IF(J14="","",J14) -> 22. 5. 2024
C58: Zadavatel: | F58: =E17 | I58: Projektant: | J58: =E23 -> Land05 s.r.o.
C59: Účastník: | F59: =IF(E20="","",E20) -> Vyplň údaj | I59: Zpracovatel: | J59: =E26 -> Soloreal s.r.o.
C61: Kód dílu - Popis | J61: Cena celkem [CZK]
C63: Náklady stavby celkem | J63: =J93 -> 0 | AU63: -1
...

Sheet 01 - Hlavní stavební úpravy
AT2: {da703f13-fe48-4552-a000-bfab4024553c}
AT3: 2
D4: KRYCÍ LIST SOUPISU PRACÍ | M4: v --- níže se nacházejí doplnkové a pomocné údaje k sestavám --- v | AT4: False
D6: Stavba:
E7: ='Rekapitulace stavby'!K6 -> Lesopark Na Kolečku-DPS - revize
D8: Objekt:
E9: 02 - 2. ETAPA
D10: Soupis:
E11: SO04 - Drobné občerstvení s hygienickým zázemím a podpora pro rostliny
D12: Úroveň 3:
E13: 01 - Hlavní stavební úpravy
D15: KSO: | I15: CC-CZ:
D16: Místo: | I16: Datum: | J16: ='Rekapitulace stavby'!AN8 -> 22. 5. 2024
D18: Zadavatel: | I18: IČ:
I19: DIČ:
D21: Účastník: | I21: IČ: | J21: ='Rekapitulace stavby'!AN13 -> Vyplň údaj
E22: ='Rekapitulace stavby'!E14 -> Vyplň údaj | I22: DIČ: | J22: ='Rekapitulace stavby'!AN14 -> Vyplň údaj
D24: Projektant: | I24: IČ:
E25: Land05 s.r.o. | I25: DIČ:
D27: Zpracovatel: | I27: IČ: | J27: 07206062
E28: Soloreal s.r.o. | I28: DIČ:
D30: Poznámka:
D34: Cena bez DPH | J34: =ROUND(J117, 2) -> 0
F36: Základ daně | I36: Sazba daně | J36: Výše daně
D37: DPH | E37: základní | F37: =ROUND((SUM(BE117:BE960)), 2) -> 0 | I37: 0.21 | J37: =ROUND(((SUM(BE117:BE960))*I37), 2) -> 0
E38: snížená | F38: =ROUND((SUM(BF117:BF960)), 2) -> 0 | I38: 0.12 | J38: =ROUND(((SUM(BF117:BF960))*I38), 2) -> 0
E39: zákl. přenesená | F39: =ROUND((SUM(BG117:BG960)), 2) -> 0 | I39: 0.21 | J39: =0 -> 0
E40: sníž. přenesená | F40: =ROUND((SUM(BH117:BH960)), 2) -> 0 | I40: 0.12 | J40: =0 -> 0
E41: nulová | F41: =ROUND((SUM(BI117:BI960)), 2) -> 0 | I41: 0 | J41: =0 -> 0
D43: Cena s DPH | G43: v | H43: CZK | J43: =SUM(J34:J41) -> 0
C49: REKAPITULACE ČLENĚNÍ SOUPISU PRACÍ
C51: Stavba:
E52: =E7 -> Lesopark Na Kolečku-DPS - revize
C53: Objekt:
E54: 02 - 2. ETAPA
C55: Soupis:
E56: SO04 - Drobné občerstvení s hygienickým zázemím a podpora pro rostliny
C57: Úroveň 3:
E58: =E13 -> 01 - Hlavní stavební úpravy
C60: Místo: | F60: =F16 | I60: Datum: | J60: =IF(J16="","",J16) -> 22. 5. 2024
...

Sheet 02 - Volný mobiliář
AT2: {ffbd0672-0fd0-4dff-8e57-61282b58b00d}
AT3: 2
D4: KRYCÍ LIST SOUPISU PRACÍ | M4: v --- níže se nacházejí doplnkové a pomocné údaje k sestavám --- v | AT4: False
D6: Stavba:
E7: ='Rekapitulace stavby'!K6 -> Lesopark Na Kolečku-DPS - revize
D8: Objekt:
E9: 02 - 2. ETAPA
D10: Soupis:
E11: SO04 - Drobné občerstvení s hygienickým zázemím a podpora pro rostliny
D12: Úroveň 3:
E13: 02 - Volný mobiliář
D15: KSO: | I15: CC-CZ:
D16: Místo: | I16: Datum: | J16: ='Rekapitulace stavby'!AN8 -> 22. 5. 2024
D18: Zadavatel: | I18: IČ:
I19: DIČ:
D21: Účastník: | I21: IČ: | J21: ='Rekapitulace stavby'!AN13 -> Vyplň údaj
E22: ='Rekapitulace stavby'!E14 -> Vyplň údaj | I22: DIČ: | J22: ='Rekapitulace stavby'!AN14 -> Vyplň údaj
D24: Projektant: | I24: IČ:
E25: Land05 s.r.o. | I25: DIČ:
D27: Zpracovatel: | I27: IČ: | J27: 07206062
E28: Soloreal s.r.o. | I28: DIČ:
D30: Poznámka:
D34: Cena bez DPH | J34: =ROUND(J93, 2) -> 0
F36: Základ daně | I36: Sazba daně | J36: Výše daně
D37: DPH | E37: základní | F37: =ROUND((SUM(BE93:BE113)), 2) -> 0 | I37: 0.21 | J37: =ROUND(((SUM(BE93:BE113))*I37), 2) -> 0
E38: snížená | F38: =ROUND((SUM(BF93:BF113)), 2) -> 0 | I38: 0.12 | J38: =ROUND(((SUM(BF93:BF113))*I38), 2) -> 0
E39: zákl. přenesená | F39: =ROUND((SUM(BG93:BG113)), 2) -> 0 | I39: 0.21 | J39: =0 -> 0
E40: sníž. přenesená | F40: =ROUND((SUM(BH93:BH113)), 2) -> 0 | I40: 0.12 | J40: =0 -> 0
E41: nulová | F41: =ROUND((SUM(BI93:BI113)), 2) -> 0 | I41: 0 | J41: =0 -> 0
D43: Cena s DPH | G43: v | H43: CZK | J43: =SUM(J34:J41) -> 0
C49: REKAPITULACE ČLENĚNÍ SOUPISU PRACÍ
C51: Stavba:
E52: =E7 -> Lesopark Na Kolečku-DPS - revize
C53: Objekt:
E54: 02 - 2. ETAPA
C55: Soupis:
E56: SO04 - Drobné občerstvení s hygienickým zázemím a podpora pro rostliny
C57: Úroveň 3:
E58: =E13 -> 02 - Volný mobiliář
C60: Místo: | F60: =F16 | I60: Datum: | J60: =IF(J16="","",J16) -> 22. 5. 2024
...

Sheet 1 - Zdravotní technika
AT2: {26d956c1-b0ba-4d2d-93e4-42e22b23d413}
AT3: 2
D4: KRYCÍ LIST SOUPISU PRACÍ | M4: v --- níže se nacházejí doplnkové a pomocné údaje k sestavám --- v | AT4: False
D6: Stavba:
E7: ='Rekapitulace stavby'!K6 -> Lesopark Na Kolečku-DPS - revize
D8: Objekt:
E9: 02 - 2. ETAPA
D10: Soupis:
E11: SO04 - Drobné občerstvení s hygienickým zázemím a podpora pro rostliny
D12: Úroveň 4:
E13: 1 - Zdravotní technika
D15: KSO: | I15: CC-CZ:
D16: Místo: | I16: Datum: | J16: ='Rekapitulace stavby'!AN8 -> 22. 5. 2024
D18: Zadavatel: | I18: IČ:
I19: DIČ:
D21: Účastník: | I21: IČ: | J21: ='Rekapitulace stavby'!AN13 -> Vyplň údaj
E22: ='Rekapitulace stavby'!E14 -> Vyplň údaj | I22: DIČ: | J22: ='Rekapitulace stavby'!AN14 -> Vyplň údaj
D24: Projektant: | I24: IČ:
E25: Land05 s.r.o. | I25: DIČ:
D27: Zpracovatel: | I27: IČ: | J27: 07206062
E28: Soloreal s.r.o. | I28: DIČ:
D30: Poznámka:
D34: Cena bez DPH | J34: =ROUND(J94, 2) -> 0
F36: Základ daně | I36: Sazba daně | J36: Výše daně
D37: DPH | E37: základní | F37: =ROUND((SUM(BE94:BE191)), 2) -> 0 | I37: 0.21 | J37: =ROUND(((SUM(BE94:BE191))*I37), 2) -> 0
E38: snížená | F38: =ROUND((SUM(BF94:BF191)), 2) -> 0 | I38: 0.12 | J38: =ROUND(((SUM(BF94:BF191))*I38), 2) -> 0
E39: zákl. přenesená | F39: =ROUND((SUM(BG94:BG191)), 2) -> 0 | I39: 0.21 | J39: =0 -> 0
E40: sníž. přenesená | F40: =ROUND((SUM(BH94:BH191)), 2) -> 0 | I40: 0.12 | J40: =0 -> 0
E41: nulová | F41: =ROUND((SUM(BI94:BI191)), 2) -> 0 | I41: 0 | J41: =0 -> 0
D43: Cena s DPH | G43: v | H43: CZK | J43: =SUM(J34:J41) -> 0
C49: REKAPITULACE ČLENĚNÍ SOUPISU PRACÍ
C51: Stavba:
E52: =E7 -> Lesopark Na Kolečku-DPS - revize
C53: Objekt:
E54: 02 - 2. ETAPA
C55: Soupis:
E56: SO04 - Drobné občerstvení s hygienickým zázemím a podpora pro rostliny
C57: Úroveň 4:
E58: =E13 -> 1 - Zdravotní technika
C60: Místo: | F60: =F16 | I60: Datum: | J60: =IF(J16="","",J16) -> 22. 5. 2024
...

Sheet 2.1 - Vzduchotechnika
AT2: {7d0d46f5-e46a-4af1-91cb-085bd356563a}
AT3: 2
D4: KRYCÍ LIST SOUPISU PRACÍ | M4: v --- níže se nacházejí doplnkové a pomocné údaje k sestavám --- v | AT4: False
D6: Stavba:
E7: ='Rekapitulace stavby'!K6 -> Lesopark Na Kolečku-DPS - revize
D8: Objekt:
E9: 02 - 2. ETAPA
D10: Soupis:
E11: SO04 - Drobné občerstvení s hygienickým zázemím a podpora pro rostliny
D12: Úroveň 4:
E13: 2.1 - Vzduchotechnika
D15: KSO: | I15: CC-CZ:
D16: Místo: | I16: Datum: | J16: ='Rekapitulace stavby'!AN8 -> 22. 5. 2024
D18: Zadavatel: | I18: IČ:
I19: DIČ:
D21: Účastník: | I21: IČ: | J21: ='Rekapitulace stavby'!AN13 -> Vyplň údaj
E22: ='Rekapitulace stavby'!E14 -> Vyplň údaj | I22: DIČ: | J22: ='Rekapitulace stavby'!AN14 -> Vyplň údaj
D24: Projektant: | I24: IČ:
E25: Land05 s.r.o. | I25: DIČ:
D27: Zpracovatel: | I27: IČ: | J27: 07206062
E28: Soloreal s.r.o. | I28: DIČ:
D30: Poznámka:
D34: Cena bez DPH | J34: =ROUND(J95, 2) -> 0
F36: Základ daně | I36: Sazba daně | J36: Výše daně
D37: DPH | E37: základní | F37: =ROUND((SUM(BE95:BE156)), 2) -> 0 | I37: 0.21 | J37: =ROUND(((SUM(BE95:BE156))*I37), 2) -> 0
E38: snížená | F38: =ROUND((SUM(BF95:BF156)), 2) -> 0 | I38: 0.12 | J38: =ROUND(((SUM(BF95:BF156))*I38), 2) -> 0
E39: zákl. přenesená | F39: =ROUND((SUM(BG95:BG156)), 2) -> 0 | I39: 0.21 | J39: =0 -> 0
E40: sníž. přenesená | F40: =ROUND((SUM(BH95:BH156)), 2) -> 0 | I40: 0.12 | J40: =0 -> 0
E41: nulová | F41: =ROUND((SUM(BI95:BI156)), 2) -> 0 | I41: 0 | J41: =0 -> 0
D43: Cena s DPH | G43: v | H43: CZK | J43: =SUM(J34:J41) -> 0
C49: REKAPITULACE ČLENĚNÍ SOUPISU PRACÍ
C51: Stavba:
E52: =E7 -> Lesopark Na Kolečku-DPS - revize
C53: Objekt:
E54: 02 - 2. ETAPA
C55: Soupis:
E56: SO04 - Drobné občerstvení s hygienickým zázemím a podpora pro rostliny
C57: Úroveň 4:
E58: =E13 -> 2.1 - Vzduchotechnika
C60: Místo: | F60: =F16 | I60: Datum: | J60: =IF(J16="","",J16) -> 22. 5. 2024
...

Sheet 2.2 - Vytápění a chlazení
AT2: {c1c05f17-439f-4d3e-b4fd-bb73bdbc5e85}
AT3: 2
D4: KRYCÍ LIST SOUPISU PRACÍ | M4: v --- níže se nacházejí doplnkové a pomocné údaje k sestavám --- v | AT4: False
D6: Stavba:
E7: ='Rekapitulace stavby'!K6 -> Lesopark Na Kolečku-DPS - revize
D8: Objekt:
E9: 02 - 2. ETAPA
D10: Soupis:
E11: SO04 - Drobné občerstvení s hygienickým zázemím a podpora pro rostliny
D12: Úroveň 4:
E13: 2.2 - Vytápění a chlazení
D15: KSO: | I15: CC-CZ:
D16: Místo: | I16: Datum: | J16: ='Rekapitulace stavby'!AN8 -> 22. 5. 2024
D18: Zadavatel: | I18: IČ:
I19: DIČ:
D21: Účastník: | I21: IČ: | J21: ='Rekapitulace stavby'!AN13 -> Vyplň údaj
E22: ='Rekapitulace stavby'!E14 -> Vyplň údaj | I22: DIČ: | J22: ='Rekapitulace stavby'!AN14 -> Vyplň údaj
D24: Projektant: | I24: IČ:
E25: Land05 s.r.o. | I25: DIČ:
D27: Zpracovatel: | I27: IČ: | J27: 07206062
E28: Soloreal s.r.o. | I28: DIČ:
D30: Poznámka:
D34: Cena bez DPH | J34: =ROUND(J92, 2) -> 0
F36: Základ daně | I36: Sazba daně | J36: Výše daně
D37: DPH | E37: základní | F37: =ROUND((SUM(BE92:BE127)), 2) -> 0 | I37: 0.21 | J37: =ROUND(((SUM(BE92:BE127))*I37), 2) -> 0
E38: snížená | F38: =ROUND((SUM(BF92:BF127)), 2) -> 0 | I38: 0.12 | J38: =ROUND(((SUM(BF92:BF127))*I38), 2) -> 0
E39: zákl. přenesená | F39: =ROUND((SUM(BG92:BG127)), 2) -> 0 | I39: 0.21 | J39: =0 -> 0
E40: sníž. přenesená | F40: =ROUND((SUM(BH92:BH127)), 2) -> 0 | I40: 0.12 | J40: =0 -> 0
E41: nulová | F41: =ROUND((SUM(BI92:BI127)), 2) -> 0 | I41: 0 | J41: =0 -> 0
D43: Cena s DPH | G43: v | H43: CZK | J43: =SUM(J34:J41) -> 0
C49: REKAPITULACE ČLENĚNÍ SOUPISU PRACÍ
C51: Stavba:
E52: =E7 -> Lesopark Na Kolečku-DPS - revize
C53: Objekt:
E54: 02 - 2. ETAPA
C55: Soupis:
E56: SO04 - Drobné občerstvení s hygienickým zázemím a podpora pro rostliny
C57: Úroveň 4:
E58: =E13 -> 2.2 - Vytápění a chlazení
C60: Místo: | F60: =F16 | I60: Datum: | J60: =IF(J16="","",J16) -> 22. 5. 2024
...

Sheet 3 - Elektroinstalace
AT2: {d3029c45-bf01-45b7-ab11-574a4a0d2673}
AT3: 2
D4: KRYCÍ LIST SOUPISU PRACÍ | M4: v --- níže se nacházejí doplnkové a pomocné údaje k sestavám --- v | AT4: False
D6: Stavba:
E7: ='Rekapitulace stavby'!K6 -> Lesopark Na Kolečku-DPS - revize
D8: Objekt:
E9: 02 - 2. ETAPA
D10: Soupis:
E11: SO04 - Drobné občerstvení s hygienickým zázemím a podpora pro rostliny
D12: Úroveň 4:
E13: 3 - Elektroinstalace
D15: KSO: | I15: CC-CZ:
D16: Místo: | I16: Datum: | J16: ='Rekapitulace stavby'!AN8 -> 22. 5. 2024
D18: Zadavatel: | I18: IČ:
I19: DIČ:
D21: Účastník: | I21: IČ: | J21: ='Rekapitulace stavby'!AN13 -> Vyplň údaj
E22: ='Rekapitulace stavby'!E14 -> Vyplň údaj | I22: DIČ: | J22: ='Rekapitulace stavby'!AN14 -> Vyplň údaj
D24: Projektant: | I24: IČ:
E25: Land05 s.r.o. | I25: DIČ:
D27: Zpracovatel: | I27: IČ: | J27: 07206062
E28: Soloreal s.r.o. | I28: DIČ:
D30: Poznámka:
D34: Cena bez DPH | J34: =ROUND(J94, 2) -> 0
F36: Základ daně | I36: Sazba daně | J36: Výše daně
D37: DPH | E37: základní | F37: =ROUND((SUM(BE94:BE270)), 2) -> 0 | I37: 0.21 | J37: =ROUND(((SUM(BE94:BE270))*I37), 2) -> 0
E38: snížená | F38: =ROUND((SUM(BF94:BF270)), 2) -> 0 | I38: 0.12 | J38: =ROUND(((SUM(BF94:BF270))*I38), 2) -> 0
E39: zákl. přenesená | F39: =ROUND((SUM(BG94:BG270)), 2) -> 0 | I39: 0.21 | J39: =0 -> 0
E40: sníž. přenesená | F40: =ROUND((SUM(BH94:BH270)), 2) -> 0 | I40: 0.12 | J40: =0 -> 0
E41: nulová | F41: =ROUND((SUM(BI94:BI270)), 2) -> 0 | I41: 0 | J41: =0 -> 0
D43: Cena s DPH | G43: v | H43: CZK | J43: =SUM(J34:J41) -> 0
C49: REKAPITULACE ČLENĚNÍ SOUPISU PRACÍ
C51: Stavba:
E52: =E7 -> Lesopark Na Kolečku-DPS - revize
C53: Objekt:
E54: 02 - 2. ETAPA
C55: Soupis:
E56: SO04 - Drobné občerstvení s hygienickým zázemím a podpora pro rostliny
C57: Úroveň 4:
E58: =E13 -> 3 - Elektroinstalace
C60: Místo: | F60: =F16 | I60: Datum: | J60: =IF(J16="","",J16) -> 22. 5. 2024
...

Sheet 4 - Gastro
AT2: {e9d09fc6-84a0-48fb-ad40-355b7190806e}
AT3: 2
D4: KRYCÍ LIST SOUPISU PRACÍ | M4: v --- níže se nacházejí doplnkové a pomocné údaje k sestavám --- v | AT4: False
D6: Stavba:
E7: ='Rekapitulace stavby'!K6 -> Lesopark Na Kolečku-DPS - revize
D8: Objekt:
E9: 02 - 2. ETAPA
D10: Soupis:
E11: SO04 - Drobné občerstvení s hygienickým zázemím a podpora pro rostliny
D12: Úroveň 4:
E13: 4 - Gastro
D15: KSO: | I15: CC-CZ:
D16: Místo: | I16: Datum: | J16: ='Rekapitulace stavby'!AN8 -> 22. 5. 2024
D18: Zadavatel: | I18: IČ:
I19: DIČ:
D21: Účastník: | I21: IČ: | J21: ='Rekapitulace stavby'!AN13 -> Vyplň údaj
E22: ='Rekapitulace stavby'!E14 -> Vyplň údaj | I22: DIČ: | J22: ='Rekapitulace stavby'!AN14 -> Vyplň údaj
D24: Projektant: | I24: IČ:
E25: Land05 s.r.o. | I25: DIČ:
D27: Zpracovatel: | I27: IČ: | J27: 07206062
E28: Soloreal s.r.o. | I28: DIČ:
D30: Poznámka:
D34: Cena bez DPH | J34: =ROUND(J96, 2) -> 0
F36: Základ daně | I36: Sazba daně | J36: Výše daně
D37: DPH | E37: základní | F37: =ROUND((SUM(BE96:BE199)), 2) -> 0 | I37: 0.21 | J37: =ROUND(((SUM(BE96:BE199))*I37), 2) -> 0
E38: snížená | F38: =ROUND((SUM(BF96:BF199)), 2) -> 0 | I38: 0.12 | J38: =ROUND(((SUM(BF96:BF199))*I38), 2) -> 0
E39: zákl. přenesená | F39: =ROUND((SUM(BG96:BG199)), 2) -> 0 | I39: 0.21 | J39: =0 -> 0
E40: sníž. přenesená | F40: =ROUND((SUM(BH96:BH199)), 2) -> 0 | I40: 0.12 | J40: =0 -> 0
E41: nulová | F41: =ROUND((SUM(BI96:BI199)), 2) -> 0 | I41: 0 | J41: =0 -> 0
D43: Cena s DPH | G43: v | H43: CZK | J43: =SUM(J34:J41) -> 0
C49: REKAPITULACE ČLENĚNÍ SOUPISU PRACÍ
C51: Stavba:
E52: =E7 -> Lesopark Na Kolečku-DPS - revize
C53: Objekt:
E54: 02 - 2. ETAPA
C55: Soupis:
E56: SO04 - Drobné občerstvení s hygienickým zázemím a podpora pro rostliny
C57: Úroveň 4:
E58: =E13 -> 4 - Gastro
C60: Místo: | F60: =F16 | I60: Datum: | J60: =IF(J16="","",J16) -> 22. 5. 2024
...

Sheet 5.1 - Systém strukturovan...
AT2: {6020518a-2bdf-491d-b1e4-ed8bf63960d1}
AT3: 2
D4: KRYCÍ LIST SOUPISU PRACÍ | M4: v --- níže se nacházejí doplnkové a pomocné údaje k sestavám --- v | AT4: False
D6: Stavba:
E7: ='Rekapitulace stavby'!K6 -> Lesopark Na Kolečku-DPS - revize
D8: Objekt:
E9: 02 - 2. ETAPA
D10: Soupis:
E11: SO04 - Drobné občerstvení s hygienickým zázemím a podpora pro rostliny
D12: Úroveň 4:
E13: 5.1 - Systém strukturované kabeláže
D15: KSO: | I15: CC-CZ:
D16: Místo: | I16: Datum: | J16: ='Rekapitulace stavby'!AN8 -> 22. 5. 2024
D18: Zadavatel: | I18: IČ:
I19: DIČ:
D21: Účastník: | I21: IČ: | J21: ='Rekapitulace stavby'!AN13 -> Vyplň údaj
E22: ='Rekapitulace stavby'!E14 -> Vyplň údaj | I22: DIČ: | J22: ='Rekapitulace stavby'!AN14 -> Vyplň údaj
D24: Projektant: | I24: IČ:
E25: Land05 s.r.o. | I25: DIČ:
D27: Zpracovatel: | I27: IČ: | J27: 07206062
E28: Soloreal s.r.o. | I28: DIČ:
D30: Poznámka:
D34: Cena bez DPH | J34: =ROUND(J95, 2) -> 0
F36: Základ daně | I36: Sazba daně | J36: Výše daně
D37: DPH | E37: základní | F37: =ROUND((SUM(BE95:BE129)), 2) -> 0 | I37: 0.21 | J37: =ROUND(((SUM(BE95:BE129))*I37), 2) -> 0
E38: snížená | F38: =ROUND((SUM(BF95:BF129)), 2) -> 0 | I38: 0.12 | J38: =ROUND(((SUM(BF95:BF129))*I38), 2) -> 0
E39: zákl. přenesená | F39: =ROUND((SUM(BG95:BG129)), 2) -> 0 | I39: 0.21 | J39: =0 -> 0
E40: sníž. přenesená | F40: =ROUND((SUM(BH95:BH129)), 2) -> 0 | I40: 0.12 | J40: =0 -> 0
E41: nulová | F41: =ROUND((SUM(BI95:BI129)), 2) -> 0 | I41: 0 | J41: =0 -> 0
D43: Cena s DPH | G43: v | H43: CZK | J43: =SUM(J34:J41) -> 0
C49: REKAPITULACE ČLENĚNÍ SOUPISU PRACÍ
C51: Stavba:
E52: =E7 -> Lesopark Na Kolečku-DPS - revize
C53: Objekt:
E54: 02 - 2. ETAPA
C55: Soupis:
E56: SO04 - Drobné občerstvení s hygienickým zázemím a podpora pro rostliny
C57: Úroveň 4:
E58: =E13 -> 5.1 - Systém strukturované kabeláže
C60: Místo: | F60: =F16 | I60: Datum: | J60: =IF(J16="","",J16) -> 22. 5. 2024
...

Sheet 5.2 - Poplachový zabezpeč...
AT2: {f4b81e51-e3b6-4269-b311-82db6751be0d}
AT3: 2
D4: KRYCÍ LIST SOUPISU PRACÍ | M4: v --- níže se nacházejí doplnkové a pomocné údaje k sestavám --- v | AT4: False
D6: Stavba:
E7: ='Rekapitulace stavby'!K6 -> Lesopark Na Kolečku-DPS - revize
D8: Objekt:
E9: 02 - 2. ETAPA
D10: Soupis:
E11: SO04 - Drobné občerstvení s hygienickým zázemím a podpora pro rostliny
D12: Úroveň 4:
E13: 5.2 - Poplachový zabezpečovací systém
D15: KSO: | I15: CC-CZ:
D16: Místo: | I16: Datum: | J16: ='Rekapitulace stavby'!AN8 -> 22. 5. 2024
D18: Zadavatel: | I18: IČ:
I19: DIČ:
D21: Účastník: | I21: IČ: | J21: ='Rekapitulace stavby'!AN13 -> Vyplň údaj
E22: ='Rekapitulace stavby'!E14 -> Vyplň údaj | I22: DIČ: | J22: ='Rekapitulace stavby'!AN14 -> Vyplň údaj
D24: Projektant: | I24: IČ:
E25: Land05 s.r.o. | I25: DIČ:
D27: Zpracovatel: | I27: IČ: | J27: 07206062
E28: Soloreal s.r.o. | I28: DIČ:
D30: Poznámka:
D34: Cena bez DPH | J34: =ROUND(J95, 2) -> 0
F36: Základ daně | I36: Sazba daně | J36: Výše daně
D37: DPH | E37: základní | F37: =ROUND((SUM(BE95:BE133)), 2) -> 0 | I37: 0.21 | J37: =ROUND(((SUM(BE95:BE133))*I37), 2) -> 0
E38: snížená | F38: =ROUND((SUM(BF95:BF133)), 2) -> 0 | I38: 0.12 | J38: =ROUND(((SUM(BF95:BF133))*I38), 2) -> 0
E39: zákl. přenesená | F39: =ROUND((SUM(BG95:BG133)), 2) -> 0 | I39: 0.21 | J39: =0 -> 0
E40: sníž. přenesená | F40: =ROUND((SUM(BH95:BH133)), 2) -> 0 | I40: 0.12 | J40: =0 -> 0
E41: nulová | F41: =ROUND((SUM(BI95:BI133)), 2) -> 0 | I41: 0 | J41: =0 -> 0
D43: Cena s DPH | G43: v | H43: CZK | J43: =SUM(J34:J41) -> 0
C49: REKAPITULACE ČLENĚNÍ SOUPISU PRACÍ
C51: Stavba:
E52: =E7 -> Lesopark Na Kolečku-DPS - revize
C53: Objekt:
E54: 02 - 2. ETAPA
C55: Soupis:
E56: SO04 - Drobné občerstvení s hygienickým zázemím a podpora pro rostliny
C57: Úroveň 4:
E58: =E13 -> 5.2 - Poplachový zabezpečovací systém
C60: Místo: | F60: =F16 | I60: Datum: | J60: =IF(J16="","",J16) -> 22. 5. 2024
...

Sheet VRN - Vedlejší rozpočtové..._01
AT2: {80fa8777-fa36-43b4-82c7-952de74e59f3}
AT3: 2
D4: KRYCÍ LIST SOUPISU PRACÍ | M4: v --- níže se nacházejí doplnkové a pomocné údaje k sestavám --- v | AT4: False
D6: Stavba:
E7: ='Rekapitulace stavby'!K6 -> Lesopark Na Kolečku-DPS - revize
D8: Objekt:
E9: 02 - 2. ETAPA
D10: Soupis:
E11: SO04 - Drobné občerstvení s hygienickým zázemím a podpora pro rostliny
D12: Úroveň 3:
E13: VRN - Vedlejší rozpočtové náklady
D15: KSO: | I15: CC-CZ:
D16: Místo: | I16: Datum: | J16: ='Rekapitulace stavby'!AN8 -> 22. 5. 2024
D18: Zadavatel: | I18: IČ:
I19: DIČ:
D21: Účastník: | I21: IČ: | J21: ='Rekapitulace stavby'!AN13 -> Vyplň údaj
E22: ='Rekapitulace stavby'!E14 -> Vyplň údaj | I22: DIČ: | J22: ='Rekapitulace stavby'!AN14 -> Vyplň údaj
D24: Projektant: | I24: IČ:
E25: Land05 s.r.o. | I25: DIČ:
D27: Zpracovatel: | I27: IČ: | J27: 07206062
E28: Soloreal s.r.o. | I28: DIČ:
D30: Poznámka:
D34: Cena bez DPH | J34: =ROUND(J92, 2) -> 0
F36: Základ daně | I36: Sazba daně | J36: Výše daně
D37: DPH | E37: základní | F37: =ROUND((SUM(BE92:BE107)), 2) -> 0 | I37: 0.21 | J37: =ROUND(((SUM(BE92:BE107))*I37), 2) -> 0
E38: snížená | F38: =ROUND((SUM(BF92:BF107)), 2) -> 0 | I38: 0.12 | J38: =ROUND(((SUM(BF92:BF107))*I38), 2) -> 0
E39: zákl. přenesená | F39: =ROUND((SUM(BG92:BG107)), 2) -> 0 | I39: 0.21 | J39: =0 -> 0
E40: sníž. přenesená | F40: =ROUND((SUM(BH92:BH107)), 2) -> 0 | I40: 0.12 | J40: =0 -> 0
E41: nulová | F41: =ROUND((SUM(BI92:BI107)), 2) -> 0 | I41: 0 | J41: =0 -> 0
D43: Cena s DPH | G43: v | H43: CZK | J43: =SUM(J34:J41) -> 0
C49: REKAPITULACE ČLENĚNÍ SOUPISU PRACÍ
C51: Stavba:
E52: =E7 -> Lesopark Na Kolečku-DPS - revize
C53: Objekt:
E54: 02 - 2. ETAPA
C55: Soupis:
E56: SO04 - Drobné občerstvení s hygienickým zázemím a podpora pro rostliny
C57: Úroveň 3:
E58: =E13 -> VRN - Vedlejší rozpočtové náklady
C60: Místo: | F60: =F16 | I60: Datum: | J60: =IF(J16="","",J16) -> 22. 5. 2024
...

Sheet Pokyny pro vyplnění
C3: Struktura údajů, formát souboru a metodika pro zpracování
C4: Struktura
C6: Soubor je složen ze záložky Rekapitulace stavby a záložek s názvem soupisu prací pro jednotlivé objekty ve formátu XLSX. Každá ze záložek přitom obsahuje
C7: ještě samostatné sestavy vymezené orámovaním a nadpisem sestavy.
C9: Rekapitulace stavby obsahuje sestavu Rekapitulace stavby a Rekapitulace objektů stavby a soupisů prací.
D10: V sestavě Rekapitulace stavby jsou uvedeny informace identifikující předmět veřejné zakázky na stavební práce, KSO, CC-CZ, CZ-CPV, CZ-CPA a rekapitulaci
D11: celkové nabídkové ceny účastníka.
D13: Termínem "učastník" (resp. zhotovitel) se myslí "účastník zadávacího řízení" ve smyslu zákona o zadávání veřejných zakázek.
D15: V sestavě Rekapitulace objektů stavby a soupisů prací je uvedena rekapitulace stavebních objektů, inženýrských objektů, provozních souborů,
D16: vedlejších a ostatních nákladů a ostatních nákladů s rekapitulací nabídkové ceny za jednotlivé soupisy prací. Na základě údaje Typ je možné
D17: identifikovat, zda se jedná o objekt nebo soupis prací pro daný objekt:
E18: STA | F18: Stavební objekt pozemní
E19: ING | F19: Stavební objekt inženýrský
E20: PRO | F20: Provozní soubor
E21: VON | F21: Vedlejší a ostatní náklady
E22: OST | F22: Ostatní
E23: Soupis | F23: Soupis prací pro daný typ objektu
C25: Soupis prací pro jednotlivé objekty obsahuje sestavy Krycí list soupisu prací, Rekapitulace členění soupisu prací, Soupis prací. Za soupis prací může být považován
C26: i objekt stavby v případě, že neobsahuje podřízenou zakázku.
D27: Krycí list soupisu obsahuje rekapitulaci informací o předmětu veřejné zakázky ze sestavy Rekapitulace stavby, informaci o zařazení objektu do KSO,
D28: CC-CZ, CZ-CPV, CZ-CPA a rekapitulaci celkové nabídkové ceny účastníka za aktuální soupis prací.
D30: Rekapitulace členění soupisu prací obsahuje rekapitulaci soupisu prací ve všech úrovních členění soupisu tak, jak byla tato členění použita (např.
D31: stavební díly, funkční díly, případně jiné členění) s rekapitulací nabídkové ceny.
D33: Soupis prací obsahuje položky veškerých stavebních nebo montážních prací, dodávek materiálů a služeb nezbytných pro zhotovení stavebního objektu,
D34: inženýrského objektu, provozního souboru, vedlejších a ostatních nákladů.
D35: Pro položky soupisu prací se zobrazují následující informace:
E36: PČ | G36: Pořadové číslo položky v aktuálním soupisu
E37: TYP | G37: Typ položky: K - konstrukce, M - materiál, PP - plný popis, PSC - poznámka k souboru cen, P - poznámka k položce, VV - výkaz výměr, FIG - rozpad figur
E38: Kód | G38: Kód položky
E39: Popis | G39: Zkrácený popis položky
E40: MJ | G40: Měrná jednotka položky
E41: Množství | G41: Množství v měrné jednotce
E42: J.cena | G42: Jednotková cena položky. Zadaní může obsahovat namísto J.ceny sloupce J.materiál a J.montáž, jejichž součet definuje
G43: J.cenu položky.
E44: Cena celkem | G44: Celková cena položky daná jako součin množství a j.ceny
E45: Cenová soustava | G45: Příslušnost položky do cenové soustavy
D47: Ke každé položce soupisu prací se na samostatných řádcích může zobrazovat:
E48: Plný popis položky
E49: Poznámka k souboru cen a poznámka zadavatele
E50: Výkaz výměr
...
