Workbook

Sheet Rekapitulace
C1: Havarijní stav - oprava střech
C3: Rekapitulace
A6: Objet | D6: Cena celkem za objekt bez DPH
A7: Terasa | D7: =Terasa!G35 -> 0
A8: Střecha 1 | D8: ='Střecha 1'!G30 -> 0
A9: Střecha 2 | D9: ='Střecha 2'!G30 -> 0
A10: Střecha 3 | D10: ='Střecha 3'!G27 -> 0
A11: Střecha 4 | D11: ='Střecha 4'!G27 -> 0
A13: Cena celkem komplet bez DPH | D13: =SUM(D7:D11) -> 0
A14: DPH 21% | D14: =D13*0.21 -> 0
A15: Cena celkem komplet vč. DPH 21% | D15: =D14+D13 -> 0

Sheet Terasa
C1: Havarijní stav - oprava střech
C3: DD Roudnice nad Labem - Terasa
C5: název | D5: množství | E5: MJ | F5: Cena za MJ | G5: Cena celkem bez DPH
A6: 1 | B6: K | C6: Odstranění původní dlažby a terčů, vč. přesunu hmot a likvidace odpadu | D6: 65.7 | E6: m2 | G6: =D6*F6 -> 0
A7: 2 | B7: K | C7: Demontáž původní PVC fólie a geotextilie | D7: 80.7 | E7: m2 | G7: =D7*F7 -> 0
A8: 3 | B8: K | C8: Demontáž poplast. lišt | D8: 80 | E8: mb | G8: =D8*F8 -> 0
A9: 4 | B9: K | C9: Příprava podkladu - očištění | D9: 65.7 | E9: m2 | G9: =D9*F9 -> 0
A10: 5 | B10: K | C10: Bourací práce - demontáž bet. Potěru tl. 100mm | D10: 6.5 | E10: m3 | G10: =D10*F10 -> 0
A11: 6 | B11: K | C11: Materiál pro provedení vysprávky - stěrková hmota / balení 25 kg (předpoklad 4,3kg/m2) | D11: 282.51 | E11: kg | G11: =D11*F11 -> 0
A12: 7 | B12: K | C12: Vyspravení a vyrovnání podkladu pro provedení parozábrany (betonové mazaniny) | D12: 65.7 | E12: m2 | G12: =D12*F12 -> 0
A13: 8 | B13: K | C13: Asfaltová penetrace | D13: 80 | E13: m2 | G13: =D13*F13 -> 0
A14: 9 | B14: K | C14: Dodávka a Montáž pásu z SBS modifikovaného asfaltu, nosná vložka z hliníkové fólie kašírované skleněnými vlákny, horní povrch jemnozrnný minerální posyp, spodní povrch spalitelná PE fólie, ohebnost za nízkých teplot -15 °C, tloušťka 4 mm - atiky + plocha | D14: 80 | E14: m2 | G14: =D14*F14 -> 0
A15: 10 | B15: M | C15: Překližka vodovzdorná hladká/hladká bříza tl 21mm | D15: 20 | E15: m2 | G15: =D15*F15 -> 0
A16: 11 | B16: K | C16: Montáž překližky, vyspádování atik | D16: 17 | E16: m2 | G16: =D16*F16 -> 0
A17: 12 | B17: M | C17: Závětrná lišta z poplastovaného plechu Viplanyl r.š. 500 mm | D17: 48 | E17: mb | G17: =D17*F17 -> 0
... A19: 14 | B19: K | C19: Povlakové krytiny střech do 10° z tvarovaných poplastovaných lišt délky 2 m koutová lišta vnější rš 100 mm | D19: 48 | E19: mb | G19: =D19*F19 -> 0
A20: 15 | B20: M | C20: Střešní fólie z měkčeného polyvinylchloridu, k přitížení, vyztužená PE fólie, tl. 1,8 mm | D20: =D7*1.15 -> 92.805 | E20: m2 | G20: =D20*F20 -> 0
A21: 16 | B21: K | C21: Povlaková krytina střech do 10°, mechanické kotvení (včetně kotev) | D21: =D7 -> 80.7 | E21: m2 | G21: =D21*F21 -> 0
A22: 17 | B22: K | C22: Povlaková krytina střech do 10°, podklad. textilie, 1 vrstva - včetně dodávky separační vrstvy (sklovláknitá textilie 120g/m2) | D22: =D7 -> 80.7 | E22: m2 | G22: =D22*F22 -> 0
A23: 18 | B23: K | C23: Dodávka a montáž nové betonové dlažby tl. 2cm vč. terčů | D23: 65.7 | E23: m2 | G23: =D23*F23 -> 0
A24: 19 | B24: K | C24: Zabezpečení střechy proti zatečení po demontáži | D24: 1 | E24: kpl | G24: =D24*F24 -> 0
A25: 20 | B25: K | C25: Demontáž bednění u vpustí, opětovná montáž | D25: 1 | E25: kpl | G25: =D25*F25 -> 0
A26: 21 | B26: K | C26: Přesun hmot pro povlakové krytiny | D26: 1 | E26: kpl | G26: =D26*F26 -> 0
A27: 22 | B27: K | C27: Demontáž původních vtoků | D27: 2 | E27: ks | G27: =D27*F27 -> 0
A28: 23 | B28: K | C28: Dodávka a montáž střešní vpusti s PVC límcem | D28: 2 | E28: ks | G28: =D28*F28 -> 0
A29: 24 | B29: K | C29: Oprava ATYP detailu - speciální stěrkový systém (báze PMMA) | D29: 1 | E29: kpl | G29: =D29*F29 -> 0
A30: 25 | B30: K | C30: Pomocné lešení | D30: 1 | E30: kpl | G30: =D30*F30 -> 0
A31: 26 | B31: K | C31: Manipulace s materiálem a odvoz odpadu | D31: 1 | E31: kpl | G31: =D31*F31 -> 0
A32: 27 | B32: K | C32: Vedlejší spotřební materiál, vruty, hmoždinky | D32: 1 | E32: kpl | G32: =D32*F32 -> 0
A33: 28 | B33: K | C33: Územní vlivy | D33: 1 | E33: kpl | G33: =D33*F33 -> 0
A34: 29 | B34: K | C34: Mimostaveništní doprava | D34: 1 | E34: kpl | G34: =D34*F34 -> 0
C35: Cena celkem bez DPH 21% | G35: =SUM(G6:G34) -> 0
C36: DPH 21% | G36: =G35*0.21 -> 0
C37: Cena celkem vč. DPH 21% | G37: =G35+G36 -> 0

Sheet Střecha 1
C1: Havarijní stav - oprava střech
C3: DD Roudnice nad Labem - Střecha 1
C5: název | D5: množství | E5: MJ | F5: Cena za MJ | G5: Cena celkem bez DPH
A6: 1 | B6: K | C6: Demontáž oplechování atiky | D6: 46.35 | E6: mb | G6: =D6*F6 -> 0
A7: 2 | B7: K | C7: Odstranění kačírku, vč. přesunu hmot a likvidace odpadu | D7: 16.104 | E7: m3 | G7: =D7*F7 -> 0
A8: 3 | B8: K | C8: Demontáž původní PVC fólie a geotextilie | D8: 176.76 | E8: m2 | G8: =D8*F8 -> 0
A9: 4 | B9: K | C9: Demontáž poplast. lišt | D9: 96 | E9: mb | G9: =D9*F9 -> 0
A10: 5 | B10: K | C10: Příprava podkladu - očištění | D10: 107.36 | E10: m2 | G10: =D10*F10 -> 0
A11: 6 | B11: M | C11: Překližka vodovzdorná hladká/hladká bříza tl 21mm | D11: 20 | E11: m2 | G11: =D11*F11 -> 0
A12: 7 | B12: K | C12: Montáž překližky, vyspádování atik | D12: 17 | E12: m2 | G12: =D12*F12 -> 0
A13: 8 | B13: M | C13: Závětrná lišta z poplastovaného plechu Viplanyl r.š. 500 mm | D13: 48 | E13: mb | G13: =D13*F13 -> 0
A14: 9 | B14: K | C14: Povlakové krytiny střech do 10° z tvarovaných poplastovaných lišt délky 2 m koutová lišta vnitřní rš 100 mm | D14: 48 | E14: mb | G14: =D14*F14 -> 0
A15: 10 | B15: K | C15: Povlakové krytiny střech do 10° z tvarovaných poplastovaných lišt délky 2 m koutová lišta vnější rš 100 mm | D15: 48 | E15: mb | G15: =D15*F15 -> 0
A16: 11 | B16: M | C16: Střešní fólie z měkčeného polyvinylchloridu, mechanicky kotvená, vyztužená PE fólie, tl. 1,8 mm | D16: =D8*1.15 -> 203.274 | E16: m2 | G16: =D16*F16 -> 0
A17: 12 | B17: K | C17: Povlaková krytina střech do 10°, mechanické kotvení (včetně kotev) | D17: =D8 -> 176.76 | E17: m2 | G17: =D17*F17 -> 0
A18: 13 | B18: K | C18: Povlaková krytina střech do 10°, podklad. textilie, 1 vrstva - včetně dodávky separační vrstvy (sklovláknitá textilie 120g/m2) | D18: =D8 -> 176.76 | E18: m2 | G18: =D18*F18 -> 0
A19: 14 | B19: K | C19: Zabezpečení střechy proti zatečení po demontáži | D19: 1 | E19: kpl | G19: =D19*F19 -> 0
A20: 15 | B20: K | C20: Demontáž bednění u vpustí, opětovná montáž | D20: 1 | E20: kpl | G20: =D20*F20 -> 0
A21: 16 | B21: K | C21: Přesun hmot pro povlakové krytiny | D21: 1 | E21: kpl | G21: =D21*F21 -> 0
A22: 17 | B22: K | C22: Demontáž původních vtoků | D22: 2 | E22: ks | G22: =D22*F22 -> 0
A23: 18 | B23: K | C23: Dodávka a montáž střešní vpusti s PVC límcem | D23: 2 | E23: ks | G23: =D23*F23 -> 0
A24: 19 | B24: K | C24: Pomocné lešení | D24: 1 | E24: kpl | G24: =D24*F24 -> 0
A25: 20 | B25: K | C25: Shoz | D25: 1 | E25: kpl | G25: =D25*F25 -> 0
A26: 21 | B26: K | C26: Manipulace s materiálem a odvoz odpadu | D26: 1 | E26: kpl | G26: =D26*F26 -> 0
A27: 22 | B27: K | C27: Vedlejší spotřební materiál, vruty, hmoždinky | D27: 1 | E27: kpl | G27: =D27*F27 -> 0
A28: 23 | B28: K | C28: Územní vlivy | D28: 1 | E28: kpl | G28: =D28*F28 -> 0
A29: 24 | B29: K | C29: Mimostaveništní doprava | D29: 1 | E29: kpl | G29: =D29*F29 -> 0
C30: Cena celkem bez DPH 21% | G30: =SUM(G6:G29) -> 0
C31: DPH 21% | G31: =G30*0.21 -> 0
C32: Cena celkem vč. DPH 21% | G32: =G30+G31 -> 0

Sheet Střecha 2
C1: Havarijní stav - oprava střech
C3: DD Roudnice nad Labem - Střecha 2
C5: název | D5: množství | E5: MJ | F5: Cena za MJ | G5: Cena celkem bez DPH
A6: 1 | B6: K | C6: Demontáž oplechování atiky | D6: 40.3 | E6: mb | G6: =D6*F6 -> 0
A7: 2 | B7: K | C7: Odstranění kačírku, vč. přesunu hmot a likvidace odpadu | D7: 6.84 | E7: m3 | G7: =D7*F7 -> 0
A8: 3 | B8: K | C8: Demontáž původní PVC fólie a geotextilie | D8: 85.63 | E8: m2 | G8: =D8*F8 -> 0
A9: 4 | B9: K | C9: Demontáž poplast. lišt | D9: 80.6 | E9: mb | G9: =D9*F9 -> 0
A10: 5 | B10: K | C10: Příprava podkladu - očištění | D10: 40.3 | E10: m2 | G10: =D10*F10 -> 0
A11: 6 | B11: M | C11: Překližka vodovzdorná hladká/hladká bříza tl 21mm | D11: 19 | E11: m2 | G11: =D11*F11 -> 0
A12: 7 | B12: K | C12: Montáž překližky, vyspádování atik | D12: 16 | E12: m2 | G12: =D12*F12 -> 0
A13: 8 | B13: M | C13: Závětrná lišta z poplastovaného plechu Viplanyl r.š. 500 mm | D13: 42 | E13: mb | G13: =D13*F13 -> 0
A14: 9 | B14: K | C14: Povlakové krytiny střech do 10° z tvarovaných poplastovaných lišt délky 2 m koutová lišta vnitřní rš 100 mm | D14: 42 | E14: mb | G14: =D14*F14 -> 0
A15: 10 | B15: K | C15: Povlakové krytiny střech do 10° z tvarovaných poplastovaných lišt délky 2 m koutová lišta vnější rš 100 mm | D15: 42 | E15: mb | G15: =D15*F15 -> 0
A16: 11 | B16: M | C16: Střešní fólie z měkčeného polyvinylchloridu, mechanicky kotvená, vyztužená PE fólie, tl. 1,8 mm | D16: =D8*1.15 -> 98.4745 | E16: m2 | G16: =D16*F16 -> 0
A17: 12 | B17: K | C17: Povlaková krytina střech do 10°, mechanické kotvení (včetně kotev) | D17: =D8 -> 85.63 | E17: m2 | G17: =D17*F17 -> 0
A18: 13 | B18: K | C18: Povlaková krytina střech do 10°, podklad. textilie, 1 vrstva - včetně dodávky separační vrstvy (sklovláknitá textilie 120g/m2) | D18: =D17 -> 85.63 | E18: m2 | G18: =D18*F18 -> 0
A19: 14 | B19: K | C19: Zabezpečení střechy proti zatečení po demontáži | D19: 1 | E19: kpl | G19: =D19*F19 -> 0
A20: 15 | B20: K | C20: Demontáž bednění u vpustí, opětovná montáž | D20: 1 | E20: kpl | G20: =D20*F20 -> 0
A21: 16 | B21: K | C21: Přesun hmot pro povlakové krytiny | G21: =D21*F21 -> 0
A22: 17 | B22: K | C22: Demontáž původních vtoků | D22: 2 | E22: ks | G22: =D22*F22 -> 0
A23: 18 | B23: K | C23: Dodávka a montáž střešní vpusti s PVC límcem | D23: 2 | E23: ks | G23: =D23*F23 -> 0
A24: 19 | B24: K | C24: Pomocné lešení | D24: 1 | E24: kpl | G24: =D24*F24 -> 0
A25: 20 | B25: K | C25: Shoz | D25: 1 | E25: kpl | G25: =D25*F25 -> 0
A26: 21 | B26: K | C26: Manipulace s materiálem a odvoz odpadu | D26: 1 | E26: kpl | G26: =D26*F26 -> 0
A27: 22 | B27: K | C27: Vedlejší spotřební materiál, vruty, hmoždinky | D27: 1 | E27: kpl | G27: =D27*F27 -> 0
A28: 23 | B28: K | C28: Územní vlivy | D28: 1 | E28: kpl | G28: =D28*F28 -> 0
A29: 24 | B29: K | C29: Mimostaveništní doprava | D29: 1 | E29: kpl | G29: =D29*F29 -> 0
C30: Cena celkem bez DPH 21% | G30: =SUM(G6:G29) -> 0
C31: DPH 21% | G31: =G30*0.21 -> 0
C32: Cena celkem vč. DPH 21% | G32: =G30+G31 -> 0

Sheet Střecha 3
C1: Havarijní stav - oprava střech
C3: DD Roudnice nad Labem - Střecha 3
C5: název | D5: množství | E5: MJ | F5: Cena za MJ | G5: Cena celkem bez DPH
A6: 1 | B6: K | C6: Demontáž oplechování atiky | D6: 28 | E6: mb | G6: =D6*F6 -> 0
A7: 2 | B7: K | C7: Odstranění oplechování | D7: 2 | E7: m2 | G7: =D7*F7 -> 0
A8: 3 | B8: K | C8: Příprava podkladu - očištění | D8: 26.78 | E8: m2 | G8: =D8*F8 -> 0
A9: 4 | B9: M | C9: Překližka vodovzdorná hladká/hladká bříza tl 21mm | D9: 18 | E9: m2 | G9: =D9*F9 -> 0
A10: 5 | B10: K | C10: Montáž překližky, vyspádování atik | D10: 17 | E10: m2 | G10: =D10*F10 -> 0
A11: 6 | B11: M | C11: Závětrná lišta z poplastovaného plechu Viplanyl r.š. 500 mm | D11: 25 | E11: mb | G11: =D11*F11 -> 0
A12: 7 | B12: K | C12: Povlakové krytiny střech do 10° z tvarovaných poplastovaných lišt délky 2 m okapnice rš 250 mm | D12: 2.23 | E12: mb | G12: =D12*F12 -> 0
A13: 8 | B13: K | C13: Povlakové krytiny střech do 10° z tvarovaných poplastovaných lišt délky 2 m koutová lišta vnitřní rš 100 mm | D13: 32.23 | E13: mb | G13: =D13*F13 -> 0
A14: 9 | B14: K | C14: Povlakové krytiny střech do 10° z tvarovaných poplastovaných lišt délky 2 m koutová lišta vnější rš 100 mm | D14: 28 | E14: mb | G14: =D14*F14 -> 0
A15: 10 | B15: M | C15: Střešní fólie z měkčeného polyvinylchloridu, mechanicky kotvená, vyztužená PE fólie, tl. 1,8 mm | D15: 62.9 | E15: m2 | G15: =D15*F15 -> 0
A16: 11 | B16: K | C16: Povlaková krytina střech do 10°, mechanické kotvení (včetně kotev) | D16: 54.7 | E16: m2 | G16: =D16*F16 -> 0
A17: 12 | B17: K | C17: Povlaková krytina střech do 10°, podklad. textilie, 1 vrstva - včetně dodávky separační vrstvy (sklovláknitá textilie 120g/m2) | D17: =D16 -> 54.7 | E17: m2 | G17: =D17*F17 -> 0
A18: 13 | B18: K | C18: Demontáž bednění u vpustí, opětovná montáž | D18: 1 | E18: kpl | G18: =D18*F18 -> 0
A19: 14 | B19: K | C19: Přesun hmot pro povlakové krytiny | D19: 1 | E19: kpl | G19: =D19*F19 -> 0
A20: 15 | B20: K | C20: Demontáž původních vtoků | D20: 1 | E20: ks | G20: =D20*F20 -> 0
A21: 16 | B21: K | C21: Dodávka a montáž střešní vpusti s PVC límcem | D21: 1 | E21: ks | G21: =D21*F21 -> 0
A22: 17 | B22: K | C22: Pomocné lešení | D22: 1 | E22: kpl | G22: =D22*F22 -> 0
A23: 18 | B23: K | C23: Manipulace s materiálem a odvoz odpadu | D23: 1 | E23: kpl | G23: =D23*F23 -> 0
A24: 19 | B24: K | C24: Vedlejší spotřební materiál, vruty, hmoždinky | D24: 1 | E24: kpl | G24: =D24*F24 -> 0
A25: 20 | B25: K | C25: Územní vlivy | D25: 1 | E25: kpl | G25: =D25*F25 -> 0
A26: 21 | B26: K | C26: Mimostaveništní doprava | D26: 1 | E26: kpl | G26: =D26*F26 -> 0
C27: Cena celkem bez DPH 21% | G27: =SUM(G6:G26) -> 0
C28: DPH 21% | G28: =G27*0.21 -> 0
C29: Cena celkem vč. DPH 21% | G29: =G27+G28 -> 0

Sheet Střecha 4
C1: Havarijní stav - oprava střech
C3: DD Roudnice nad Labem - Střecha 4
C5: název | D5: množství | E5: MJ | F5: Cena za MJ | G5: Cena celkem bez DPH
A6: 1 | B6: K | C6: Demontáž oplechování atiky | D6: 30.5 | E6: mb | G6: =D6*F6 -> 0
A7: 2 | B7: K | C7: Odstranění oplechování | D7: 1.44 | E7: m2 | G7: =D7*F7 -> 0
A8: 3 | B8: K | C8: Příprava podkladu - očištění | D8: 42.54 | E8: m2 | G8: =D8*F8 -> 0
A9: 4 | B9: M | C9: Překližka vodovzdorná hladká/hladká bříza tl 21mm | D9: 16.5 | E9: m2 | G9: =D9*F9 -> 0
A10: 5 | B10: K | C10: Montáž překližky, vyspádování atik | D10: 14.4 | E10: m2 | G10: =D10*F10 -> 0
A11: 6 | B11: M | C11: Závětrná lišta z poplastovaného plechu Viplanyl r.š. 500 mm | D11: 33.9 | E11: mb | G11: =D11*F11 -> 0
A12: 7 | B12: K | C12: Povlakové krytiny střech do 10° z tvarovaných poplastovaných lišt délky 2 m okapnice rš 250 mm | D12: 1.6 | E12: mb | G12: =D12*F12 -> 0
A13: 8 | B13: K | C13: Povlakové krytiny střech do 10° z tvarovaných poplastovaných lišt délky 2 m koutová lišta vnitřní rš 100 mm | D13: 30.5 | E13: mb | G13: =D13*F13 -> 0
A14: 9 | B14: K | C14: Povlakové krytiny střech do 10° z tvarovaných poplastovaných lišt délky 2 m koutová lišta vnější rš 100 mm | D14: 30.5 | E14: mb | G14: =D14*F14 -> 0
A15: 10 | B15: M | C15: Střešní fólie z měkčeného polyvinylchloridu, mechanicky kotvená, vyztužená PE fólie, tl. 1,8 mm | D15: 84 | E15: m2 | G15: =D15*F15 -> 0
A16: 11 | B16: K | C16: Povlaková krytina střech do 10°, mechanické kotvení (včetně kotev) | D16: 73.04 | E16: m2 | G16: =D16*F16 -> 0
A17: 12 | B17: K | C17: Povlaková krytina střech do 10°, podklad. textilie, 1 vrstva - včetně dodávky separační vrstvy (sklovláknitá textilie 120g/m2) | D17: =D16 -> 73.04 | E17: m2 | G17: =D17*F17 -> 0
A18: 13 | B18: K | C18: Demontáž bednění u vpustí, opětovná montáž | D18: 1 | E18: kpl | G18: =D18*F18 -> 0
A19: 14 | B19: K | C19: Přesun hmot pro povlakové krytiny | D19: 1 | E19: kpl | G19: =D19*F19 -> 0
A20: 15 | B20: K | C20: Demontáž původních vtoků | D20: 1 | E20: ks | G20: =D20*F20 -> 0
A21: 16 | B21: K | C21: Dodávka a montáž střešní vpusti s PVC límcem | D21: 1 | E21: ks | G21: =D21*F21 -> 0
A22: 17 | B22: K | C22: Pomocné lešení | D22: 1 | E22: kpl | G22: =D22*F22 -> 0
A23: 18 | B23: K | C23: Manipulace s materiálem a odvoz odpadu | D23: 1 | E23: kpl | G23: =D23*F23 -> 0
A24: 19 | B24: K | C24: Vedlejší spotřební materiál, vruty, hmoždinky | D24: 1 | E24: kpl | G24: =D24*F24 -> 0
A25: 20 | B25: K | C25: Územní vlivy | D25: 1 | E25: kpl | G25: =D25*F25 -> 0
A26: 21 | B26: K | C26: Mimostaveništní doprava | D26: 1 | E26: kpl | G26: =D26*F26 -> 0
C27: Cena celkem bez DPH 21% | G27: =SUM(G6:G26) -> 0
C28: DPH 21% | G28: =G27*0.21 -> 0
C29: Cena celkem vč. DPH 21% | G29: =G27+G28 -> 0
