Workbook

Sheet Rekapitulace stavby
B2: REKAPITULACE STAVBY
B5: Kód | E5: Popis | J5: Cena bez DPH [CZK] | M5: Cena s DPH [CZK]
B7: Náklady z rozpočtů | J7: =ROUND(SUM(J8:J12),2) -> 0 | M7: =SUM(J7,S7)*1.21 -> 0
C8: 1 | F8: Laboratoř chemie | J8: ='101 - Laboratoř chemie'!J32 -> 0 | M8: =SUM(J8,S8)*1.21 -> 0
C9: 2 | F9: Laboratoř chemie - vzduchotechnika | J9: ='101 Lab. chem. Vzduchotechnika '!F18 -> 0 | M9: =J9*1.21 -> 0
C10: 3 | F10: Počítačová učebna 20 + 1 malba | J10: ='Počítačová učebna 20+1_malba'!J30 -> 0 | M10: =SUM(J10,S10)*1.21 -> 0
C11: 4 | F11: Počítačová učebna 18 + 1 malba | J11: ='Počítačová učebna 18+1_malba'!J30 -> 0 | M11: =SUM(J11,S11)*1.21 -> 0
C12: 5 | F12: Učebna přírodních věd malba, podlaha | J12: ='Uč. přír. věd_malba,podlaha'!J30 -> 0 | M12: =SUM(J12,S12)*1.21 -> 0

Sheet 101 - Laboratoř chemie
L2: >> skryté sloupce << | AT2: {a1244b22-839c-4a22-8fa1-6953c66ff48d}
AT3: 2
D4: KRYCÍ LIST - VV | M4: v --- níže se nacházejí doplnkové a pomocné údaje k sestavám --- v | AT4: False
D6: Stavba:
E7: ='[1]Rekapitulace stavby'!K6 -> 1.ZŠ Roudnice nad Labem, Karla Jeřábka 941
D8: Objekt:
E9: 101 - Laboratoř chemie
D11: KSO: | I11: CC-CZ:
D12: Místo: | I12: Datum: | J12: 45321
D14: Zadavatel: | I14: IČ: | J14: =IF('[1]Rekapitulace stavby'!AN10="","",'[1]Rekapitulace stavby'!AN10)
E15: =IF('[1]Rekapitulace stavby'!E11="","",'[1]Rekapitulace stavby'!E11) | I15: DIČ: | J15: =IF('[1]Rekapitulace stavby'!AN11="","",'[1]Rekapitulace stavby'!AN11)
D17: Uchazeč: | I17: IČ: | J17: ='[1]Rekapitulace stavby'!AN13 -> Vyplň údaj
E18: ='[1]Rekapitulace stavby'!E14 -> Vyplň údaj | I18: DIČ: | J18: ='[1]Rekapitulace stavby'!AN14 -> Vyplň údaj
D20: Projektant: | I20: IČ: | J20: =IF('[1]Rekapitulace stavby'!AN16="","",'[1]Rekapitulace stavby'!AN16)
E21: =IF('[1]Rekapitulace stavby'!E17="","",'[1]Rekapitulace stavby'!E17) | I21: DIČ: | J21: =IF('[1]Rekapitulace stavby'!AN17="","",'[1]Rekapitulace stavby'!AN17)
D23: Zpracovatel: | I23: IČ: | J23: =IF('[1]Rekapitulace stavby'!AN19="","",'[1]Rekapitulace stavby'!AN19)
E24: =IF('[1]Rekapitulace stavby'!E20="","",'[1]Rekapitulace stavby'!E20) | I24: DIČ: | J24: =IF('[1]Rekapitulace stavby'!AN20="","",'[1]Rekapitulace stavby'!AN20)
D26: Poznámka:
D30: Náklady z rozpočtu | J30: =J96 -> 0
D31: Ostatní náklady | J31: =J120 -> 0
D32: Cena bez DPH | J32: =ROUND(J30 + J31, 2) -> 0
F34: Základ daně | I34: Sazba daně | J34: Výše daně
D35: DPH | E35: základní | F35: =ROUND((SUM(BE120:BE127) + SUM(BE147:BE324)), 2) -> 0 | I35: 0.21 | J35: =ROUND(((SUM(BE120:BE127) + SUM(BE147:BE324))*I35), 2) -> 0
E36: snížená | F36: =ROUND((SUM(BF120:BF127) + SUM(BF147:BF324)), 2) -> 0 | I36: 0.15 | J36: =ROUND(((SUM(BF120:BF127) + SUM(BF147:BF324))*I36), 2) -> 0
E37: zákl. přenesená | F37: =ROUND((SUM(BG120:BG127) + SUM(BG147:BG324)), 2) -> 0 | I37: 0.21 | J37: =0 -> 0
E38: sníž. přenesená | F38: =ROUND((SUM(BH120:BH127) + SUM(BH147:BH324)), 2) -> 0 | I38: 0.15 | J38: =0 -> 0
E39: nulová | F39: =ROUND((SUM(BI120:BI127) + SUM(BI147:BI324)), 2) -> 0 | I39: 0 | J39: =0 -> 0
D50: Projektant | G50: Zpracovatel
D61: Datum a podpis: | F61: Razítko | G61: Datum a podpis: | J61: Razítko
D65: Objednavatel | G65: Uchazeč
D76: Datum a podpis: | F76: Razítko | G76: Datum a podpis: | J76: Razítko
C82: REKAPITULACE ČLENĚNÍ SOUPISU PRACÍ
C84: Stavba:
E85: =E7 -> 1.ZŠ Roudnice nad Labem, Karla Jeřábka 941
C86: Objekt:
E87: =E9 -> 101 - Laboratoř chemie
C89: Místo: | F89: =F12 | I89: Datum: | J89: =IF(J12="","",J12) -> 45321
C91: Zadavatel: | F91: =E15 | I91: Projektant: | J91: =E21
C92: Uchazeč: | F92: =IF(E18="","",E18) -> Vyplň údaj | I92: Zpracovatel: | J92: =E24
C94: Kód dílu - Popis | J94: Cena celkem [CZK]
C96: 1) Náklady ze soupisu prací | J96: =J147+J266 -> 0 | AU96: -1
D97: HSV - Práce a dodávky HSV | J97: =J148 -> 0
D98: 1 - Zemní práce | J98: =J149 -> 0
D99: 2 - Zakládání | J99: =J152 -> 0
D100: 61 - Úprava povrchů vnitřní | J100: =J157 -> 0
D101: 63 - Podlahy a podlahové konstrukce | J101: =J175 -> 0
D102: 9 - Ostatní konstrukce a práce, bourání | J102: =J190 -> 0
D103: 9- - Ostatní práce | J103: =J216 -> 0
D104: 94 - Lešení a stavební výtahy | J104: =J221 -> 0
D105: 997 - Přesun sutě | J105: =J223 -> 0
D106: 998 - Přesun hmot | J106: =J231 -> 0
D107: PSV - Práce a dodávky PSV | J107: =J233 -> 0
D108: 711 - Izolace proti vodě, vlhkosti a plynům | J108: =J234 -> 0
D109: 713 - Izolace tepelné | J109: =J251 -> 0
D110: 720 - Zdravotechnika | J110: =J258 -> 0
D111: 741 - Elektroinstalace | J111: =J263 -> 0
D112: 763 - Konstrukce suché výstavby | J112: =J267 -> 0
D113: 766 - Konstrukce truhlářské | J113: =J276 -> 0
D114: 771 - Podlahy z dlaždic | J114: =J284 -> 0
D115: 781 - Dokončovací práce - obklady | J115: =J295 -> 0
D116: 783 - Dokončovací práce - nátěry | J116: =J301 -> 0
D117: 784 - Dokončovací práce - malby a tapety | J117: =J311 -> 0
C120: 2) Ostatní náklady | J120: =ROUND(J121 + J122 + J123 + J124 + J125 + J126,2) -> 0 | N120: DPH
D121: Zařízení staveniště | J121: 0 | N121: základní | AY121: VRN | BE121: =IF(N121="základní",J121,0) -> 0 | BF121: =IF(N121="snížená",J121,0) -> 0 | BG121: =IF(N121="zákl. přenesená",J121,0) -> 0 | BH121: =IF(N121="sníž. přenesená",J121,0) -> 0 | BI121: =IF(N121="nulová",J121,0) -> 0 | BJ121: 1
D122: Mimostav.doprava | J122: 0 | N122: základní | AY122: VRN | BE122: =IF(N122="základní",J122,0) -> 0 | BF122: =IF(N122="snížená",J122,0) -> 0 | BG122: =IF(N122="zákl. přenesená",J122,0) -> 0 | BH122: =IF(N122="sníž. přenesená",J122,0) -> 0 | BI122: =IF(N122="nulová",J122,0) -> 0 | BJ122: 1
D123: Územní vlivy-čištění | J123: 0 | N123: základní | AY123: VRN | BE123: =IF(N123="základní",J123,0) -> 0 | BF123: =IF(N123="snížená",J123,0) -> 0 | BG123: =IF(N123="zákl. přenesená",J123,0) -> 0 | BH123: =IF(N123="sníž. přenesená",J123,0) -> 0 | BI123: =IF(N123="nulová",J123,0) -> 0 | BJ123: 1
D124: Provozní vlivy | J124: 0 | N124: základní | AY124: VRN | BE124: =IF(N124="základní",J124,0) -> 0 | BF124: =IF(N124="snížená",J124,0) -> 0 | BG124: =IF(N124="zákl. přenesená",J124,0) -> 0 | BH124: =IF(N124="sníž. přenesená",J124,0) -> 0 | BI124: =IF(N124="nulová",J124,0) -> 0 | BJ124: 1
D125: Kompletační a koordi | J125: 0 | N125: základní | AY125: VRN | BE125: =IF(N125="základní",J125,0) -> 0 | BF125: =IF(N125="snížená",J125,0) -> 0 | BG125: =IF(N125="zákl. přenesená",J125,0) -> 0 | BH125: =IF(N125="sníž. přenesená",J125,0) -> 0 | BI125: =IF(N125="nulová",J125,0) -> 0 | BJ125: 1
D126: Kompletační činnost | J126: =ROUND(J30*T126,2) -> 0 | N126: základní | AY126: KOMPLETACNA | BE126: =IF(N126="základní",J126,0) -> 0 | BF126: =IF(N126="snížená",J126,0) -> 0 | BG126: =IF(N126="zákl. přenesená",J126,0) -> 0 | BH126: =IF(N126="sníž. přenesená",J126,0) -> 0 | BI126: =IF(N126="nulová",J126,0) -> 0 | BJ126: 1
C128: Celkové náklady za stavbu 1) + 2) | J128: =ROUND(J96+J120,2) -> 0
C134: SOUPIS PRACÍ
C136: Stavba:
E137: =E7 -> 1.ZŠ Roudnice nad Labem, Karla Jeřábka 941
C138: Objekt:
E139: =E9 -> 101 - Laboratoř chemie
C141: Místo: | F141: =F12 | I141: Datum: | J141: =IF(J12="","",J12) -> 45321
C143: Zadavatel: | F143: =E15 | I143: Projektant: | J143: =E21
C144: Uchazeč: | F144: =IF(E18="","",E18) -> Vyplň údaj | I144: Zpracovatel: | J144: =E24
C146: PČ | D146: Typ | E146: Kód | F146: Popis | G146: MJ | H146: Množství | I146: J.cena [CZK] | J146: Cena celkem [CZK] | K146: Cenová soustava | N146: DPH | O146: J. Nh [h] | P146: Nh celkem [h] | Q146: J. hmotnost [t] | R146: Hmotnost celkem [t] | S146: J. suť [t] | T146: Suť Celkem [t]
C147: Náklady soupisu celkem | J147: =BK147 -> 0 | P147: =P148+P233 -> 0 | R147: =R148+R233 -> 46.091599 | T147: =T148+T233 -> 36.053118 | AT147: D | AU147: -1 | BK147: =BK148+BK233 -> 0
D148: D | E148: HSV | F148: Práce a dodávky HSV | J148: =BK148 -> 0 | P148: =P149+P152+P157+P175+P190+P216+P221+P223+P231 -> 0 | R148: =R149+R152+R157+R175+R190+R216+R221+R223+R231 -> 43.641581 | T148: =T149+T152+T157+T175+T190+T216+T221+T223+T231 -> 36.032098 | AR148: 1 | AT148: D | AU148: 0 | AY148: ROZPOCET | BK148: =BK149+BK152+BK157+BK175+BK190+BK216+BK221+BK223+BK231 -> 0
D149: D | E149: 1 | F149: Zemní práce | J149: =BK149 -> 0 | P149: =SUM(P150:P151) -> 0 | R149: =SUM(R150:R151) -> 0 | T149: =SUM(T150:T151) -> 8.1757 | AR149: 1 | AT149: D | AU149: 1 | AY149: ROZPOCET | BK149: =SUM(BK150:BK151) -> 0
C150: 1 | D150: K | E150: 139711111 | F150: Vykopávky v uzavřených prostorech v hornině třídy těžitelnosti I skupiny 1 až 3 ručně | G150: m3 | H150: 4.303 | J150: =ROUND(I150*H150,2) -> 0 | N150: základní | P150: =O150*H150 -> 0 | Q150: 0 | R150: =Q150*H150 -> 0 | S150: 1.9 | T150: =S150*H150 -> 8.1757 | AR150: 4 | AT150: K | AU150: 2 | AY150: ROZPOCET | BE150: =IF(N150="základní",J150,0) -> 0 | BF150: =IF(N150="snížená",J150,0) -> 0 | BG150: =IF(N150="zákl. přenesená",J150,0) -> 0 | BH150: =IF(N150="sníž. přenesená",J150,0) -> 0 | BI150: =IF(N150="nulová",J150,0) -> 0 | BJ150: 1 | BK150: =ROUND(I150*H150,2) -> 0 | BL150: 4 | BM150: 256715577
D151: VV | F151: 1,4*0,45*6,83 | H151: 4.303 | AT151: VV | AU151: 2 | AV151: 2 | AW151: True | AX151: 0 | AY151: ROZPOCET
D152: D | E152: 2 | F152: Zakládání | J152: =BK152 -> 0 | P152: =SUM(P153:P156) -> 0 | R152: =SUM(R153:R156) -> 5.2326262 | T152: =SUM(T153:T156) -> 0 | AR152: 1 | AT152: D | AU152: 1 | AY152: ROZPOCET | BK152: =SUM(BK153:BK156) -> 0
C153: 2 | D153: K | E153: 279113141 | F153: Základová zeď tl 100 mm z tvárnic ztraceného bednění včetně výplně z betonu tř. C 20/25 | G153: m2 | H153: 13.66 | J153: =ROUND(I153*H153,2) -> 0 | N153: základní | P153: =O153*H153 -> 0 | Q153: 0.37678 | R153: =Q153*H153 -> 5.1468148 | S153: 0 | T153: =S153*H153 -> 0 | AR153: 4 | AT153: K | AU153: 2 | AY153: ROZPOCET | BE153: =IF(N153="základní",J153,0) -> 0 | BF153: =IF(N153="snížená",J153,0) -> 0 | BG153: =IF(N153="zákl. přenesená",J153,0) -> 0 | BH153: =IF(N153="sníž. přenesená",J153,0) -> 0 | BI153: =IF(N153="nulová",J153,0) -> 0 | BJ153: 1 | BK153: =ROUND(I153*H153,2) -> 0 | BL153: 4 | BM153: 1089476103
D154: VV | F154: 0,5*2*2*6,83 | H154: 13.66 | AT154: VV | AU154: 2 | AV154: 2 | AW154: True | AX154: 0 | AY154: ROZPOCET
C155: 3 | D155: K | E155: 279361821 | F155: Výztuž základových zdí nosných betonářskou ocelí 10 505 | G155: t | H155: 0.081 | J155: =ROUND(I155*H155,2) -> 0 | N155: základní | P155: =O155*H155 -> 0 | Q155: 1.0594 | R155: =Q155*H155 -> 0.0858114 | S155: 0 | T155: =S155*H155 -> 0 | AR155: 4 | AT155: K | AU155: 2 | AY155: ROZPOCET | BE155: =IF(N155="základní",J155,0) -> 0 | BF155: =IF(N155="snížená",J155,0) -> 0 | BG155: =IF(N155="zákl. přenesená",J155,0) -> 0 | BH155: =IF(N155="sníž. přenesená",J155,0) -> 0 | BI155: =IF(N155="nulová",J155,0) -> 0 | BJ155: 1 | BK155: =ROUND(I155*H155,2) -> 0 | BL155: 4 | BM155: 478732930
D156: VV | F156: 8*2*1,2*6,83*0,617*0,001 | H156: 0.081 | AT156: VV | AU156: 2 | AV156: 2 | AW156: True | AX156: 0 | AY156: ROZPOCET
D157: D | E157: 61 | F157: Úprava povrchů vnitřní | J157: =BK157 -> 0 | P157: =SUM(P158:P174) -> 0 | R157: =SUM(R158:R174) -> 2.9341596 | T157: =SUM(T158:T174) -> 0 | AR157: 1 | AT157: D | AU157: 1 | AY157: ROZPOCET | BK157: =SUM(BK158:BK174) -> 0
C158: 4 | D158: K | E158: 612321121 | F158: Vápenocementová omítka hladká jednovrstvá vnitřních stěn nanášená ručně do 10mm | G158: m2 | H158: 2.985 | J158: =ROUND(I158*H158,2) -> 0 | N158: základní | P158: =O158*H158 -> 0 | Q158: 0.0154 | R158: =Q158*H158 -> 0.045969 | S158: 0 | T158: =S158*H158 -> 0 | AR158: 4 | AT158: K | AU158: 2 | AY158: ROZPOCET | BE158: =IF(N158="základní",J158,0) -> 0 | BF158: =IF(N158="snížená",J158,0) -> 0 | BG158: =IF(N158="zákl. přenesená",J158,0) -> 0 | BH158: =IF(N158="sníž. přenesená",J158,0) -> 0 | BI158: =IF(N158="nulová",J158,0) -> 0 | BJ158: 1 | BK158: =ROUND(I158*H158,2) -> 0 | BL158: 4 | BM158: 41839211
D159: VV | F159: 1,1*2,1+0,15*(0,7+1,9+1,9) | H159: 2.985 | AT159: VV | AU159: 2 | AV159: 2 | AW159: True | AX159: 0 | AY159: ROZPOCET
C160: 5 | D160: K | E160: 612321191 | F160: Příplatek k vápenocementové omítce vnitřních stěn za každých dalších 5 mm tloušťky ručně | G160: m2 | H160: 11.94 | J160: =ROUND(I160*H160,2) -> 0 | N160: základní | P160: =O160*H160 -> 0 | Q160: 0.0079 | R160: =Q160*H160 -> 0.094326 | S160: 0 | T160: =S160*H160 -> 0 | AR160: 4 | AT160: K | AU160: 2 | AY160: ROZPOCET | BE160: =IF(N160="základní",J160,0) -> 0 | BF160: =IF(N160="snížená",J160,0) -> 0 | BG160: =IF(N160="zákl. přenesená",J160,0) -> 0 | BH160: =IF(N160="sníž. přenesená",J160,0) -> 0 | BI160: =IF(N160="nulová",J160,0) -> 0 | BJ160: 1 | BK160: =ROUND(I160*H160,2) -> 0 | BL160: 4 | BM160: -287473033
D161: VV | F161: 1,1*2,1+0,15*(0,7+1,9+1,9) | H161: 2.985 | AT161: VV | AU161: 2 | AV161: 2 | AW161: True | AX161: 0 | AY161: ROZPOCET
D162: VV | F162: 2,985*4 'Přepočtené koeficientem množství | H162: 11.94 | AT162: VV | AU162: 2 | AV162: 2 | AW162: False | AX162: 1 | AY162: ROZPOCET
C163: 6 | D163: K | E163: 612325413 | F163: Oprava vnitřní vápenocementové hladké omítky stěn v rozsahu plochy 40 % | G163: m2 | H163: 99.618 | J163: =ROUND(I163*H163,2) -> 0 | N163: základní | P163: =O163*H163 -> 0 | Q163: 0.0262 | R163: =Q163*H163 -> 2.6099916 | S163: 0 | T163: =S163*H163 -> 0 | AR163: 4 | AT163: K | AU163: 2 | AY163: ROZPOCET | BE163: =IF(N163="základní",J163,0) -> 0 | BF163: =IF(N163="snížená",J163,0) -> 0 | BG163: =IF(N163="zákl. přenesená",J163,0) -> 0 | BH163: =IF(N163="sníž. přenesená",J163,0) -> 0 | BI163: =IF(N163="nulová",J163,0) -> 0 | BJ163: 1 | BK163: =ROUND(I163*H163,2) -> 0 | BL163: 4 | BM163: -1330773136
D164: VV | F164: 4,2*(6,83+5,412)*2-0,9*1,97 | H164: 101.06 | AT164: VV | AU164: 2 | AV164: 2 | AW164: True | AX164: 0 | AY164: ROZPOCET
D165: VV | F165: -1,9*2,7*2 | H165: -10.26 | AT165: VV | AU165: 2 | AV165: 2 | AW165: True | AX165: 0 | AY165: ROZPOCET
D166: VV | F166: 0,53*(1,9+2,7+2,7)*2 | H166: 7.738 | AT166: VV | AU166: 2 | AV166: 2 | AW166: True | AX166: 0 | AY166: ROZPOCET
D167: VV | F167: 0,3*0,9*4 | H167: 1.08 | AT167: VV | AU167: 2 | AV167: 2 | AW167: True | AX167: 0 | AY167: ROZPOCET
...

Sheet 101 Lab. chem. Vzduchotechnika 
A3: Číslo položky | B3: Název položky | C3: Počet | D3: MJ | E3: Jednotková cena za dodávku | F3: Celková cena za dodávku
A4: 1 | B4: Potrubní ventilátor D315 - tiché provedení | C4: 1 | D4: ks | F4: =E4*C4 -> 0
A5: 2 | B5: Regulace otáček | C5: 1 | D5: ks | F5: =E5*C5 -> 0
A6: 3 | B6: Regulační klapka do potrubí D250 | C6: 1 | D6: ks | F6: =E6*C6 -> 0
A7: 4 | B7: Pružné manžety D315 | C7: 2 | D7: ks | F7: =E7*C7 -> 0
A8: 5 | B8: Krček s regulací | C8: 4 | D8: ks | F8: =E8*C8 -> 0
A9: 6 | B9: Odtahový anemostat 400x400 | C9: 4 | D9: ks | F9: =E9*C9 -> 0
A10: 7 | B10: Potrubí hranaté | C10: 1 | D10: kpl | F10: =E10*C10 -> 0
A11: 8 | B11: Potrubí kruhové | C11: 1 | D11: kpl | F11: =E11*C11 -> 0
A12: 9 | B12: Průraz obchodovým zdivem | C12: 1 | D12: kpl | F12: =E12*C12 -> 0
A13: 10 | B13: Revize | C13: 1 | D13: kpl | F13: =E13*C13 -> 0
A14: 11 | B14: Kompletní elektro (kabeláž mezi jednotkami a ovládáním, revize) | C14: 1 | D14: kpl | F14: =E14*C14 -> 0
A15: 12 | B15: Demontáž a likvidace stávajícího podhledu | C15: 1 | D15: kpl | F15: =E15*C15 -> 0
A16: 13 | B16: Společný montážní materiál (závěsný, těsnící a spojovací materiál) | C16: 1 | D16: kpl | F16: =E16*C16 -> 0
E18: Cena celkem bez DPH | F18: =SUM(F4:F16) -> 0
E19: Cena celkem s DPH | F19: =F18*1.21 -> 0

Sheet Počítačová učebna 20+1_malba
AR2: {fe0f518f-9c43-4ab5-84fc-7401227b29f4}
AR3: 2
D4: KRYCÍ LIST SOUPISU PRACÍ | K4: v --- níže se nacházejí doplnkové a pomocné údaje k sestavám --- v | AR4: False
D6: Stavba:
D8: Objekt:
D11: KSO: | I11: CC-CZ:
D12: Místo: | I12: Datum:
D14: Zadavatel: | I14: IČ:
I15: DIČ:
D17: Uchazeč: | I17: IČ:
I18: DIČ:
D20: Projektant: | I20: IČ:
I21: DIČ:
D23: Zpracovatel: | I23: IČ:
I24: DIČ:
D26: Poznámka:
D30: Cena bez DPH | J30: =ROUND(J84, 2) -> 0
F32: Základ daně | I32: Sazba daně | J32: Výše daně
D33: DPH | E33: základní | F33: =ROUND((SUM(BC84:BC116)), 2) -> 0 | I33: 0.21 | J33: =ROUND(((SUM(BC84:BC116))*I33), 2) -> 0
E34: snížená | F34: =ROUND((SUM(BD84:BD116)), 2) -> 0 | I34: 0.15 | J34: =ROUND(((SUM(BD84:BD116))*I34), 2) -> 0
E35: zákl. přenesená | F35: =ROUND((SUM(BE84:BE116)), 2) -> 0 | I35: 0.21 | J35: =0 -> 0
E36: sníž. přenesená | F36: =ROUND((SUM(BF84:BF116)), 2) -> 0 | I36: 0.15 | J36: =0 -> 0
E37: nulová | F37: =ROUND((SUM(BG84:BG116)), 2) -> 0 | I37: 0 | J37: =0 -> 0
D39: Cena s DPH | G39: v | H39: CZK | J39: =SUM(J30:J37) -> 0
F52: =F12 | I52: Datum:
I54: Projektant:
I55: Zpracovatel:
J57: Cena celkem [CZK]
J59: =J84 -> 0 | AS59: -1
D60: PSV - Práce a dodávky PSV | J60: =J85 -> 0
D61: 762 - Konstrukce tesařské | J61: =J86 -> 0
D62: 776 - Podlahy povlakové | J62: =J94 -> 0
D63: 783 - Dokončovací práce - nátěry | J63: =J106 -> 0
D64: 784 - Dokončovací práce - malby a tapety | J64: =J110 -> 0
F78: =F12 | I78: Datum:
I80: Projektant:
I81: Zpracovatel:
D83: Typ | E83: Kód | F83: Popis | G83: MJ | H83: Množství | I83: J.cena [CZK] | J83: Cena celkem [CZK] | L83: DPH | M83: J. Nh [h] | N83: Nh celkem [h] | O83: J. hmotnost [t] | P83: Hmotnost celkem [t] | Q83: J. suť [t] | R83: Suť Celkem [t]
J84: =J85 -> 0 | N84: =#REF!+N85+#REF!+#REF!+#REF! -> #REF! | P84: =#REF!+P85+#REF!+#REF!+#REF! -> #REF! | R84: =#REF!+R85+#REF!+#REF!+#REF! -> #REF! | AR84: D | AS84: -1 | BI84: =#REF!+BI85+#REF!+#REF!+#REF! -> #REF!
D85: D | E85: PSV | F85: Práce a dodávky PSV | J85: =SUBTOTAL(9,J86:J116) -> 0 | N85: =#REF!+#REF!+#REF!+#REF!+N86+#REF!+#REF!+#REF!+N94+#REF!+N106+N110 -> #REF! | P85: =#REF!+#REF!+#REF!+#REF!+P86+#REF!+#REF!+#REF!+P94+#REF!+P106+P110 -> #REF! | R85: =#REF!+#REF!+#REF!+#REF!+R86+#REF!+#REF!+#REF!+R94+#REF!+R106+R110 -> #REF! | AP85: 2 | AR85: D | AS85: 0 | AW85: ROZPOCET | BI85: =#REF!+#REF!+#REF!+#REF!+BI86+#REF!+#REF!+#REF!+BI94+#REF!+BI106+BI110 -> #REF!
D86: D | E86: 762 | F86: Konstrukce tesařské | J86: =SUBTOTAL(9,J87:J92) -> 0 | N86: =SUM(N87:N92) -> 0 | P86: =SUM(P87:P92) -> 0 | R86: =SUM(R87:R92) -> 0 | AP86: 2 | AR86: D | AS86: 1 | AW86: ROZPOCET | BI86: =SUM(BI87:BI92) -> 0
C87: 1 | D87: K | E87: 762511274 | F87: Podlahové kce podkladové z desek OSB tl 18 mm broušených na pero a drážku šroubovaných | G87: m2 | H87: 0 | J87: =ROUND(I87*H87,2) -> 0 | L87: základní | N87: =M87*H87 -> 0 | O87: 0.01574 | P87: =O87*H87 -> 0 | Q87: 0 | R87: =Q87*H87 -> 0 | AP87: 16 | AR87: K | AS87: 2 | AW87: ROZPOCET | BC87: =IF(L87="základní",J87,0) -> 0 | BD87: =IF(L87="snížená",J87,0) -> 0 | BE87: =IF(L87="zákl. přenesená",J87,0) -> 0 | BF87: =IF(L87="sníž. přenesená",J87,0) -> 0 | BG87: =IF(L87="nulová",J87,0) -> 0 | BH87: 1 | BI87: =ROUND(I87*H87,2) -> 0 | BJ87: 16 | BK87: 1451654868
C88: 2 | D88: K | E88: 762526811 | F88: Demontáž podlah z dřevotřísky, překližky, sololitu tloušťky do 20 mm bez polštářů | G88: m2 | H88: =H87 -> 0 | J88: =ROUND(I88*H88,2) -> 0 | L88: základní | N88: =M88*H88 -> 0 | O88: 0.0002 | P88: =O88*H88 -> 0 | Q88: 0 | R88: =Q88*H88 -> 0 | AP88: 16 | AR88: K | AS88: 2 | AW88: ROZPOCET | BC88: =IF(L88="základní",J88,0) -> 0 | BD88: =IF(L88="snížená",J88,0) -> 0 | BE88: =IF(L88="zákl. přenesená",J88,0) -> 0 | BF88: =IF(L88="sníž. přenesená",J88,0) -> 0 | BG88: =IF(L88="nulová",J88,0) -> 0 | BH88: 1 | BI88: =ROUND(I88*H88,2) -> 0 | BJ88: 16 | BK88: 1196060643
C89: 3 | D89: K | E89: 998762102 | F89: Přesun hmot tonážní pro kce tesařské v objektech v přes 6 do 12 m | G89: t | H89: =0.01131*H87 -> 0 | J89: =ROUND(I89*H89,2) -> 0 | L89: základní | N89: =M89*H89 -> 0 | O89: 0.00014 | P89: =O89*H89 -> 0 | Q89: 0 | R89: =Q89*H89 -> 0 | AP89: 16 | AR89: K | AS89: 2 | AW89: ROZPOCET | BC89: =IF(L89="základní",J89,0) -> 0 | BD89: =IF(L89="snížená",J89,0) -> 0 | BE89: =IF(L89="zákl. přenesená",J89,0) -> 0 | BF89: =IF(L89="sníž. přenesená",J89,0) -> 0 | BG89: =IF(L89="nulová",J89,0) -> 0 | BH89: 1 | BI89: =ROUND(I89*H89,2) -> 0 | BJ89: 16 | BK89: -2142379747
C90: 4 | D90: K | E90: 997013511 | F90: Odvoz suti a vybouraných hmot z meziskládky na skládku s naložením a se složením, na vzdálenost do 1 km | G90: t | H90: =0.03*H88 -> 0 | J90: =ROUND(I90*H90,2) -> 0 | L90: základní | N90: =M90*H90 -> 0 | O90: 0 | P90: =O90*H90 -> 0 | Q90: 0 | R90: =Q90*H90 -> 0 | AP90: 4 | AR90: K | AS90: 2 | AW90: ROZPOCET | BC90: =IF(L90="základní",J90,0) -> 0 | BD90: =IF(L90="snížená",J90,0) -> 0 | BE90: =IF(L90="zákl. přenesená",J90,0) -> 0 | BF90: =IF(L90="sníž. přenesená",J90,0) -> 0 | BG90: =IF(L90="nulová",J90,0) -> 0 | BH90: 1 | BI90: =ROUND(I90*H90,2) -> 0 | BJ90: 4 | BK90: -587466812
C91: 5 | D91: K | E91: 997013509 | F91: Odvoz suti a vybouraných hmot na skládku nebo meziskládku se složením, na vzdálenost Příplatek k ceně za každý další i započatý 1 km přes 1 km | G91: t | H91: =H90*19 -> 0 | J91: =ROUND(I91*H91,2) -> 0 | L91: základní | N91: =M91*H91 -> 0 | O91: 0 | P91: =O91*H91 -> 0 | Q91: 0 | R91: =Q91*H91 -> 0 | AP91: 4 | AR91: K | AS91: 2 | AW91: ROZPOCET | BC91: =IF(L91="základní",J91,0) -> 0 | BD91: =IF(L91="snížená",J91,0) -> 0 | BE91: =IF(L91="zákl. přenesená",J91,0) -> 0 | BF91: =IF(L91="sníž. přenesená",J91,0) -> 0 | BG91: =IF(L91="nulová",J91,0) -> 0 | BH91: 1 | BI91: =ROUND(I91*H91,2) -> 0 | BJ91: 4 | BK91: -331989164
C92: 6 | D92: K | E92: 997013631 | F92: Poplatek za uložení na skládce (skládkovné) stavebního odpadu směsného kód odpadu 17 09 04 | G92: t | H92: =H90 -> 0 | J92: =ROUND(I92*H92,2) -> 0 | L92: základní | N92: =M92*H92 -> 0 | O92: 0 | P92: =O92*H92 -> 0 | Q92: 0 | R92: =Q92*H92 -> 0 | AP92: 4 | AR92: K | AS92: 2 | AW92: ROZPOCET | BC92: =IF(L92="základní",J92,0) -> 0 | BD92: =IF(L92="snížená",J92,0) -> 0 | BE92: =IF(L92="zákl. přenesená",J92,0) -> 0 | BF92: =IF(L92="sníž. přenesená",J92,0) -> 0 | BG92: =IF(L92="nulová",J92,0) -> 0 | BH92: 1 | BI92: =ROUND(I92*H92,2) -> 0 | BJ92: 4 | BK92: 1936786590
D93: Online PSC | F93: https://podminky.urs.cz/item/CS_URS_2021_02/998772201 | AR93: Online PSC | AS93: 2
D94: D | E94: 776 | F94: Podlahy povlakové | J94: =SUBTOTAL(9,J95:J105) -> 0 | N94: =SUM(N95:N105) -> 0 | P94: =SUM(P95:P105) -> 0.010584 | R94: =SUM(R95:R105) -> 0.00882 | AP94: 2 | AR94: D | AS94: 1 | AW94: ROZPOCET | BI94: =SUM(BI95:BI105) -> 0
C95: 7 | D95: K | E95: 776111311 | F95: Příprava podkladu vysátí podlah | G95: m2 | H95: =H87 -> 0 | J95: =ROUND(I95*H95,2) -> 0 | L95: základní | N95: =M95*H95 -> 0 | O95: 0 | P95: =O95*H95 -> 0 | Q95: 0 | R95: =Q95*H95 -> 0 | AP95: 16 | AR95: K | AS95: 2 | AW95: ROZPOCET | BC95: =IF(L95="základní",J95,0) -> 0 | BD95: =IF(L95="snížená",J95,0) -> 0 | BE95: =IF(L95="zákl. přenesená",J95,0) -> 0 | BF95: =IF(L95="sníž. přenesená",J95,0) -> 0 | BG95: =IF(L95="nulová",J95,0) -> 0 | BH95: 1 | BI95: =ROUND(I95*H95,2) -> 0 | BJ95: 16 | BK95: -1844395462
C96: 8 | D96: K | E96: 776201812 | F96: Demontáž povlakových podlahovin lepených ručně s podložkou | G96: m2 | H96: =H95 -> 0 | J96: =ROUND(I96*H96,2) -> 0 | L96: základní | N96: =M96*H96 -> 0 | O96: 0 | P96: =O96*H96 -> 0 | Q96: 0.003 | R96: =Q96*H96 -> 0 | AP96: 16 | AR96: K | AS96: 2 | AW96: ROZPOCET | BC96: =IF(L96="základní",J96,0) -> 0 | BD96: =IF(L96="snížená",J96,0) -> 0 | BE96: =IF(L96="zákl. přenesená",J96,0) -> 0 | BF96: =IF(L96="sníž. přenesená",J96,0) -> 0 | BG96: =IF(L96="nulová",J96,0) -> 0 | BH96: 1 | BI96: =ROUND(I96*H96,2) -> 0 | BJ96: 16 | BK96: -1374422211
C97: 9 | D97: K | E97: 776221111 | F97: Lepení pásů z PVC standardním lepidlem | G97: m2 | H97: =H96 -> 0 | J97: =ROUND(I97*H97,2) -> 0 | L97: základní | N97: =M97*H97 -> 0 | O97: 0.0003 | P97: =O97*H97 -> 0 | Q97: 0 | R97: =Q97*H97 -> 0 | AP97: 16 | AR97: K | AS97: 2 | AW97: ROZPOCET | BC97: =IF(L97="základní",J97,0) -> 0 | BD97: =IF(L97="snížená",J97,0) -> 0 | BE97: =IF(L97="zákl. přenesená",J97,0) -> 0 | BF97: =IF(L97="sníž. přenesená",J97,0) -> 0 | BG97: =IF(L97="nulová",J97,0) -> 0 | BH97: 1 | BI97: =ROUND(I97*H97,2) -> 0 | BJ97: 16 | BK97: 1859653024
C98: 10 | D98: M | E98: 28411012 | F98: homogenní, třída zátěže vysoká, R10, hořlavost Bfl S1, bez ftalátů | G98: m2 | H98: =H97*1.1 -> 0 | J98: =ROUND(I98*H98,2) -> 0 | L98: základní | N98: =M98*H98 -> 0 | O98: 0.00368 | P98: =O98*H98 -> 0 | Q98: 0 | R98: =Q98*H98 -> 0 | AP98: 32 | AR98: M | AS98: 2 | AW98: ROZPOCET | BC98: =IF(L98="základní",J98,0) -> 0 | BD98: =IF(L98="snížená",J98,0) -> 0 | BE98: =IF(L98="zákl. přenesená",J98,0) -> 0 | BF98: =IF(L98="sníž. přenesená",J98,0) -> 0 | BG98: =IF(L98="nulová",J98,0) -> 0 | BH98: 1 | BI98: =ROUND(I98*H98,2) -> 0 | BJ98: 16 | BK98: 402955820
C99: 11 | D99: K | E99: 776410811 | F99: Demontáž soklíků nebo lišt pryžových nebo plastových | G99: m | H99: 29.4 | J99: =ROUND(I99*H99,2) -> 0 | L99: základní | N99: =M99*H99 -> 0 | O99: 0 | P99: =O99*H99 -> 0 | Q99: 0.0003 | R99: =Q99*H99 -> 0.00882 | AP99: 16 | AR99: K | AS99: 2 | AW99: ROZPOCET | BC99: =IF(L99="základní",J99,0) -> 0 | BD99: =IF(L99="snížená",J99,0) -> 0 | BE99: =IF(L99="zákl. přenesená",J99,0) -> 0 | BF99: =IF(L99="sníž. přenesená",J99,0) -> 0 | BG99: =IF(L99="nulová",J99,0) -> 0 | BH99: 1 | BI99: =ROUND(I99*H99,2) -> 0 | BJ99: 16 | BK99: 596501304
C100: 12 | D100: K | E100: 776411111 | F100: Montáž soklíků lepením obvodových, výšky do 80 mm | G100: m | H100: =H99 -> 29.4 | J100: =ROUND(I100*H100,2) -> 0 | L100: základní | N100: =M100*H100 -> 0 | O100: 1e-05 | P100: =O100*H100 -> 0.000294 | Q100: 0 | R100: =Q100*H100 -> 0 | AP100: 16 | AR100: K | AS100: 2 | AW100: ROZPOCET | BC100: =IF(L100="základní",J100,0) -> 0 | BD100: =IF(L100="snížená",J100,0) -> 0 | BE100: =IF(L100="zákl. přenesená",J100,0) -> 0 | BF100: =IF(L100="sníž. přenesená",J100,0) -> 0 | BG100: =IF(L100="nulová",J100,0) -> 0 | BH100: 1 | BI100: =ROUND(I100*H100,2) -> 0 | BJ100: 16 | BK100: 536872929
C101: 13 | D101: M | E101: 28411009 | F101: lišta soklová PVC 18x80mm | G101: m | H101: =H99 -> 29.4 | J101: =ROUND(I101*H101,2) -> 0 | L101: základní | N101: =M101*H101 -> 0 | O101: 0.00035 | P101: =O101*H101 -> 0.01029 | Q101: 0 | R101: =Q101*H101 -> 0 | AP101: 32 | AR101: M | AS101: 2 | AW101: ROZPOCET | BC101: =IF(L101="základní",J101,0) -> 0 | BD101: =IF(L101="snížená",J101,0) -> 0 | BE101: =IF(L101="zákl. přenesená",J101,0) -> 0 | BF101: =IF(L101="sníž. přenesená",J101,0) -> 0 | BG101: =IF(L101="nulová",J101,0) -> 0 | BH101: 1 | BI101: =ROUND(I101*H101,2) -> 0 | BJ101: 16 | BK101: 745370148
C102: 14 | D102: K | E102: 997013511 | F102: Odvoz suti a vybouraných hmot z meziskládky na skládku s naložením a se složením, na vzdálenost do 1 km | G102: t | H102: =0.003*H96 -> 0 | J102: =ROUND(I102*H102,2) -> 0 | L102: základní | N102: =M102*H102 -> 0 | O102: 0 | P102: =O102*H102 -> 0 | Q102: 0 | R102: =Q102*H102 -> 0 | AP102: 4 | AR102: K | AS102: 2 | AW102: ROZPOCET | BC102: =IF(L102="základní",J102,0) -> 0 | BD102: =IF(L102="snížená",J102,0) -> 0 | BE102: =IF(L102="zákl. přenesená",J102,0) -> 0 | BF102: =IF(L102="sníž. přenesená",J102,0) -> 0 | BG102: =IF(L102="nulová",J102,0) -> 0 | BH102: 1 | BI102: =ROUND(I102*H102,2) -> 0 | BJ102: 4 | BK102: -587466812
C103: 15 | D103: K | E103: 997013509 | F103: Odvoz suti a vybouraných hmot na skládku nebo meziskládku se složením, na vzdálenost Příplatek k ceně za každý další i započatý 1 km přes 1 km | G103: t | H103: =H102*19 -> 0 | J103: =ROUND(I103*H103,2) -> 0 | L103: základní | N103: =M103*H103 -> 0 | O103: 0 | P103: =O103*H103 -> 0 | Q103: 0 | R103: =Q103*H103 -> 0 | AP103: 4 | AR103: K | AS103: 2 | AW103: ROZPOCET | BC103: =IF(L103="základní",J103,0) -> 0 | BD103: =IF(L103="snížená",J103,0) -> 0 | BE103: =IF(L103="zákl. přenesená",J103,0) -> 0 | BF103: =IF(L103="sníž. přenesená",J103,0) -> 0 | BG103: =IF(L103="nulová",J103,0) -> 0 | BH103: 1 | BI103: =ROUND(I103*H103,2) -> 0 | BJ103: 4 | BK103: -331989164
C104: 16 | D104: K | E104: 997013813 | F104: Poplatek za uložení stavebního odpadu na skládce (skládkovné) z plastických hmot zatříděného do Katalogu odpadů pod kódem 170 203 | G104: t | H104: 0 | J104: =ROUND(I104*H104,2) -> 0 | L104: základní | N104: =M104*H104 -> 0 | O104: 0 | P104: =O104*H104 -> 0 | Q104: 0 | R104: =Q104*H104 -> 0 | AP104: 4 | AR104: K | AS104: 2 | AW104: ROZPOCET | BC104: =IF(L104="základní",J104,0) -> 0 | BD104: =IF(L104="snížená",J104,0) -> 0 | BE104: =IF(L104="zákl. přenesená",J104,0) -> 0 | BF104: =IF(L104="sníž. přenesená",J104,0) -> 0 | BG104: =IF(L104="nulová",J104,0) -> 0 | BH104: 1 | BI104: =ROUND(I104*H104,2) -> 0 | BJ104: 4 | BK104: 1936786590
C105: 17 | D105: K | E105: 998776101 | F105: Přesun hmot tonážní pro podlahy povlakové v objektech v přes 6 do 12 m | G105: t | H105: =H102 -> 0 | J105: =ROUND(I105*H105,2) -> 0 | L105: základní | N105: =M105*H105 -> 0 | O105: 0 | P105: =O105*H105 -> 0 | Q105: 0 | R105: =Q105*H105 -> 0 | AP105: 16 | AR105: K | AS105: 2 | AW105: ROZPOCET | BC105: =IF(L105="základní",J105,0) -> 0 | BD105: =IF(L105="snížená",J105,0) -> 0 | BE105: =IF(L105="zákl. přenesená",J105,0) -> 0 | BF105: =IF(L105="sníž. přenesená",J105,0) -> 0 | BG105: =IF(L105="nulová",J105,0) -> 0 | BH105: 1 | BI105: =ROUND(I105*H105,2) -> 0 | BJ105: 16 | BK105: -102991986
C106: 18 | D106: D | E106: 783 | F106: Dokončovací práce - nátěry | J106: =SUBTOTAL(9,J107:J109) -> 0 | N106: =SUM(N107:N109) -> 0 | P106: =SUM(P107:P109) -> 0.0066 | R106: =SUM(R107:R109) -> 0 | AP106: 2 | AR106: D | AS106: 1 | AW106: ROZPOCET | BI106: =SUM(BI107:BI109) -> 0
C107: 19 | D107: K | E107: 783813131 | F107: Penetrační syntetický nátěr hladkých, tenkovrstvých zrnitých a štukových omítek | G107: m2 | H107: 44 | J107: =ROUND(I107*H107,2) -> 0 | L107: základní | N107: =M107*H107 -> 0 | O107: 2e-05 | P107: =O107*H107 -> 0.00088 | Q107: 0 | R107: =Q107*H107 -> 0 | AP107: 16 | AR107: K | AS107: 2 | AW107: ROZPOCET | BC107: =IF(L107="základní",J107,0) -> 0 | BD107: =IF(L107="snížená",J107,0) -> 0 | BE107: =IF(L107="zákl. přenesená",J107,0) -> 0 | BF107: =IF(L107="sníž. přenesená",J107,0) -> 0 | BG107: =IF(L107="nulová",J107,0) -> 0 | BH107: 1 | BI107: =ROUND(I107*H107,2) -> 0 | BJ107: 16 | BK107: -652316423
C108: 20 | D108: K | E108: 783817421 | F108: Krycí dvojnásobný syntetický nátěr hladkých, zrnitých tenkovrstvých nebo štukových omítek | G108: m2 | H108: =H107 -> 44 | J108: =ROUND(I108*H108,2) -> 0 | L108: základní | N108: =M108*H108 -> 0 | O108: 0 | P108: =O108*H108 -> 0 | Q108: 0 | R108: =Q108*H108 -> 0 | AP108: 16 | AR108: K | AS108: 2 | AW108: ROZPOCET | BC108: =IF(L108="základní",J108,0) -> 0 | BD108: =IF(L108="snížená",J108,0) -> 0 | BE108: =IF(L108="zákl. přenesená",J108,0) -> 0 | BF108: =IF(L108="sníž. přenesená",J108,0) -> 0 | BG108: =IF(L108="nulová",J108,0) -> 0 | BH108: 1 | BI108: =ROUND(I108*H108,2) -> 0 | BJ108: 16 | BK108: 1850501795
C109: 21 | D109: K | E109: 783806811 | F109: Odstranění nátěrů z omítek oškrábáním | G109: m2 | H109: =H108 -> 44 | J109: =ROUND(I109*H109,2) -> 0 | L109: základní | N109: =M109*H109 -> 0 | O109: 0.00013 | P109: =O109*H109 -> 0.00572 | Q109: 0 | R109: =Q109*H109 -> 0 | AP109: 16 | AR109: K | AS109: 2 | AW109: ROZPOCET | BC109: =IF(L109="základní",J109,0) -> 0 | BD109: =IF(L109="snížená",J109,0) -> 0 | BE109: =IF(L109="zákl. přenesená",J109,0) -> 0 | BF109: =IF(L109="sníž. přenesená",J109,0) -> 0 | BG109: =IF(L109="nulová",J109,0) -> 0 | BH109: 1 | BI109: =ROUND(I109*H109,2) -> 0 | BJ109: 16 | BK109: 707915571
C110: 22 | D110: D | E110: 784 | F110: Dokončovací práce - malby a tapety | J110: =SUBTOTAL(9,J111:J116) -> 0 | N110: =SUM(N111:N116) -> 0 | P110: =SUM(P111:P116) -> 0.08932 | R110: =SUM(R111:R116) -> 0.02728 | AP110: 2 | AR110: D | AS110: 1 | AW110: ROZPOCET | BI110: =SUM(BI111:BI116) -> 0
C111: 23 | D111: K | E111: 784111001 | F111: Oprášení (ometení) podkladu v místnostech výšky do 3,80 m | G111: m2 | H111: =H107+H112 -> 88 | J111: =ROUND(I111*H111,2) -> 0 | L111: základní | N111: =M111*H111 -> 0 | O111: 0 | P111: =O111*H111 -> 0 | Q111: 0 | R111: =Q111*H111 -> 0 | AP111: 16 | AR111: K | AS111: 2 | AW111: ROZPOCET | BC111: =IF(L111="základní",J111,0) -> 0 | BD111: =IF(L111="snížená",J111,0) -> 0 | BE111: =IF(L111="zákl. přenesená",J111,0) -> 0 | BF111: =IF(L111="sníž. přenesená",J111,0) -> 0 | BG111: =IF(L111="nulová",J111,0) -> 0 | BH111: 1 | BI111: =ROUND(I111*H111,2) -> 0 | BJ111: 16 | BK111: -61812216
C112: 24 | D112: K | E112: 784121001 | F112: Oškrabání malby v místnostech výšky do 3,80 m | G112: m2 | H112: 44 | J112: =ROUND(I112*H112,2) -> 0 | L112: základní | N112: =M112*H112 -> 0 | O112: 0.001 | P112: =O112*H112 -> 0.044 | Q112: 0.00031 | R112: =Q112*H112 -> 0.01364 | AP112: 16 | AR112: K | AS112: 2 | AW112: ROZPOCET | BC112: =IF(L112="základní",J112,0) -> 0 | BD112: =IF(L112="snížená",J112,0) -> 0 | BE112: =IF(L112="zákl. přenesená",J112,0) -> 0 | BF112: =IF(L112="sníž. přenesená",J112,0) -> 0 | BG112: =IF(L112="nulová",J112,0) -> 0 | BH112: 1 | BI112: =ROUND(I112*H112,2) -> 0 | BJ112: 16 | BK112: -575438632
C113: 25 | D113: K | E113: 784121011 | F113: Rozmývání podkladu po oškrabání malby v místnostech výšky do 3,80 m | G113: m2 | H113: =H112 -> 44 | J113: =ROUND(I113*H113,2) -> 0 | L113: základní | N113: =M113*H113 -> 0 | O113: 0.001 | P113: =O113*H113 -> 0.044 | Q113: 0.00031 | R113: =Q113*H113 -> 0.01364 | AP113: 16 | AR113: K | AS113: 2 | AW113: ROZPOCET | BC113: =IF(L113="základní",J113,0) -> 0 | BD113: =IF(L113="snížená",J113,0) -> 0 | BE113: =IF(L113="zákl. přenesená",J113,0) -> 0 | BF113: =IF(L113="sníž. přenesená",J113,0) -> 0 | BG113: =IF(L113="nulová",J113,0) -> 0 | BH113: 1 | BI113: =ROUND(I113*H113,2) -> 0 | BJ113: 16 | BK113: -1164666283
C114: 26 | D114: K | E114: 784181121 | F114: Penetrace podkladu jednonásobná hloubková v místnostech výšky do 3,80 m | G114: m2 | H114: =H113 -> 44 | J114: =ROUND(I114*H114,2) -> 0 | L114: základní | N114: =M114*H114 -> 0 | O114: 0 | P114: =O114*H114 -> 0 | Q114: 0 | R114: =Q114*H114 -> 0 | AP114: 16 | AR114: K | AS114: 2 | AW114: ROZPOCET | BC114: =IF(L114="základní",J114,0) -> 0 | BD114: =IF(L114="snížená",J114,0) -> 0 | BE114: =IF(L114="zákl. přenesená",J114,0) -> 0 | BF114: =IF(L114="sníž. přenesená",J114,0) -> 0 | BG114: =IF(L114="nulová",J114,0) -> 0 | BH114: 1 | BI114: =ROUND(I114*H114,2) -> 0 | BJ114: 16 | BK114: 1013632616
C115: 27 | D115: K | E115: 784191007 | F115: Čištění vnitřních ploch hrubý úklid po provedení malířských prací omytím podlah | G115: m2 | H115: =H87 -> 0 | J115: =ROUND(I115*H115,2) -> 0 | L115: základní | N115: =M115*H115 -> 0 | O115: 0 | P115: =O115*H115 -> 0 | Q115: 0 | R115: =Q115*H115 -> 0 | AP115: 16 | AR115: K | AS115: 2 | AW115: ROZPOCET | BC115: =IF(L115="základní",J115,0) -> 0 | BD115: =IF(L115="snížená",J115,0) -> 0 | BE115: =IF(L115="zákl. přenesená",J115,0) -> 0 | BF115: =IF(L115="sníž. přenesená",J115,0) -> 0 | BG115: =IF(L115="nulová",J115,0) -> 0 | BH115: 1 | BI115: =ROUND(I115*H115,2) -> 0 | BJ115: 16 | BK115: 1246152226
C116: 28 | D116: K | E116: 784211101 | F116: Malby z malířských směsí otěruvzdorných za mokra dvojnásobné, bílé za mokra otěruvzdorné výborně v místnostech výšky do 3,80 m | G116: m2 | H116: =H112 -> 44 | J116: =ROUND(I116*H116,2) -> 0 | L116: základní | N116: =M116*H116 -> 0 | O116: 3e-05 | P116: =O116*H116 -> 0.00132 | Q116: 0 | R116: =Q116*H116 -> 0 | AP116: 16 | AR116: K | AS116: 2 | AW116: ROZPOCET | BC116: =IF(L116="základní",J116,0) -> 0 | BD116: =IF(L116="snížená",J116,0) -> 0 | BE116: =IF(L116="zákl. přenesená",J116,0) -> 0 | BF116: =IF(L116="sníž. přenesená",J116,0) -> 0 | BG116: =IF(L116="nulová",J116,0) -> 0 | BH116: 1 | BI116: =ROUND(I116*H116,2) -> 0 | BJ116: 16 | BK116: 2050087549

Sheet Počítačová učebna 18+1_malba
AS2: {fe0f518f-9c43-4ab5-84fc-7401227b29f4}
AS3: 2
D4: KRYCÍ LIST SOUPISU PRACÍ | L4: v --- níže se nacházejí doplnkové a pomocné údaje k sestavám --- v | AS4: False
D6: Stavba:
D8: Objekt:
D11: KSO: | I11: CC-CZ:
D12: Místo: | I12: Datum:
D14: Zadavatel: | I14: IČ:
I15: DIČ:
D17: Uchazeč: | I17: IČ:
I18: DIČ:
D20: Projektant: | I20: IČ:
I21: DIČ:
D23: Zpracovatel: | I23: IČ:
I24: DIČ:
D26: Poznámka:
D30: Cena bez DPH | J30: =ROUND(J84, 2) -> 0
F32: Základ daně | I32: Sazba daně | J32: Výše daně
D33: DPH | E33: základní | F33: =ROUND((SUM(BD84:BD116)), 2) -> 0 | I33: 0.21 | J33: =ROUND(((SUM(BD84:BD116))*I33), 2) -> 0
E34: snížená | F34: =ROUND((SUM(BE84:BE116)), 2) -> 0 | I34: 0.15 | J34: =ROUND(((SUM(BE84:BE116))*I34), 2) -> 0
E35: zákl. přenesená | F35: =ROUND((SUM(BF84:BF116)), 2) -> 0 | I35: 0.21 | J35: =0 -> 0
E36: sníž. přenesená | F36: =ROUND((SUM(BG84:BG116)), 2) -> 0 | I36: 0.15 | J36: =0 -> 0
E37: nulová | F37: =ROUND((SUM(BH84:BH116)), 2) -> 0 | I37: 0 | J37: =0 -> 0
D39: Cena s DPH | G39: v | H39: CZK | J39: =SUM(J30:J37) -> 0
F52: =F12 | I52: Datum:
I54: Projektant:
I55: Zpracovatel:
J57: Cena celkem [CZK]
J59: =J84 -> 0 | AT59: -1
D60: PSV - Práce a dodávky PSV | J60: =J85 -> 0
D61: 762 - Konstrukce tesařské | J61: =J86 -> 0
D62: 776 - Podlahy povlakové | J62: =J94 -> 0
D63: 783 - Dokončovací práce - nátěry | J63: =J106 -> 0
D64: 784 - Dokončovací práce - malby a tapety | J64: =J110 -> 0
F78: =F12 | I78: Datum:
I80: Projektant:
I81: Zpracovatel:
D83: Typ | E83: Kód | F83: Popis | G83: MJ | H83: Množství | I83: J.cena [CZK] | J83: Cena celkem [CZK] | K83: Cenová soustava | M83: DPH | N83: J. Nh [h] | O83: Nh celkem [h] | P83: J. hmotnost [t] | Q83: Hmotnost celkem [t] | R83: J. suť [t] | S83: Suť Celkem [t]
J84: =J85 -> 0 | O84: =#REF!+O85+#REF!+#REF!+#REF! -> #REF! | Q84: =#REF!+Q85+#REF!+#REF!+#REF! -> #REF! | S84: =#REF!+S85+#REF!+#REF!+#REF! -> #REF! | AS84: D | AT84: -1 | BJ84: =#REF!+BJ85+#REF!+#REF!+#REF! -> #REF!
D85: D | E85: PSV | F85: Práce a dodávky PSV | J85: =SUBTOTAL(9,J86:J116) -> 0 | O85: =#REF!+#REF!+#REF!+#REF!+O86+#REF!+#REF!+#REF!+O94+#REF!+O106+O110 -> #REF! | Q85: =#REF!+#REF!+#REF!+#REF!+Q86+#REF!+#REF!+#REF!+Q94+#REF!+Q106+Q110 -> #REF! | S85: =#REF!+#REF!+#REF!+#REF!+S86+#REF!+#REF!+#REF!+S94+#REF!+S106+S110 -> #REF! | AQ85: 2 | AS85: D | AT85: 0 | AX85: ROZPOCET | BJ85: =#REF!+#REF!+#REF!+#REF!+BJ86+#REF!+#REF!+#REF!+BJ94+#REF!+BJ106+BJ110 -> #REF!
D86: D | E86: 762 | F86: Konstrukce tesařské | J86: =SUBTOTAL(9,J87:J92) -> 0 | O86: =SUM(O87:O92) -> 0 | Q86: =SUM(Q87:Q92) -> 0 | S86: =SUM(S87:S92) -> 0 | AQ86: 2 | AS86: D | AT86: 1 | AX86: ROZPOCET | BJ86: =SUM(BJ87:BJ92) -> 0
D87: K | E87: 762511274 | F87: Podlahové kce podkladové z desek OSB tl 18 mm broušených na pero a drážku šroubovaných | G87: m2 | H87: 0 | J87: =ROUND(I87*H87,2) -> 0 | K87: CS ÚRS 2022 02 | M87: základní | O87: =N87*H87 -> 0 | P87: 0.01574 | Q87: =P87*H87 -> 0 | R87: 0 | S87: =R87*H87 -> 0 | AQ87: 16 | AS87: K | AT87: 2 | AX87: ROZPOCET | BD87: =IF(M87="základní",J87,0) -> 0 | BE87: =IF(M87="snížená",J87,0) -> 0 | BF87: =IF(M87="zákl. přenesená",J87,0) -> 0 | BG87: =IF(M87="sníž. přenesená",J87,0) -> 0 | BH87: =IF(M87="nulová",J87,0) -> 0 | BI87: 1 | BJ87: =ROUND(I87*H87,2) -> 0 | BK87: 16 | BL87: 1451654868
D88: K | E88: 762526811 | F88: Demontáž podlah z dřevotřísky, překližky, sololitu tloušťky do 20 mm bez polštářů | G88: m2 | H88: =H87 -> 0 | J88: =ROUND(I88*H88,2) -> 0 | K88: CS ÚRS 2022 02 | M88: základní | O88: =N88*H88 -> 0 | P88: 0.0002 | Q88: =P88*H88 -> 0 | R88: 0 | S88: =R88*H88 -> 0 | AQ88: 16 | AS88: K | AT88: 2 | AX88: ROZPOCET | BD88: =IF(M88="základní",J88,0) -> 0 | BE88: =IF(M88="snížená",J88,0) -> 0 | BF88: =IF(M88="zákl. přenesená",J88,0) -> 0 | BG88: =IF(M88="sníž. přenesená",J88,0) -> 0 | BH88: =IF(M88="nulová",J88,0) -> 0 | BI88: 1 | BJ88: =ROUND(I88*H88,2) -> 0 | BK88: 16 | BL88: 1196060643
D89: K | E89: 998762102 | F89: Přesun hmot tonážní pro kce tesařské v objektech v přes 6 do 12 m | G89: t | H89: =0.01131*H87 -> 0 | J89: =ROUND(I89*H89,2) -> 0 | K89: CS ÚRS 2022 02 | M89: základní | O89: =N89*H89 -> 0 | P89: 0.00014 | Q89: =P89*H89 -> 0 | R89: 0 | S89: =R89*H89 -> 0 | AQ89: 16 | AS89: K | AT89: 2 | AX89: ROZPOCET | BD89: =IF(M89="základní",J89,0) -> 0 | BE89: =IF(M89="snížená",J89,0) -> 0 | BF89: =IF(M89="zákl. přenesená",J89,0) -> 0 | BG89: =IF(M89="sníž. přenesená",J89,0) -> 0 | BH89: =IF(M89="nulová",J89,0) -> 0 | BI89: 1 | BJ89: =ROUND(I89*H89,2) -> 0 | BK89: 16 | BL89: -2142379747
D90: K | E90: 997013511 | F90: Odvoz suti a vybouraných hmot z meziskládky na skládku s naložením a se složením, na vzdálenost do 1 km | G90: t | H90: =0.03*H88 -> 0 | J90: =ROUND(I90*H90,2) -> 0 | K90: CS ÚRS 2022 02 | M90: základní | O90: =N90*H90 -> 0 | P90: 0 | Q90: =P90*H90 -> 0 | R90: 0 | S90: =R90*H90 -> 0 | AQ90: 4 | AS90: K | AT90: 2 | AX90: ROZPOCET | BD90: =IF(M90="základní",J90,0) -> 0 | BE90: =IF(M90="snížená",J90,0) -> 0 | BF90: =IF(M90="zákl. přenesená",J90,0) -> 0 | BG90: =IF(M90="sníž. přenesená",J90,0) -> 0 | BH90: =IF(M90="nulová",J90,0) -> 0 | BI90: 1 | BJ90: =ROUND(I90*H90,2) -> 0 | BK90: 4 | BL90: -587466812
D91: K | E91: 997013509 | F91: Odvoz suti a vybouraných hmot na skládku nebo meziskládku se složením, na vzdálenost Příplatek k ceně za každý další i započatý 1 km přes 1 km | G91: t | H91: =H90*19 -> 0 | J91: =ROUND(I91*H91,2) -> 0 | K91: CS ÚRS 2022 02 | M91: základní | O91: =N91*H91 -> 0 | P91: 0 | Q91: =P91*H91 -> 0 | R91: 0 | S91: =R91*H91 -> 0 | AQ91: 4 | AS91: K | AT91: 2 | AX91: ROZPOCET | BD91: =IF(M91="základní",J91,0) -> 0 | BE91: =IF(M91="snížená",J91,0) -> 0 | BF91: =IF(M91="zákl. přenesená",J91,0) -> 0 | BG91: =IF(M91="sníž. přenesená",J91,0) -> 0 | BH91: =IF(M91="nulová",J91,0) -> 0 | BI91: 1 | BJ91: =ROUND(I91*H91,2) -> 0 | BK91: 4 | BL91: -331989164
D92: K | E92: 997013631 | F92: Poplatek za uložení na skládce (skládkovné) stavebního odpadu směsného kód odpadu 17 09 04 | G92: t | H92: =H90 -> 0 | J92: =ROUND(I92*H92,2) -> 0 | K92: CS ÚRS 2022 02 | M92: základní | O92: =N92*H92 -> 0 | P92: 0 | Q92: =P92*H92 -> 0 | R92: 0 | S92: =R92*H92 -> 0 | AQ92: 4 | AS92: K | AT92: 2 | AX92: ROZPOCET | BD92: =IF(M92="základní",J92,0) -> 0 | BE92: =IF(M92="snížená",J92,0) -> 0 | BF92: =IF(M92="zákl. přenesená",J92,0) -> 0 | BG92: =IF(M92="sníž. přenesená",J92,0) -> 0 | BH92: =IF(M92="nulová",J92,0) -> 0 | BI92: 1 | BJ92: =ROUND(I92*H92,2) -> 0 | BK92: 4 | BL92: 1936786590
D93: Online PSC | F93: https://podminky.urs.cz/item/CS_URS_2021_02/998772201 | AS93: Online PSC | AT93: 2
D94: D | E94: 776 | F94: Podlahy povlakové | J94: =SUBTOTAL(9,J95:J105) -> 0 | O94: =SUM(O95:O105) -> 0 | Q94: =SUM(Q95:Q105) -> 0.0096264 | S94: =SUM(S95:S105) -> 0.008022 | AQ94: 2 | AS94: D | AT94: 1 | AX94: ROZPOCET | BJ94: =SUM(BJ95:BJ105) -> 0
D95: K | E95: 776111311 | F95: Příprava podkladu vysátí podlah | G95: m2 | H95: =H87 -> 0 | J95: =ROUND(I95*H95,2) -> 0 | K95: CS ÚRS 2022 02 | M95: základní | O95: =N95*H95 -> 0 | P95: 0 | Q95: =P95*H95 -> 0 | R95: 0 | S95: =R95*H95 -> 0 | AQ95: 16 | AS95: K | AT95: 2 | AX95: ROZPOCET | BD95: =IF(M95="základní",J95,0) -> 0 | BE95: =IF(M95="snížená",J95,0) -> 0 | BF95: =IF(M95="zákl. přenesená",J95,0) -> 0 | BG95: =IF(M95="sníž. přenesená",J95,0) -> 0 | BH95: =IF(M95="nulová",J95,0) -> 0 | BI95: 1 | BJ95: =ROUND(I95*H95,2) -> 0 | BK95: 16 | BL95: -1844395462
D96: K | E96: 776201812 | F96: Demontáž povlakových podlahovin lepených ručně s podložkou | G96: m2 | H96: =H95 -> 0 | J96: =ROUND(I96*H96,2) -> 0 | K96: CS ÚRS 2022 02 | M96: základní | O96: =N96*H96 -> 0 | P96: 0 | Q96: =P96*H96 -> 0 | R96: 0.003 | S96: =R96*H96 -> 0 | AQ96: 16 | AS96: K | AT96: 2 | AX96: ROZPOCET | BD96: =IF(M96="základní",J96,0) -> 0 | BE96: =IF(M96="snížená",J96,0) -> 0 | BF96: =IF(M96="zákl. přenesená",J96,0) -> 0 | BG96: =IF(M96="sníž. přenesená",J96,0) -> 0 | BH96: =IF(M96="nulová",J96,0) -> 0 | BI96: 1 | BJ96: =ROUND(I96*H96,2) -> 0 | BK96: 16 | BL96: -1374422211
D97: K | E97: 776221111 | F97: Lepení pásů z PVC standardním lepidlem | G97: m2 | H97: =H96 -> 0 | J97: =ROUND(I97*H97,2) -> 0 | K97: CS ÚRS 2022 02 | M97: základní | O97: =N97*H97 -> 0 | P97: 0.0003 | Q97: =P97*H97 -> 0 | R97: 0 | S97: =R97*H97 -> 0 | AQ97: 16 | AS97: K | AT97: 2 | AX97: ROZPOCET | BD97: =IF(M97="základní",J97,0) -> 0 | BE97: =IF(M97="snížená",J97,0) -> 0 | BF97: =IF(M97="zákl. přenesená",J97,0) -> 0 | BG97: =IF(M97="sníž. přenesená",J97,0) -> 0 | BH97: =IF(M97="nulová",J97,0) -> 0 | BI97: 1 | BJ97: =ROUND(I97*H97,2) -> 0 | BK97: 16 | BL97: 1859653024
D98: M | E98: 28411012 | F98: homogenní, třída zátěže vysoká, R10, hořlavost Bfl S1, bez ftalátů | G98: m2 | H98: =H97*1.1 -> 0 | J98: =ROUND(I98*H98,2) -> 0 | K98: CS ÚRS 2022 02 | M98: základní | O98: =N98*H98 -> 0 | P98: 0.00368 | Q98: =P98*H98 -> 0 | R98: 0 | S98: =R98*H98 -> 0 | AQ98: 32 | AS98: M | AT98: 2 | AX98: ROZPOCET | BD98: =IF(M98="základní",J98,0) -> 0 | BE98: =IF(M98="snížená",J98,0) -> 0 | BF98: =IF(M98="zákl. přenesená",J98,0) -> 0 | BG98: =IF(M98="sníž. přenesená",J98,0) -> 0 | BH98: =IF(M98="nulová",J98,0) -> 0 | BI98: 1 | BJ98: =ROUND(I98*H98,2) -> 0 | BK98: 16 | BL98: 402955820
D99: K | E99: 776410811 | F99: Demontáž soklíků nebo lišt pryžových nebo plastových | G99: m | H99: 26.74 | J99: =ROUND(I99*H99,2) -> 0 | K99: CS ÚRS 2022 02 | M99: základní | O99: =N99*H99 -> 0 | P99: 0 | Q99: =P99*H99 -> 0 | R99: 0.0003 | S99: =R99*H99 -> 0.008022 | AQ99: 16 | AS99: K | AT99: 2 | AX99: ROZPOCET | BD99: =IF(M99="základní",J99,0) -> 0 | BE99: =IF(M99="snížená",J99,0) -> 0 | BF99: =IF(M99="zákl. přenesená",J99,0) -> 0 | BG99: =IF(M99="sníž. přenesená",J99,0) -> 0 | BH99: =IF(M99="nulová",J99,0) -> 0 | BI99: 1 | BJ99: =ROUND(I99*H99,2) -> 0 | BK99: 16 | BL99: 596501304
D100: K | E100: 776411111 | F100: Montáž soklíků lepením obvodových, výšky do 80 mm | G100: m | H100: =H99 -> 26.74 | J100: =ROUND(I100*H100,2) -> 0 | K100: CS ÚRS 2022 02 | M100: základní | O100: =N100*H100 -> 0 | P100: 1e-05 | Q100: =P100*H100 -> 0.0002674 | R100: 0 | S100: =R100*H100 -> 0 | AQ100: 16 | AS100: K | AT100: 2 | AX100: ROZPOCET | BD100: =IF(M100="základní",J100,0) -> 0 | BE100: =IF(M100="snížená",J100,0) -> 0 | BF100: =IF(M100="zákl. přenesená",J100,0) -> 0 | BG100: =IF(M100="sníž. přenesená",J100,0) -> 0 | BH100: =IF(M100="nulová",J100,0) -> 0 | BI100: 1 | BJ100: =ROUND(I100*H100,2) -> 0 | BK100: 16 | BL100: 536872929
D101: M | E101: 28411009 | F101: lišta soklová PVC 18x80mm | G101: m | H101: =H99 -> 26.74 | J101: =ROUND(I101*H101,2) -> 0 | K101: CS ÚRS 2022 02 | M101: základní | O101: =N101*H101 -> 0 | P101: 0.00035 | Q101: =P101*H101 -> 0.009359 | R101: 0 | S101: =R101*H101 -> 0 | AQ101: 32 | AS101: M | AT101: 2 | AX101: ROZPOCET | BD101: =IF(M101="základní",J101,0) -> 0 | BE101: =IF(M101="snížená",J101,0) -> 0 | BF101: =IF(M101="zákl. přenesená",J101,0) -> 0 | BG101: =IF(M101="sníž. přenesená",J101,0) -> 0 | BH101: =IF(M101="nulová",J101,0) -> 0 | BI101: 1 | BJ101: =ROUND(I101*H101,2) -> 0 | BK101: 16 | BL101: 745370148
D102: K | E102: 997013511 | F102: Odvoz suti a vybouraných hmot z meziskládky na skládku s naložením a se složením, na vzdálenost do 1 km | G102: t | H102: =0.003*H96 -> 0 | J102: =ROUND(I102*H102,2) -> 0 | K102: CS ÚRS 2022 02 | M102: základní | O102: =N102*H102 -> 0 | P102: 0 | Q102: =P102*H102 -> 0 | R102: 0 | S102: =R102*H102 -> 0 | AQ102: 4 | AS102: K | AT102: 2 | AX102: ROZPOCET | BD102: =IF(M102="základní",J102,0) -> 0 | BE102: =IF(M102="snížená",J102,0) -> 0 | BF102: =IF(M102="zákl. přenesená",J102,0) -> 0 | BG102: =IF(M102="sníž. přenesená",J102,0) -> 0 | BH102: =IF(M102="nulová",J102,0) -> 0 | BI102: 1 | BJ102: =ROUND(I102*H102,2) -> 0 | BK102: 4 | BL102: -587466812
D103: K | E103: 997013509 | F103: Odvoz suti a vybouraných hmot na skládku nebo meziskládku se složením, na vzdálenost Příplatek k ceně za každý další i započatý 1 km přes 1 km | G103: t | H103: =H102*19 -> 0 | J103: =ROUND(I103*H103,2) -> 0 | K103: CS ÚRS 2022 02 | M103: základní | O103: =N103*H103 -> 0 | P103: 0 | Q103: =P103*H103 -> 0 | R103: 0 | S103: =R103*H103 -> 0 | AQ103: 4 | AS103: K | AT103: 2 | AX103: ROZPOCET | BD103: =IF(M103="základní",J103,0) -> 0 | BE103: =IF(M103="snížená",J103,0) -> 0 | BF103: =IF(M103="zákl. přenesená",J103,0) -> 0 | BG103: =IF(M103="sníž. přenesená",J103,0) -> 0 | BH103: =IF(M103="nulová",J103,0) -> 0 | BI103: 1 | BJ103: =ROUND(I103*H103,2) -> 0 | BK103: 4 | BL103: -331989164
D104: K | E104: 997013813 | F104: Poplatek za uložení stavebního odpadu na skládce (skládkovné) z plastických hmot zatříděného do Katalogu odpadů pod kódem 170 203 | G104: t | H104: 0 | J104: =ROUND(I104*H104,2) -> 0 | K104: CS ÚRS 2022 02 | M104: základní | O104: =N104*H104 -> 0 | P104: 0 | Q104: =P104*H104 -> 0 | R104: 0 | S104: =R104*H104 -> 0 | AQ104: 4 | AS104: K | AT104: 2 | AX104: ROZPOCET | BD104: =IF(M104="základní",J104,0) -> 0 | BE104: =IF(M104="snížená",J104,0) -> 0 | BF104: =IF(M104="zákl. přenesená",J104,0) -> 0 | BG104: =IF(M104="sníž. přenesená",J104,0) -> 0 | BH104: =IF(M104="nulová",J104,0) -> 0 | BI104: 1 | BJ104: =ROUND(I104*H104,2) -> 0 | BK104: 4 | BL104: 1936786590
D105: K | E105: 998776101 | F105: Přesun hmot tonážní pro podlahy povlakové v objektech v přes 6 do 12 m | G105: t | H105: =H102 -> 0 | J105: =ROUND(I105*H105,2) -> 0 | K105: CS ÚRS 2022 02 | M105: základní | O105: =N105*H105 -> 0 | P105: 0 | Q105: =P105*H105 -> 0 | R105: 0 | S105: =R105*H105 -> 0 | AQ105: 16 | AS105: K | AT105: 2 | AX105: ROZPOCET | BD105: =IF(M105="základní",J105,0) -> 0 | BE105: =IF(M105="snížená",J105,0) -> 0 | BF105: =IF(M105="zákl. přenesená",J105,0) -> 0 | BG105: =IF(M105="sníž. přenesená",J105,0) -> 0 | BH105: =IF(M105="nulová",J105,0) -> 0 | BI105: 1 | BJ105: =ROUND(I105*H105,2) -> 0 | BK105: 16 | BL105: -102991986
D106: D | E106: 783 | F106: Dokončovací práce - nátěry | J106: =SUBTOTAL(9,J107:J109) -> 0 | O106: =SUM(O107:O109) -> 0 | Q106: =SUM(Q107:Q109) -> 0.00615 | S106: =SUM(S107:S109) -> 0 | AQ106: 2 | AS106: D | AT106: 1 | AX106: ROZPOCET | BJ106: =SUM(BJ107:BJ109) -> 0
D107: K | E107: 783813131 | F107: Penetrační syntetický nátěr hladkých, tenkovrstvých zrnitých a štukových omítek | G107: m2 | H107: 41 | J107: =ROUND(I107*H107,2) -> 0 | K107: CS ÚRS 2022 02 | M107: základní | O107: =N107*H107 -> 0 | P107: 2e-05 | Q107: =P107*H107 -> 0.00082 | R107: 0 | S107: =R107*H107 -> 0 | AQ107: 16 | AS107: K | AT107: 2 | AX107: ROZPOCET | BD107: =IF(M107="základní",J107,0) -> 0 | BE107: =IF(M107="snížená",J107,0) -> 0 | BF107: =IF(M107="zákl. přenesená",J107,0) -> 0 | BG107: =IF(M107="sníž. přenesená",J107,0) -> 0 | BH107: =IF(M107="nulová",J107,0) -> 0 | BI107: 1 | BJ107: =ROUND(I107*H107,2) -> 0 | BK107: 16 | BL107: -652316423
D108: K | E108: 783817421 | F108: Krycí dvojnásobný syntetický nátěr hladkých, zrnitých tenkovrstvých nebo štukových omítek | G108: m2 | H108: =H107 -> 41 | J108: =ROUND(I108*H108,2) -> 0 | K108: CS ÚRS 2022 02 | M108: základní | O108: =N108*H108 -> 0 | P108: 0 | Q108: =P108*H108 -> 0 | R108: 0 | S108: =R108*H108 -> 0 | AQ108: 16 | AS108: K | AT108: 2 | AX108: ROZPOCET | BD108: =IF(M108="základní",J108,0) -> 0 | BE108: =IF(M108="snížená",J108,0) -> 0 | BF108: =IF(M108="zákl. přenesená",J108,0) -> 0 | BG108: =IF(M108="sníž. přenesená",J108,0) -> 0 | BH108: =IF(M108="nulová",J108,0) -> 0 | BI108: 1 | BJ108: =ROUND(I108*H108,2) -> 0 | BK108: 16 | BL108: 1850501795
D109: K | E109: 783806811 | F109: Odstranění nátěrů z omítek oškrábáním | G109: m2 | H109: =H108 -> 41 | J109: =ROUND(I109*H109,2) -> 0 | K109: CS ÚRS 2022 02 | M109: základní | O109: =N109*H109 -> 0 | P109: 0.00013 | Q109: =P109*H109 -> 0.00533 | R109: 0 | S109: =R109*H109 -> 0 | AQ109: 16 | AS109: K | AT109: 2 | AX109: ROZPOCET | BD109: =IF(M109="základní",J109,0) -> 0 | BE109: =IF(M109="snížená",J109,0) -> 0 | BF109: =IF(M109="zákl. přenesená",J109,0) -> 0 | BG109: =IF(M109="sníž. přenesená",J109,0) -> 0 | BH109: =IF(M109="nulová",J109,0) -> 0 | BI109: 1 | BJ109: =ROUND(I109*H109,2) -> 0 | BK109: 16 | BL109: 707915571
D110: D | E110: 784 | F110: Dokončovací práce - malby a tapety | J110: =SUBTOTAL(9,J111:J116) -> 0 | O110: =SUM(O111:O116) -> 0 | Q110: =SUM(Q111:Q116) -> 0.08323 | S110: =SUM(S111:S116) -> 0.02542 | AQ110: 2 | AS110: D | AT110: 1 | AX110: ROZPOCET | BJ110: =SUM(BJ111:BJ116) -> 0
D111: K | E111: 784111001 | F111: Oprášení (ometení) podkladu v místnostech výšky do 3,80 m | G111: m2 | H111: =H107+H112 -> 82 | J111: =ROUND(I111*H111,2) -> 0 | K111: CS ÚRS 2022 02 | M111: základní | O111: =N111*H111 -> 0 | P111: 0 | Q111: =P111*H111 -> 0 | R111: 0 | S111: =R111*H111 -> 0 | AQ111: 16 | AS111: K | AT111: 2 | AX111: ROZPOCET | BD111: =IF(M111="základní",J111,0) -> 0 | BE111: =IF(M111="snížená",J111,0) -> 0 | BF111: =IF(M111="zákl. přenesená",J111,0) -> 0 | BG111: =IF(M111="sníž. přenesená",J111,0) -> 0 | BH111: =IF(M111="nulová",J111,0) -> 0 | BI111: 1 | BJ111: =ROUND(I111*H111,2) -> 0 | BK111: 16 | BL111: -61812216
D112: K | E112: 784121001 | F112: Oškrabání malby v místnostech výšky do 3,80 m | G112: m2 | H112: 41 | J112: =ROUND(I112*H112,2) -> 0 | K112: CS ÚRS 2022 02 | M112: základní | O112: =N112*H112 -> 0 | P112: 0.001 | Q112: =P112*H112 -> 0.041 | R112: 0.00031 | S112: =R112*H112 -> 0.01271 | AQ112: 16 | AS112: K | AT112: 2 | AX112: ROZPOCET | BD112: =IF(M112="základní",J112,0) -> 0 | BE112: =IF(M112="snížená",J112,0) -> 0 | BF112: =IF(M112="zákl. přenesená",J112,0) -> 0 | BG112: =IF(M112="sníž. přenesená",J112,0) -> 0 | BH112: =IF(M112="nulová",J112,0) -> 0 | BI112: 1 | BJ112: =ROUND(I112*H112,2) -> 0 | BK112: 16 | BL112: -575438632
D113: K | E113: 784121011 | F113: Rozmývání podkladu po oškrabání malby v místnostech výšky do 3,80 m | G113: m2 | H113: =H112 -> 41 | J113: =ROUND(I113*H113,2) -> 0 | K113: CS ÚRS 2022 02 | M113: základní | O113: =N113*H113 -> 0 | P113: 0.001 | Q113: =P113*H113 -> 0.041 | R113: 0.00031 | S113: =R113*H113 -> 0.01271 | AQ113: 16 | AS113: K | AT113: 2 | AX113: ROZPOCET | BD113: =IF(M113="základní",J113,0) -> 0 | BE113: =IF(M113="snížená",J113,0) -> 0 | BF113: =IF(M113="zákl. přenesená",J113,0) -> 0 | BG113: =IF(M113="sníž. přenesená",J113,0) -> 0 | BH113: =IF(M113="nulová",J113,0) -> 0 | BI113: 1 | BJ113: =ROUND(I113*H113,2) -> 0 | BK113: 16 | BL113: -1164666283
D114: K | E114: 784181121 | F114: Penetrace podkladu jednonásobná hloubková v místnostech výšky do 3,80 m | G114: m2 | H114: =H113 -> 41 | J114: =ROUND(I114*H114,2) -> 0 | K114: CS ÚRS 2022 02 | M114: základní | O114: =N114*H114 -> 0 | P114: 0 | Q114: =P114*H114 -> 0 | R114: 0 | S114: =R114*H114 -> 0 | AQ114: 16 | AS114: K | AT114: 2 | AX114: ROZPOCET | BD114: =IF(M114="základní",J114,0) -> 0 | BE114: =IF(M114="snížená",J114,0) -> 0 | BF114: =IF(M114="zákl. přenesená",J114,0) -> 0 | BG114: =IF(M114="sníž. přenesená",J114,0) -> 0 | BH114: =IF(M114="nulová",J114,0) -> 0 | BI114: 1 | BJ114: =ROUND(I114*H114,2) -> 0 | BK114: 16 | BL114: 1013632616
D115: K | E115: 784191007 | F115: Čištění vnitřních ploch hrubý úklid po provedení malířských prací omytím podlah | G115: m2 | H115: =H87 -> 0 | J115: =ROUND(I115*H115,2) -> 0 | K115: CS ÚRS 2022 02 | M115: základní | O115: =N115*H115 -> 0 | P115: 0 | Q115: =P115*H115 -> 0 | R115: 0 | S115: =R115*H115 -> 0 | AQ115: 16 | AS115: K | AT115: 2 | AX115: ROZPOCET | BD115: =IF(M115="základní",J115,0) -> 0 | BE115: =IF(M115="snížená",J115,0) -> 0 | BF115: =IF(M115="zákl. přenesená",J115,0) -> 0 | BG115: =IF(M115="sníž. přenesená",J115,0) -> 0 | BH115: =IF(M115="nulová",J115,0) -> 0 | BI115: 1 | BJ115: =ROUND(I115*H115,2) -> 0 | BK115: 16 | BL115: 1246152226
D116: K | E116: 784211101 | F116: Malby z malířských směsí otěruvzdorných za mokra dvojnásobné, bílé za mokra otěruvzdorné výborně v místnostech výšky do 3,80 m | G116: m2 | H116: =H112 -> 41 | J116: =ROUND(I116*H116,2) -> 0 | K116: CS ÚRS 2022 02 | M116: základní | O116: =N116*H116 -> 0 | P116: 3e-05 | Q116: =P116*H116 -> 0.00123 | R116: 0 | S116: =R116*H116 -> 0 | AQ116: 16 | AS116: K | AT116: 2 | AX116: ROZPOCET | BD116: =IF(M116="základní",J116,0) -> 0 | BE116: =IF(M116="snížená",J116,0) -> 0 | BF116: =IF(M116="zákl. přenesená",J116,0) -> 0 | BG116: =IF(M116="sníž. přenesená",J116,0) -> 0 | BH116: =IF(M116="nulová",J116,0) -> 0 | BI116: 1 | BJ116: =ROUND(I116*H116,2) -> 0 | BK116: 16 | BL116: 2050087549

Sheet Uč. přír. věd_malba,podlaha
AS2: {fe0f518f-9c43-4ab5-84fc-7401227b29f4}
AS3: 2
D4: KRYCÍ LIST SOUPISU PRACÍ | L4: v --- níže se nacházejí doplnkové a pomocné údaje k sestavám --- v | AS4: False
D6: Stavba:
D8: Objekt:
D11: KSO: | I11: CC-CZ:
D12: Místo: | I12: Datum:
D14: Zadavatel: | I14: IČ:
I15: DIČ:
D17: Uchazeč: | I17: IČ:
I18: DIČ:
D20: Projektant: | I20: IČ:
I21: DIČ:
D23: Zpracovatel: | I23: IČ:
I24: DIČ:
D26: Poznámka:
D30: Cena bez DPH | J30: =ROUND(J84, 2) -> 0
F32: Základ daně | I32: Sazba daně | J32: Výše daně
D33: DPH | E33: základní | F33: =ROUND((SUM(BD84:BD116)), 2) -> 0 | I33: 0.21 | J33: =ROUND(((SUM(BD84:BD116))*I33), 2) -> 0
E34: snížená | F34: =ROUND((SUM(BE84:BE116)), 2) -> 0 | I34: 0.15 | J34: =ROUND(((SUM(BE84:BE116))*I34), 2) -> 0
E35: zákl. přenesená | F35: =ROUND((SUM(BF84:BF116)), 2) -> 0 | I35: 0.21 | J35: =0 -> 0
E36: sníž. přenesená | F36: =ROUND((SUM(BG84:BG116)), 2) -> 0 | I36: 0.15 | J36: =0 -> 0
E37: nulová | F37: =ROUND((SUM(BH84:BH116)), 2) -> 0 | I37: 0 | J37: =0 -> 0
F52: =F12 | I52: Datum:
I54: Projektant:
I55: Zpracovatel:
J57: Cena celkem [CZK]
J59: =J84 -> 0 | AT59: -1
D60: PSV - Práce a dodávky PSV | J60: =J85+J119+J120+J121+J122 -> 0
D61: 762 - Konstrukce tesařské | J61: =J86 -> 0
D62: 776 - Podlahy povlakové | J62: =J94 -> 0
D63: 783 - Dokončovací práce - nátěry | J63: =J106 -> 0
D64: 784 - Dokončovací práce - malby a tapety | J64: =J110 -> 0
F78: =F12 | I78: Datum:
I80: Projektant:
I81: Zpracovatel:
D83: Typ | E83: Kód | F83: Popis | G83: MJ | H83: Množství | I83: J.cena [CZK] | J83: Cena celkem [CZK] | K83: Cenová soustava | M83: DPH | N83: J. Nh [h] | O83: Nh celkem [h] | P83: J. hmotnost [t] | Q83: Hmotnost celkem [t] | R83: J. suť [t] | S83: Suť Celkem [t]
J84: =J85+J119+J120+J121+J122 -> 0 | O84: =#REF!+O85+#REF!+#REF!+#REF! -> #REF! | Q84: =#REF!+Q85+#REF!+#REF!+#REF! -> #REF! | S84: =#REF!+S85+#REF!+#REF!+#REF! -> #REF! | AS84: D | AT84: -1 | BJ84: =#REF!+BJ85+#REF!+#REF!+#REF! -> #REF!
D85: D | E85: PSV | F85: Práce a dodávky PSV | J85: =SUBTOTAL(9,J86:J116) -> 0 | O85: =#REF!+#REF!+#REF!+#REF!+O86+#REF!+#REF!+#REF!+O94+#REF!+O106+O110 -> #REF! | Q85: =#REF!+#REF!+#REF!+#REF!+Q86+#REF!+#REF!+#REF!+Q94+#REF!+Q106+Q110 -> #REF! | S85: =#REF!+#REF!+#REF!+#REF!+S86+#REF!+#REF!+#REF!+S94+#REF!+S106+S110 -> #REF! | AQ85: 2 | AS85: D | AT85: 0 | AX85: ROZPOCET | BJ85: =#REF!+#REF!+#REF!+#REF!+BJ86+#REF!+#REF!+#REF!+BJ94+#REF!+BJ106+BJ110 -> #REF!
D86: D | E86: 762 | F86: Konstrukce tesařské | J86: =SUBTOTAL(9,J87:J92) -> 0 | O86: =SUM(O87:O92) -> 0 | Q86: =SUM(Q87:Q92) -> 1.1988071 | S86: =SUM(S87:S92) -> 0 | AQ86: 2 | AS86: D | AT86: 1 | AX86: ROZPOCET | BJ86: =SUM(BJ87:BJ92) -> 0
D87: K | E87: 762511274 | F87: Podlahové kce podkladové z desek OSB tl 18 mm broušených na pero a drážku šroubovaných | G87: m2 | H87: 75.2 | J87: =ROUND(I87*H87,2) -> 0 | K87: CS ÚRS 2022 02 | M87: základní | O87: =N87*H87 -> 0 | P87: 0.01574 | Q87: =P87*H87 -> 1.183648 | R87: 0 | S87: =R87*H87 -> 0 | AQ87: 16 | AS87: K | AT87: 2 | AX87: ROZPOCET | BD87: =IF(M87="základní",J87,0) -> 0 | BE87: =IF(M87="snížená",J87,0) -> 0 | BF87: =IF(M87="zákl. přenesená",J87,0) -> 0 | BG87: =IF(M87="sníž. přenesená",J87,0) -> 0 | BH87: =IF(M87="nulová",J87,0) -> 0 | BI87: 1 | BJ87: =ROUND(I87*H87,2) -> 0 | BK87: 16 | BL87: 1451654868
D88: K | E88: 762526811 | F88: Demontáž podlah z dřevotřísky, překližky, sololitu tloušťky do 20 mm bez polštářů | G88: m2 | H88: =H87 -> 75.2 | J88: =ROUND(I88*H88,2) -> 0 | K88: CS ÚRS 2022 02 | M88: základní | O88: =N88*H88 -> 0 | P88: 0.0002 | Q88: =P88*H88 -> 0.01504 | R88: 0 | S88: =R88*H88 -> 0 | AQ88: 16 | AS88: K | AT88: 2 | AX88: ROZPOCET | BD88: =IF(M88="základní",J88,0) -> 0 | BE88: =IF(M88="snížená",J88,0) -> 0 | BF88: =IF(M88="zákl. přenesená",J88,0) -> 0 | BG88: =IF(M88="sníž. přenesená",J88,0) -> 0 | BH88: =IF(M88="nulová",J88,0) -> 0 | BI88: 1 | BJ88: =ROUND(I88*H88,2) -> 0 | BK88: 16 | BL88: 1196060643
D89: K | E89: 998762102 | F89: Přesun hmot tonážní pro kce tesařské v objektech v přes 6 do 12 m | G89: t | H89: =0.01131*H87 -> 0.850512 | J89: =ROUND(I89*H89,2) -> 0 | K89: CS ÚRS 2022 02 | M89: základní | O89: =N89*H89 -> 0 | P89: 0.00014 | Q89: =P89*H89 -> 0.00011907168 | R89: 0 | S89: =R89*H89 -> 0 | AQ89: 16 | AS89: K | AT89: 2 | AX89: ROZPOCET | BD89: =IF(M89="základní",J89,0) -> 0 | BE89: =IF(M89="snížená",J89,0) -> 0 | BF89: =IF(M89="zákl. přenesená",J89,0) -> 0 | BG89: =IF(M89="sníž. přenesená",J89,0) -> 0 | BH89: =IF(M89="nulová",J89,0) -> 0 | BI89: 1 | BJ89: =ROUND(I89*H89,2) -> 0 | BK89: 16 | BL89: -2142379747
D90: K | E90: 997013511 | F90: Odvoz suti a vybouraných hmot z meziskládky na skládku s naložením a se složením, na vzdálenost do 1 km | G90: t | H90: =0.03*H88 -> 2.256 | J90: =ROUND(I90*H90,2) -> 0 | K90: CS ÚRS 2022 02 | M90: základní | O90: =N90*H90 -> 0 | P90: 0 | Q90: =P90*H90 -> 0 | R90: 0 | S90: =R90*H90 -> 0 | AQ90: 4 | AS90: K | AT90: 2 | AX90: ROZPOCET | BD90: =IF(M90="základní",J90,0) -> 0 | BE90: =IF(M90="snížená",J90,0) -> 0 | BF90: =IF(M90="zákl. přenesená",J90,0) -> 0 | BG90: =IF(M90="sníž. přenesená",J90,0) -> 0 | BH90: =IF(M90="nulová",J90,0) -> 0 | BI90: 1 | BJ90: =ROUND(I90*H90,2) -> 0 | BK90: 4 | BL90: -587466812
D91: K | E91: 997013509 | F91: Odvoz suti a vybouraných hmot na skládku nebo meziskládku se složením, na vzdálenost Příplatek k ceně za každý další i započatý 1 km přes 1 km | G91: t | H91: =H90*19 -> 42.864 | J91: =ROUND(I91*H91,2) -> 0 | K91: CS ÚRS 2022 02 | M91: základní | O91: =N91*H91 -> 0 | P91: 0 | Q91: =P91*H91 -> 0 | R91: 0 | S91: =R91*H91 -> 0 | AQ91: 4 | AS91: K | AT91: 2 | AX91: ROZPOCET | BD91: =IF(M91="základní",J91,0) -> 0 | BE91: =IF(M91="snížená",J91,0) -> 0 | BF91: =IF(M91="zákl. přenesená",J91,0) -> 0 | BG91: =IF(M91="sníž. přenesená",J91,0) -> 0 | BH91: =IF(M91="nulová",J91,0) -> 0 | BI91: 1 | BJ91: =ROUND(I91*H91,2) -> 0 | BK91: 4 | BL91: -331989164
D92: K | E92: 997013631 | F92: Poplatek za uložení na skládce (skládkovné) stavebního odpadu směsného kód odpadu 17 09 04 | G92: t | H92: =H90 -> 2.256 | J92: =ROUND(I92*H92,2) -> 0 | K92: CS ÚRS 2022 02 | M92: základní | O92: =N92*H92 -> 0 | P92: 0 | Q92: =P92*H92 -> 0 | R92: 0 | S92: =R92*H92 -> 0 | AQ92: 4 | AS92: K | AT92: 2 | AX92: ROZPOCET | BD92: =IF(M92="základní",J92,0) -> 0 | BE92: =IF(M92="snížená",J92,0) -> 0 | BF92: =IF(M92="zákl. přenesená",J92,0) -> 0 | BG92: =IF(M92="sníž. přenesená",J92,0) -> 0 | BH92: =IF(M92="nulová",J92,0) -> 0 | BI92: 1 | BJ92: =ROUND(I92*H92,2) -> 0 | BK92: 4 | BL92: 1936786590
D93: Online PSC | F93: https://podminky.urs.cz/item/CS_URS_2021_02/998772201 | AS93: Online PSC | AT93: 2
D94: D | E94: 776 | F94: Podlahy povlakové | J94: =SUBTOTAL(9,J95:J105) -> 0 | O94: =SUM(O95:O105) -> 0 | Q94: =SUM(Q95:Q105) -> 0.33997945 | S94: =SUM(S95:S105) -> 0.23644154 | AQ94: 2 | AS94: D | AT94: 1 | AX94: ROZPOCET | BJ94: =SUM(BJ95:BJ105) -> 0
D95: K | E95: 776111311 | F95: Příprava podkladu vysátí podlah | G95: m2 | H95: =H87 -> 75.2 | J95: =ROUND(I95*H95,2) -> 0 | K95: CS ÚRS 2022 02 | M95: základní | O95: =N95*H95 -> 0 | P95: 0 | Q95: =P95*H95 -> 0 | R95: 0 | S95: =R95*H95 -> 0 | AQ95: 16 | AS95: K | AT95: 2 | AX95: ROZPOCET | BD95: =IF(M95="základní",J95,0) -> 0 | BE95: =IF(M95="snížená",J95,0) -> 0 | BF95: =IF(M95="zákl. přenesená",J95,0) -> 0 | BG95: =IF(M95="sníž. přenesená",J95,0) -> 0 | BH95: =IF(M95="nulová",J95,0) -> 0 | BI95: 1 | BJ95: =ROUND(I95*H95,2) -> 0 | BK95: 16 | BL95: -1844395462
D96: K | E96: 776201812 | F96: Demontáž povlakových podlahovin lepených ručně s podložkou | G96: m2 | H96: =H95 -> 75.2 | J96: =ROUND(I96*H96,2) -> 0 | K96: CS ÚRS 2022 02 | M96: základní | O96: =N96*H96 -> 0 | P96: 0 | Q96: =P96*H96 -> 0 | R96: 0.003 | S96: =R96*H96 -> 0.2256 | AQ96: 16 | AS96: K | AT96: 2 | AX96: ROZPOCET | BD96: =IF(M96="základní",J96,0) -> 0 | BE96: =IF(M96="snížená",J96,0) -> 0 | BF96: =IF(M96="zákl. přenesená",J96,0) -> 0 | BG96: =IF(M96="sníž. přenesená",J96,0) -> 0 | BH96: =IF(M96="nulová",J96,0) -> 0 | BI96: 1 | BJ96: =ROUND(I96*H96,2) -> 0 | BK96: 16 | BL96: -1374422211
D97: K | E97: 776221111 | F97: Lepení pásů z PVC standardním lepidlem | G97: m2 | H97: =H96 -> 75.2 | J97: =ROUND(I97*H97,2) -> 0 | K97: CS ÚRS 2022 02 | M97: základní | O97: =N97*H97 -> 0 | P97: 0.0003 | Q97: =P97*H97 -> 0.02256 | R97: 0 | S97: =R97*H97 -> 0 | AQ97: 16 | AS97: K | AT97: 2 | AX97: ROZPOCET | BD97: =IF(M97="základní",J97,0) -> 0 | BE97: =IF(M97="snížená",J97,0) -> 0 | BF97: =IF(M97="zákl. přenesená",J97,0) -> 0 | BG97: =IF(M97="sníž. přenesená",J97,0) -> 0 | BH97: =IF(M97="nulová",J97,0) -> 0 | BI97: 1 | BJ97: =ROUND(I97*H97,2) -> 0 | BK97: 16 | BL97: 1859653024
D98: M | E98: 28411012 | F98: homogenní, třída zátěže vysoká, R10, hořlavost Bfl S1, bez ftalátů, PVC po odsouhlasení ředitelky školy | G98: m2 | H98: =H97*1.1 -> 82.72 | J98: =ROUND(I98*H98,2) -> 0 | K98: CS ÚRS 2022 02 | M98: základní | O98: =N98*H98 -> 0 | P98: 0.00368 | Q98: =P98*H98 -> 0.3044096 | R98: 0 | S98: =R98*H98 -> 0 | AQ98: 32 | AS98: M | AT98: 2 | AX98: ROZPOCET | BD98: =IF(M98="základní",J98,0) -> 0 | BE98: =IF(M98="snížená",J98,0) -> 0 | BF98: =IF(M98="zákl. přenesená",J98,0) -> 0 | BG98: =IF(M98="sníž. přenesená",J98,0) -> 0 | BH98: =IF(M98="nulová",J98,0) -> 0 | BI98: 1 | BJ98: =ROUND(I98*H98,2) -> 0 | BK98: 16 | BL98: 402955820
D99: K | E99: 776410811 | F99: Demontáž soklíků nebo lišt pryžových nebo plastových | G99: m | H99: 36.138462 | J99: =ROUND(I99*H99,2) -> 0 | K99: CS ÚRS 2022 02 | M99: základní | O99: =N99*H99 -> 0 | P99: 0 | Q99: =P99*H99 -> 0 | R99: 0.0003 | S99: =R99*H99 -> 0.010841538 | AQ99: 16 | AS99: K | AT99: 2 | AX99: ROZPOCET | BD99: =IF(M99="základní",J99,0) -> 0 | BE99: =IF(M99="snížená",J99,0) -> 0 | BF99: =IF(M99="zákl. přenesená",J99,0) -> 0 | BG99: =IF(M99="sníž. přenesená",J99,0) -> 0 | BH99: =IF(M99="nulová",J99,0) -> 0 | BI99: 1 | BJ99: =ROUND(I99*H99,2) -> 0 | BK99: 16 | BL99: 596501304
D100: K | E100: 776411111 | F100: Montáž soklíků lepením obvodových, výšky do 80 mm | G100: m | H100: =H99 -> 36.138462 | J100: =ROUND(I100*H100,2) -> 0 | K100: CS ÚRS 2022 02 | M100: základní | O100: =N100*H100 -> 0 | P100: 1e-05 | Q100: =P100*H100 -> 0.00036138462 | R100: 0 | S100: =R100*H100 -> 0 | AQ100: 16 | AS100: K | AT100: 2 | AX100: ROZPOCET | BD100: =IF(M100="základní",J100,0) -> 0 | BE100: =IF(M100="snížená",J100,0) -> 0 | BF100: =IF(M100="zákl. přenesená",J100,0) -> 0 | BG100: =IF(M100="sníž. přenesená",J100,0) -> 0 | BH100: =IF(M100="nulová",J100,0) -> 0 | BI100: 1 | BJ100: =ROUND(I100*H100,2) -> 0 | BK100: 16 | BL100: 536872929
D101: M | E101: 28411009 | F101: lišta soklová PVC 18x80mm | G101: m | H101: =H99 -> 36.138462 | J101: =ROUND(I101*H101,2) -> 0 | K101: CS ÚRS 2022 02 | M101: základní | O101: =N101*H101 -> 0 | P101: 0.00035 | Q101: =P101*H101 -> 0.012648462 | R101: 0 | S101: =R101*H101 -> 0 | AQ101: 32 | AS101: M | AT101: 2 | AX101: ROZPOCET | BD101: =IF(M101="základní",J101,0) -> 0 | BE101: =IF(M101="snížená",J101,0) -> 0 | BF101: =IF(M101="zákl. přenesená",J101,0) -> 0 | BG101: =IF(M101="sníž. přenesená",J101,0) -> 0 | BH101: =IF(M101="nulová",J101,0) -> 0 | BI101: 1 | BJ101: =ROUND(I101*H101,2) -> 0 | BK101: 16 | BL101: 745370148
D102: K | E102: 997013511 | F102: Odvoz suti a vybouraných hmot z meziskládky na skládku s naložením a se složením, na vzdálenost do 1 km | G102: t | H102: =0.003*H96 -> 0.2256 | J102: =ROUND(I102*H102,2) -> 0 | K102: CS ÚRS 2022 02 | M102: základní | O102: =N102*H102 -> 0 | P102: 0 | Q102: =P102*H102 -> 0 | R102: 0 | S102: =R102*H102 -> 0 | AQ102: 4 | AS102: K | AT102: 2 | AX102: ROZPOCET | BD102: =IF(M102="základní",J102,0) -> 0 | BE102: =IF(M102="snížená",J102,0) -> 0 | BF102: =IF(M102="zákl. přenesená",J102,0) -> 0 | BG102: =IF(M102="sníž. přenesená",J102,0) -> 0 | BH102: =IF(M102="nulová",J102,0) -> 0 | BI102: 1 | BJ102: =ROUND(I102*H102,2) -> 0 | BK102: 4 | BL102: -587466812
D103: K | E103: 997013509 | F103: Odvoz suti a vybouraných hmot na skládku nebo meziskládku se složením, na vzdálenost Příplatek k ceně za každý další i započatý 1 km přes 1 km | G103: t | H103: =H102*19 -> 4.2864 | J103: =ROUND(I103*H103,2) -> 0 | K103: CS ÚRS 2022 02 | M103: základní | O103: =N103*H103 -> 0 | P103: 0 | Q103: =P103*H103 -> 0 | R103: 0 | S103: =R103*H103 -> 0 | AQ103: 4 | AS103: K | AT103: 2 | AX103: ROZPOCET | BD103: =IF(M103="základní",J103,0) -> 0 | BE103: =IF(M103="snížená",J103,0) -> 0 | BF103: =IF(M103="zákl. přenesená",J103,0) -> 0 | BG103: =IF(M103="sníž. přenesená",J103,0) -> 0 | BH103: =IF(M103="nulová",J103,0) -> 0 | BI103: 1 | BJ103: =ROUND(I103*H103,2) -> 0 | BK103: 4 | BL103: -331989164
D104: K | E104: 997013813 | F104: Poplatek za uložení stavebního odpadu na skládce (skládkovné) z plastických hmot zatříděného do Katalogu odpadů pod kódem 170 203 | G104: t | H104: 0.218 | J104: =ROUND(I104*H104,2) -> 0 | K104: CS ÚRS 2022 02 | M104: základní | O104: =N104*H104 -> 0 | P104: 0 | Q104: =P104*H104 -> 0 | R104: 0 | S104: =R104*H104 -> 0 | AQ104: 4 | AS104: K | AT104: 2 | AX104: ROZPOCET | BD104: =IF(M104="základní",J104,0) -> 0 | BE104: =IF(M104="snížená",J104,0) -> 0 | BF104: =IF(M104="zákl. přenesená",J104,0) -> 0 | BG104: =IF(M104="sníž. přenesená",J104,0) -> 0 | BH104: =IF(M104="nulová",J104,0) -> 0 | BI104: 1 | BJ104: =ROUND(I104*H104,2) -> 0 | BK104: 4 | BL104: 1936786590
D105: K | E105: 998776101 | F105: Přesun hmot tonážní pro podlahy povlakové v objektech v přes 6 do 12 m | G105: t | H105: =H102 -> 0.2256 | J105: =ROUND(I105*H105,2) -> 0 | K105: CS ÚRS 2022 02 | M105: základní | O105: =N105*H105 -> 0 | P105: 0 | Q105: =P105*H105 -> 0 | R105: 0 | S105: =R105*H105 -> 0 | AQ105: 16 | AS105: K | AT105: 2 | AX105: ROZPOCET | BD105: =IF(M105="základní",J105,0) -> 0 | BE105: =IF(M105="snížená",J105,0) -> 0 | BF105: =IF(M105="zákl. přenesená",J105,0) -> 0 | BG105: =IF(M105="sníž. přenesená",J105,0) -> 0 | BH105: =IF(M105="nulová",J105,0) -> 0 | BI105: 1 | BJ105: =ROUND(I105*H105,2) -> 0 | BK105: 16 | BL105: -102991986
D106: D | E106: 783 | F106: Dokončovací práce - nátěry | J106: =SUBTOTAL(9,J107:J109) -> 0 | O106: =SUM(O107:O109) -> 0 | Q106: =SUM(Q107:Q109) -> 0.0084 | S106: =SUM(S107:S109) -> 0 | AQ106: 2 | AS106: D | AT106: 1 | AX106: ROZPOCET | BJ106: =SUM(BJ107:BJ109) -> 0
D107: K | E107: 783813131 | F107: Penetrační syntetický nátěr hladkých, tenkovrstvých zrnitých a štukových omítek | G107: m2 | H107: 56 | J107: =ROUND(I107*H107,2) -> 0 | K107: CS ÚRS 2022 02 | M107: základní | O107: =N107*H107 -> 0 | P107: 2e-05 | Q107: =P107*H107 -> 0.00112 | R107: 0 | S107: =R107*H107 -> 0 | AQ107: 16 | AS107: K | AT107: 2 | AX107: ROZPOCET | BD107: =IF(M107="základní",J107,0) -> 0 | BE107: =IF(M107="snížená",J107,0) -> 0 | BF107: =IF(M107="zákl. přenesená",J107,0) -> 0 | BG107: =IF(M107="sníž. přenesená",J107,0) -> 0 | BH107: =IF(M107="nulová",J107,0) -> 0 | BI107: 1 | BJ107: =ROUND(I107*H107,2) -> 0 | BK107: 16 | BL107: -652316423
D108: K | E108: 783817421 | F108: Krycí dvojnásobný syntetický nátěr hladkých, zrnitých tenkovrstvých nebo štukových omítek | G108: m2 | H108: =H107 -> 56 | J108: =ROUND(I108*H108,2) -> 0 | K108: CS ÚRS 2022 02 | M108: základní | O108: =N108*H108 -> 0 | P108: 0 | Q108: =P108*H108 -> 0 | R108: 0 | S108: =R108*H108 -> 0 | AQ108: 16 | AS108: K | AT108: 2 | AX108: ROZPOCET | BD108: =IF(M108="základní",J108,0) -> 0 | BE108: =IF(M108="snížená",J108,0) -> 0 | BF108: =IF(M108="zákl. přenesená",J108,0) -> 0 | BG108: =IF(M108="sníž. přenesená",J108,0) -> 0 | BH108: =IF(M108="nulová",J108,0) -> 0 | BI108: 1 | BJ108: =ROUND(I108*H108,2) -> 0 | BK108: 16 | BL108: 1850501795
D109: K | E109: 783806811 | F109: Odstranění nátěrů z omítek oškrábáním | G109: m2 | H109: =H108 -> 56 | J109: =ROUND(I109*H109,2) -> 0 | K109: CS ÚRS 2022 02 | M109: základní | O109: =N109*H109 -> 0 | P109: 0.00013 | Q109: =P109*H109 -> 0.00728 | R109: 0 | S109: =R109*H109 -> 0 | AQ109: 16 | AS109: K | AT109: 2 | AX109: ROZPOCET | BD109: =IF(M109="základní",J109,0) -> 0 | BE109: =IF(M109="snížená",J109,0) -> 0 | BF109: =IF(M109="zákl. přenesená",J109,0) -> 0 | BG109: =IF(M109="sníž. přenesená",J109,0) -> 0 | BH109: =IF(M109="nulová",J109,0) -> 0 | BI109: 1 | BJ109: =ROUND(I109*H109,2) -> 0 | BK109: 16 | BL109: 707915571
D110: D | E110: 784 | F110: Dokončovací práce - malby a tapety | J110: =SUBTOTAL(9,J111:J116) -> 0 | O110: =SUM(O111:O116) -> 0 | Q110: =SUM(Q111:Q116) -> 0.18067 | S110: =SUM(S111:S116) -> 0.05518 | AQ110: 2 | AS110: D | AT110: 1 | AX110: ROZPOCET | BJ110: =SUM(BJ111:BJ116) -> 0
D111: K | E111: 784111001 | F111: Oprášení (ometení) podkladu v místnostech výšky do 3,80 m | G111: m2 | H111: =H107+H112 -> 145 | J111: =ROUND(I111*H111,2) -> 0 | K111: CS ÚRS 2022 02 | M111: základní | O111: =N111*H111 -> 0 | P111: 0 | Q111: =P111*H111 -> 0 | R111: 0 | S111: =R111*H111 -> 0 | AQ111: 16 | AS111: K | AT111: 2 | AX111: ROZPOCET | BD111: =IF(M111="základní",J111,0) -> 0 | BE111: =IF(M111="snížená",J111,0) -> 0 | BF111: =IF(M111="zákl. přenesená",J111,0) -> 0 | BG111: =IF(M111="sníž. přenesená",J111,0) -> 0 | BH111: =IF(M111="nulová",J111,0) -> 0 | BI111: 1 | BJ111: =ROUND(I111*H111,2) -> 0 | BK111: 16 | BL111: -61812216
D112: K | E112: 784121001 | F112: Oškrabání malby v místnostech výšky do 3,80 m | G112: m2 | H112: 89 | J112: =ROUND(I112*H112,2) -> 0 | K112: CS ÚRS 2022 02 | M112: základní | O112: =N112*H112 -> 0 | P112: 0.001 | Q112: =P112*H112 -> 0.089 | R112: 0.00031 | S112: =R112*H112 -> 0.02759 | AQ112: 16 | AS112: K | AT112: 2 | AX112: ROZPOCET | BD112: =IF(M112="základní",J112,0) -> 0 | BE112: =IF(M112="snížená",J112,0) -> 0 | BF112: =IF(M112="zákl. přenesená",J112,0) -> 0 | BG112: =IF(M112="sníž. přenesená",J112,0) -> 0 | BH112: =IF(M112="nulová",J112,0) -> 0 | BI112: 1 | BJ112: =ROUND(I112*H112,2) -> 0 | BK112: 16 | BL112: -575438632
D113: K | E113: 784121011 | F113: Rozmývání podkladu po oškrabání malby v místnostech výšky do 3,80 m | G113: m2 | H113: =H112 -> 89 | J113: =ROUND(I113*H113,2) -> 0 | K113: CS ÚRS 2022 02 | M113: základní | O113: =N113*H113 -> 0 | P113: 0.001 | Q113: =P113*H113 -> 0.089 | R113: 0.00031 | S113: =R113*H113 -> 0.02759 | AQ113: 16 | AS113: K | AT113: 2 | AX113: ROZPOCET | BD113: =IF(M113="základní",J113,0) -> 0 | BE113: =IF(M113="snížená",J113,0) -> 0 | BF113: =IF(M113="zákl. přenesená",J113,0) -> 0 | BG113: =IF(M113="sníž. přenesená",J113,0) -> 0 | BH113: =IF(M113="nulová",J113,0) -> 0 | BI113: 1 | BJ113: =ROUND(I113*H113,2) -> 0 | BK113: 16 | BL113: -1164666283
D114: K | E114: 784181121 | F114: Penetrace podkladu jednonásobná hloubková v místnostech výšky do 3,80 m | G114: m2 | H114: =H113 -> 89 | J114: =ROUND(I114*H114,2) -> 0 | K114: CS ÚRS 2022 02 | M114: základní | O114: =N114*H114 -> 0 | P114: 0 | Q114: =P114*H114 -> 0 | R114: 0 | S114: =R114*H114 -> 0 | AQ114: 16 | AS114: K | AT114: 2 | AX114: ROZPOCET | BD114: =IF(M114="základní",J114,0) -> 0 | BE114: =IF(M114="snížená",J114,0) -> 0 | BF114: =IF(M114="zákl. přenesená",J114,0) -> 0 | BG114: =IF(M114="sníž. přenesená",J114,0) -> 0 | BH114: =IF(M114="nulová",J114,0) -> 0 | BI114: 1 | BJ114: =ROUND(I114*H114,2) -> 0 | BK114: 16 | BL114: 1013632616
D115: K | E115: 784191007 | F115: Čištění vnitřních ploch hrubý úklid po provedení malířských prací omytím podlah | G115: m2 | H115: =H87 -> 75.2 | J115: =ROUND(I115*H115,2) -> 0 | K115: CS ÚRS 2022 02 | M115: základní | O115: =N115*H115 -> 0 | P115: 0 | Q115: =P115*H115 -> 0 | R115: 0 | S115: =R115*H115 -> 0 | AQ115: 16 | AS115: K | AT115: 2 | AX115: ROZPOCET | BD115: =IF(M115="základní",J115,0) -> 0 | BE115: =IF(M115="snížená",J115,0) -> 0 | BF115: =IF(M115="zákl. přenesená",J115,0) -> 0 | BG115: =IF(M115="sníž. přenesená",J115,0) -> 0 | BH115: =IF(M115="nulová",J115,0) -> 0 | BI115: 1 | BJ115: =ROUND(I115*H115,2) -> 0 | BK115: 16 | BL115: 1246152226
D116: K | E116: 784211101 | F116: Malby z malířských směsí otěruvzdorných za mokra dvojnásobné, bílé za mokra otěruvzdorné výborně v místnostech výšky do 3,80 m | G116: m2 | H116: =H112 -> 89 | J116: =ROUND(I116*H116,2) -> 0 | K116: CS ÚRS 2022 02 | M116: základní | O116: =N116*H116 -> 0 | P116: 3e-05 | Q116: =P116*H116 -> 0.00267 | R116: 0 | S116: =R116*H116 -> 0 | AQ116: 16 | AS116: K | AT116: 2 | AX116: ROZPOCET | BD116: =IF(M116="základní",J116,0) -> 0 | BE116: =IF(M116="snížená",J116,0) -> 0 | BF116: =IF(M116="zákl. přenesená",J116,0) -> 0 | BG116: =IF(M116="sníž. přenesená",J116,0) -> 0 | BH116: =IF(M116="nulová",J116,0) -> 0 | BI116: 1 | BJ116: =ROUND(I116*H116,2) -> 0 | BK116: 16 | BL116: 2050087549
F118: Rozvody elektra,vody, odpady
D119: K | F119: Rozvody odpadu (dle Popisu přípravy rozvodů) | G119: kpl | H119: 1 | J119: =H119*I119 -> 0
D120: K | F120: Rozvody vody (dle Popisu přípravy rozvodů) | G120: kpl | H120: 1 | J120: =H120*I120 -> 0
D121: K | F121: Úprava elektroinstalace (dle Popisu přípravy rozvodů) | G121: kpl | H121: 1 | J121: =H121*I121 -> 0
D122: K | F122: Revize elektroinstalační | G122: kpl | H122: 1 | J122: =H122*I122 -> 0
