Workbook

Sheet Rekapitulace stavby
B2: REKAPITULACE STAVBY
B5: Kód | E5: Popis | J5: Cena bez DPH [CZK] | M5: Cena s DPH [CZK]
B7: Náklady z rozpočtů | J7: =ROUND(SUM(J8:J12),2) -> 0 | M7: =SUM(J7,S7)*1.21 -> 0
C8: 1 | F8: Laboratoř chemie | J8: ='101 - Laboratoř chemie'!J32 -> 0 | M8: =SUM(J8,S8)*1.21 -> 0
C9: 2 | F9: Laboratoř chemie - vzduchotechnika | J9: ='101 Lab. chem. Vzduchotechnika '!F18 -> 0 | M9: =J9*1.21 -> 0
C10: 3 | F10: Počítačová učebna 20 + 1 malba | J10: ='Počítačová učebna 20+1_malba'!J30 -> 0 | M10: =SUM(J10,S10)*1.21 -> 0
C11: 4 | F11: Počítačová učebna 18 + 1 malba | J11: ='Počítačová učebna 18+1_malba'!J30 -> 0 | M11: =SUM(J11,S11)*1.21 -> 0
C12: 5 | F12: Učebna přírodních věd malba, podlaha | J12: ='Uč. přír. věd_malba,podlaha'!J30 -> 0 | M12: =SUM(J12,S12)*1.21 -> 0

Sheet 101 - Laboratoř chemie
L2: >> skryté sloupce << | AT2: {a1244b22-839c-4a22-8fa1-6953c66ff48d}
AT3: 2
D4: KRYCÍ LIST - VV | M4: v --- níže se nacházejí doplnkové a pomocné údaje k sestavám --- v | AT4: False
D6: Stavba:
E7: ='[1]Rekapitulace stavby'!K6 -> 1.ZŠ Roudnice nad Labem, Karla Jeřábka 941
D8: Objekt:
E9: 101 - Laboratoř chemie
D11: KSO: | I11: CC-CZ:
D12: Místo: | I12: Datum: | J12: 45321
D14: Zadavatel: | I14: IČ: | J14: =IF('[1]Rekapitulace stavby'!AN10="","",'[1]Rekapitulace stavby'!AN10)
E15: =IF('[1]Rekapitulace stavby'!E11="","",'[1]Rekapitulace stavby'!E11) | I15: DIČ: | J15: =IF('[1]Rekapitulace stavby'!AN11="","",'[1]Rekapitulace stavby'!AN11)
D17: Uchazeč: | I17: IČ: | J17: ='[1]Rekapitulace stavby'!AN13 -> Vyplň údaj
E18: ='[1]Rekapitulace stavby'!E14 -> Vyplň údaj | I18: DIČ: | J18: ='[1]Rekapitulace stavby'!AN14 -> Vyplň údaj
D20: Projektant: | I20: IČ: | J20: =IF('[1]Rekapitulace stavby'!AN16="","",'[1]Rekapitulace stavby'!AN16)
E21: =IF('[1]Rekapitulace stavby'!E17="","",'[1]Rekapitulace stavby'!E17) | I21: DIČ: | J21: =IF('[1]Rekapitulace stavby'!AN17="","",'[1]Rekapitulace stavby'!AN17)
D23: Zpracovatel: | I23: IČ: | J23: =IF('[1]Rekapitulace stavby'!AN19="","",'[1]Rekapitulace stavby'!AN19)
E24: =IF('[1]Rekapitulace stavby'!E20="","",'[1]Rekapitulace stavby'!E20) | I24: DIČ: | J24: =IF('[1]Rekapitulace stavby'!AN20="","",'[1]Rekapitulace stavby'!AN20)
D26: Poznámka:
D30: Náklady z rozpočtu | J30: =J96 -> 0
D31: Ostatní náklady | J31: =J120 -> 0
D32: Cena bez DPH | J32: =ROUND(J30 + J31, 2) -> 0
F34: Základ daně | I34: Sazba daně | J34: Výše daně
D35: DPH | E35: základní | F35: =ROUND((SUM(BE120:BE127) + SUM(BE147:BE324)), 2) -> 0 | I35: 0.21 | J35: =ROUND(((SUM(BE120:BE127) + SUM(BE147:BE324))*I35), 2) -> 0
E36: snížená | F36: =ROUND((SUM(BF120:BF127) + SUM(BF147:BF324)), 2) -> 0 | I36: 0.15 | J36: =ROUND(((SUM(BF120:BF127) + SUM(BF147:BF324))*I36), 2) -> 0
E37: zákl. přenesená | F37: =ROUND((SUM(BG120:BG127) + SUM(BG147:BG324)), 2) -> 0 | I37: 0.21 | J37: =0 -> 0
E38: sníž. přenesená | F38: =ROUND((SUM(BH120:BH127) + SUM(BH147:BH324)), 2) -> 0 | I38: 0.15 | J38: =0 -> 0
E39: nulová | F39: =ROUND((SUM(BI120:BI127) + SUM(BI147:BI324)), 2) -> 0 | I39: 0 | J39: =0 -> 0
D50: Projektant | G50: Zpracovatel
D61: Datum a podpis: | F61: Razítko | G61: Datum a podpis: | J61: Razítko
D65: Objednavatel | G65: Uchazeč
D76: Datum a podpis: | F76: Razítko | G76: Datum a podpis: | J76: Razítko
C82: REKAPITULACE ČLENĚNÍ SOUPISU PRACÍ
C84: Stavba:
E85: =E7 -> 1.ZŠ Roudnice nad Labem, Karla Jeřábka 941
C86: Objekt:
E87: =E9 -> 101 - Laboratoř chemie
C89: Místo: | F89: =F12 | I89: Datum: | J89: =IF(J12="","",J12) -> 45321
C91: Zadavatel: | F91: =E15 | I91: Projektant: | J91: =E21
C92: Uchazeč: | F92: =IF(E18="","",E18) -> Vyplň údaj | I92: Zpracovatel: | J92: =E24
C94: Kód dílu - Popis | J94: Cena celkem [CZK]
...

Sheet 101 Lab. chem. Vzduchotechnika 
A3: Číslo položky | B3: Název položky | C3: Počet | D3: MJ | E3: Jednotková cena za dodávku | F3: Celková cena za dodávku
A4: 1 | B4: Potrubní ventilátor D315 - tiché provedení | C4: 1 | D4: ks | F4: =E4*C4 -> 0
A5: 2 | B5: Regulace otáček | C5: 1 | D5: ks | F5: =E5*C5 -> 0
A6: 3 | B6: Regulační klapka do potrubí D250 | C6: 1 | D6: ks | F6: =E6*C6 -> 0
A7: 4 | B7: Pružné manžety D315 | C7: 2 | D7: ks | F7: =E7*C7 -> 0
A8: 5 | B8: Krček s regulací | C8: 4 | D8: ks | F8: =E8*C8 -> 0
A9: 6 | B9: Odtahový anemostat 400x400 | C9: 4 | D9: ks | F9: =E9*C9 -> 0
A10: 7 | B10: Potrubí hranaté | C10: 1 | D10: kpl | F10: =E10*C10 -> 0
A11: 8 | B11: Potrubí kruhové | C11: 1 | D11: kpl | F11: =E11*C11 -> 0
A12: 9 | B12: Průraz obchodovým zdivem | C12: 1 | D12: kpl | F12: =E12*C12 -> 0
A13: 10 | B13: Revize | C13: 1 | D13: kpl | F13: =E13*C13 -> 0
A14: 11 | B14: Kompletní elektro (kabeláž mezi jednotkami a ovládáním, revize) | C14: 1 | D14: kpl | F14: =E14*C14 -> 0
A15: 12 | B15: Demontáž a likvidace stávajícího podhledu | C15: 1 | D15: kpl | F15: =E15*C15 -> 0
A16: 13 | B16: Společný montážní materiál (závěsný, těsnící a spojovací materiál) | C16: 1 | D16: kpl | F16: =E16*C16 -> 0
E18: Cena celkem bez DPH | F18: =SUM(F4:F16) -> 0
E19: Cena celkem s DPH | F19: =F18*1.21 -> 0

Sheet Počítačová učebna 20+1_malba
AR2: {fe0f518f-9c43-4ab5-84fc-7401227b29f4}
AR3: 2
D4: KRYCÍ LIST SOUPISU PRACÍ | K4: v --- níže se nacházejí doplnkové a pomocné údaje k sestavám --- v | AR4: False
D6: Stavba:
D8: Objekt:
D11: KSO: | I11: CC-CZ:
D12: Místo: | I12: Datum:
D14: Zadavatel: | I14: IČ:
I15: DIČ:
D17: Uchazeč: | I17: IČ:
I18: DIČ:
D20: Projektant: | I20: IČ:
I21: DIČ:
D23: Zpracovatel: | I23: IČ:
I24: DIČ:
D26: Poznámka:
D30: Cena bez DPH | J30: =ROUND(J84, 2) -> 0
F32: Základ daně | I32: Sazba daně | J32: Výše daně
D33: DPH | E33: základní | F33: =ROUND((SUM(BC84:BC116)), 2) -> 0 | I33: 0.21 | J33: =ROUND(((SUM(BC84:BC116))*I33), 2) -> 0
E34: snížená | F34: =ROUND((SUM(BD84:BD116)), 2) -> 0 | I34: 0.15 | J34: =ROUND(((SUM(BD84:BD116))*I34), 2) -> 0
E35: zákl. přenesená | F35: =ROUND((SUM(BE84:BE116)), 2) -> 0 | I35: 0.21 | J35: =0 -> 0
E36: sníž. přenesená | F36: =ROUND((SUM(BF84:BF116)), 2) -> 0 | I36: 0.15 | J36: =0 -> 0
E37: nulová | F37: =ROUND((SUM(BG84:BG116)), 2) -> 0 | I37: 0 | J37: =0 -> 0
D39: Cena s DPH | G39: v | H39: CZK | J39: =SUM(J30:J37) -> 0
F52: =F12 | I52: Datum:
I54: Projektant:
I55: Zpracovatel:
J57: Cena celkem [CZK]
J59: =J84 -> 0 | AS59: -1
D60: PSV - Práce a dodávky PSV | J60: =J85 -> 0
D61: 762 - Konstrukce tesařské | J61: =J86 -> 0
D62: 776 - Podlahy povlakové | J62: =J94 -> 0
D63: 783 - Dokončovací práce - nátěry | J63: =J106 -> 0
D64: 784 - Dokončovací práce - malby a tapety | J64: =J110 -> 0
F78: =F12 | I78: Datum:
I80: Projektant:
I81: Zpracovatel:
D83: Typ | E83: Kód | F83: Popis | G83: MJ | H83: Množství | I83: J.cena [CZK] | J83: Cena celkem [CZK] | L83: DPH | M83: J. Nh [h] | N83: Nh celkem [h] | O83: J. hmotnost [t] | P83: Hmotnost celkem [t] | Q83: J. suť [t] | R83: Suť Celkem [t]
J84: =J85 -> 0 | N84: =#REF!+N85+#REF!+#REF!+#REF! -> #REF! | P84: =#REF!+P85+#REF!+#REF!+#REF! -> #REF! | R84: =#REF!+R85+#REF!+#REF!+#REF! -> #REF! | AR84: D | AS84: -1 | BI84: =#REF!+BI85+#REF!+#REF!+#REF! -> #REF!
D85: D | E85: PSV | F85: Práce a dodávky PSV | J85: =SUBTOTAL(9,J86:J116) -> 0 | N85: =#REF!+#REF!+#REF!+#REF!+N86+#REF!+#REF!+#REF!+N94+#REF!+N106+N110 -> #REF! | P85: =#REF!+#REF!+#REF!+#REF!+P86+#REF!+#REF!+#REF!+P94+#REF!+P106+P110 -> #REF! | R85: =#REF!+#REF!+#REF!+#REF!+R86+#REF!+#REF!+#REF!+R94+#REF!+R106+R110 -> #REF! | AP85: 2 | AR85: D | AS85: 0 | AW85: ROZPOCET | BI85: =#REF!+#REF!+#REF!+#REF!+BI86+#REF!+#REF!+#REF!+BI94+#REF!+BI106+BI110 -> #REF!
...

Sheet Počítačová učebna 18+1_malba
AS2: {fe0f518f-9c43-4ab5-84fc-7401227b29f4}
AS3: 2
D4: KRYCÍ LIST SOUPISU PRACÍ | L4: v --- níže se nacházejí doplnkové a pomocné údaje k sestavám --- v | AS4: False
D6: Stavba:
D8: Objekt:
D11: KSO: | I11: CC-CZ:
D12: Místo: | I12: Datum:
D14: Zadavatel: | I14: IČ:
I15: DIČ:
D17: Uchazeč: | I17: IČ:
I18: DIČ:
D20: Projektant: | I20: IČ:
I21: DIČ:
D23: Zpracovatel: | I23: IČ:
I24: DIČ:
D26: Poznámka:
D30: Cena bez DPH | J30: =ROUND(J84, 2) -> 0
F32: Základ daně | I32: Sazba daně | J32: Výše daně
D33: DPH | E33: základní | F33: =ROUND((SUM(BD84:BD116)), 2) -> 0 | I33: 0.21 | J33: =ROUND(((SUM(BD84:BD116))*I33), 2) -> 0
E34: snížená | F34: =ROUND((SUM(BE84:BE116)), 2) -> 0 | I34: 0.15 | J34: =ROUND(((SUM(BE84:BE116))*I34), 2) -> 0
E35: zákl. přenesená | F35: =ROUND((SUM(BF84:BF116)), 2) -> 0 | I35: 0.21 | J35: =0 -> 0
E36: sníž. přenesená | F36: =ROUND((SUM(BG84:BG116)), 2) -> 0 | I36: 0.15 | J36: =0 -> 0
E37: nulová | F37: =ROUND((SUM(BH84:BH116)), 2) -> 0 | I37: 0 | J37: =0 -> 0
D39: Cena s DPH | G39: v | H39: CZK | J39: =SUM(J30:J37) -> 0
F52: =F12 | I52: Datum:
I54: Projektant:
I55: Zpracovatel:
J57: Cena celkem [CZK]
J59: =J84 -> 0 | AT59: -1
D60: PSV - Práce a dodávky PSV | J60: =J85 -> 0
D61: 762 - Konstrukce tesařské | J61: =J86 -> 0
D62: 776 - Podlahy povlakové | J62: =J94 -> 0
D63: 783 - Dokončovací práce - nátěry | J63: =J106 -> 0
D64: 784 - Dokončovací práce - malby a tapety | J64: =J110 -> 0
F78: =F12 | I78: Datum:
I80: Projektant:
I81: Zpracovatel:
D83: Typ | E83: Kód | F83: Popis | G83: MJ | H83: Množství | I83: J.cena [CZK] | J83: Cena celkem [CZK] | K83: Cenová soustava | M83: DPH | N83: J. Nh [h] | O83: Nh celkem [h] | P83: J. hmotnost [t] | Q83: Hmotnost celkem [t] | R83: J. suť [t] | S83: Suť Celkem [t]
J84: =J85 -> 0 | O84: =#REF!+O85+#REF!+#REF!+#REF! -> #REF! | Q84: =#REF!+Q85+#REF!+#REF!+#REF! -> #REF! | S84: =#REF!+S85+#REF!+#REF!+#REF! -> #REF! | AS84: D | AT84: -1 | BJ84: =#REF!+BJ85+#REF!+#REF!+#REF! -> #REF!
D85: D | E85: PSV | F85: Práce a dodávky PSV | J85: =SUBTOTAL(9,J86:J116) -> 0 | O85: =#REF!+#REF!+#REF!+#REF!+O86+#REF!+#REF!+#REF!+O94+#REF!+O106+O110 -> #REF! | Q85: =#REF!+#REF!+#REF!+#REF!+Q86+#REF!+#REF!+#REF!+Q94+#REF!+Q106+Q110 -> #REF! | S85: =#REF!+#REF!+#REF!+#REF!+S86+#REF!+#REF!+#REF!+S94+#REF!+S106+S110 -> #REF! | AQ85: 2 | AS85: D | AT85: 0 | AX85: ROZPOCET | BJ85: =#REF!+#REF!+#REF!+#REF!+BJ86+#REF!+#REF!+#REF!+BJ94+#REF!+BJ106+BJ110 -> #REF!
...

Sheet Uč. přír. věd_malba,podlaha
AS2: {fe0f518f-9c43-4ab5-84fc-7401227b29f4}
AS3: 2
D4: KRYCÍ LIST SOUPISU PRACÍ | L4: v --- níže se nacházejí doplnkové a pomocné údaje k sestavám --- v | AS4: False
D6: Stavba:
D8: Objekt:
D11: KSO: | I11: CC-CZ:
D12: Místo: | I12: Datum:
D14: Zadavatel: | I14: IČ:
I15: DIČ:
D17: Uchazeč: | I17: IČ:
I18: DIČ:
D20: Projektant: | I20: IČ:
I21: DIČ:
D23: Zpracovatel: | I23: IČ:
I24: DIČ:
D26: Poznámka:
D30: Cena bez DPH | J30: =ROUND(J84, 2) -> 0
F32: Základ daně | I32: Sazba daně | J32: Výše daně
D33: DPH | E33: základní | F33: =ROUND((SUM(BD84:BD116)), 2) -> 0 | I33: 0.21 | J33: =ROUND(((SUM(BD84:BD116))*I33), 2) -> 0
E34: snížená | F34: =ROUND((SUM(BE84:BE116)), 2) -> 0 | I34: 0.15 | J34: =ROUND(((SUM(BE84:BE116))*I34), 2) -> 0
E35: zákl. přenesená | F35: =ROUND((SUM(BF84:BF116)), 2) -> 0 | I35: 0.21 | J35: =0 -> 0
E36: sníž. přenesená | F36: =ROUND((SUM(BG84:BG116)), 2) -> 0 | I36: 0.15 | J36: =0 -> 0
E37: nulová | F37: =ROUND((SUM(BH84:BH116)), 2) -> 0 | I37: 0 | J37: =0 -> 0
F52: =F12 | I52: Datum:
I54: Projektant:
I55: Zpracovatel:
J57: Cena celkem [CZK]
J59: =J84 -> 0 | AT59: -1
D60: PSV - Práce a dodávky PSV | J60: =J85+J119+J120+J121+J122 -> 0
D61: 762 - Konstrukce tesařské | J61: =J86 -> 0
D62: 776 - Podlahy povlakové | J62: =J94 -> 0
D63: 783 - Dokončovací práce - nátěry | J63: =J106 -> 0
D64: 784 - Dokončovací práce - malby a tapety | J64: =J110 -> 0
F78: =F12 | I78: Datum:
I80: Projektant:
I81: Zpracovatel:
D83: Typ | E83: Kód | F83: Popis | G83: MJ | H83: Množství | I83: J.cena [CZK] | J83: Cena celkem [CZK] | K83: Cenová soustava | M83: DPH | N83: J. Nh [h] | O83: Nh celkem [h] | P83: J. hmotnost [t] | Q83: Hmotnost celkem [t] | R83: J. suť [t] | S83: Suť Celkem [t]
J84: =J85+J119+J120+J121+J122 -> 0 | O84: =#REF!+O85+#REF!+#REF!+#REF! -> #REF! | Q84: =#REF!+Q85+#REF!+#REF!+#REF! -> #REF! | S84: =#REF!+S85+#REF!+#REF!+#REF! -> #REF! | AS84: D | AT84: -1 | BJ84: =#REF!+BJ85+#REF!+#REF!+#REF! -> #REF!
D85: D | E85: PSV | F85: Práce a dodávky PSV | J85: =SUBTOTAL(9,J86:J116) -> 0 | O85: =#REF!+#REF!+#REF!+#REF!+O86+#REF!+#REF!+#REF!+O94+#REF!+O106+O110 -> #REF! | Q85: =#REF!+#REF!+#REF!+#REF!+Q86+#REF!+#REF!+#REF!+Q94+#REF!+Q106+Q110 -> #REF! | S85: =#REF!+#REF!+#REF!+#REF!+S86+#REF!+#REF!+#REF!+S94+#REF!+S106+S110 -> #REF! | AQ85: 2 | AS85: D | AT85: 0 | AX85: ROZPOCET | BJ85: =#REF!+#REF!+#REF!+#REF!+BJ86+#REF!+#REF!+#REF!+BJ94+#REF!+BJ106+BJ110 -> #REF!
D86: D | E86: 762 | F86: Konstrukce tesařské | J86: =SUBTOTAL(9,J87:J92) -> 0 | O86: =SUM(O87:O92) -> 0 | Q86: =SUM(Q87:Q92) -> 1.1988071 | S86: =SUM(S87:S92) -> 0 | AQ86: 2 | AS86: D | AT86: 1 | AX86: ROZPOCET | BJ86: =SUM(BJ87:BJ92) -> 0
...
