Workbook
Name __7DC147B2_4614_48B7_8F22_6CC284377C82_FIGURE__: #REF!
Name __7DC147B2_4614_48B7_8F22_6CC284377C82_ITEM__: Zakázka!$A$8:$Q$11
Name __7DC147B2_4614_48B7_8F22_6CC284377C82_ITEM_GROUP1__: Zakázka!$A$6:$Q$119
Name __7DC147B2_4614_48B7_8F22_6CC284377C82_ITEM_GROUP1_RECAP__: Rekapitulace!$A$6:$F$7
Name __7DC147B2_4614_48B7_8F22_6CC284377C82_ITEM_GROUP2__: Zakázka!$A$7:$Q$48
Name __7DC147B2_4614_48B7_8F22_6CC284377C82_ITEM_GROUP2_RECAP__: Rekapitulace!$A$7:$F$7
Name __7DC147B2_4614_48B7_8F22_6CC284377C82_QBILL__: Zakázka!$F$9:$H$9
Name __7DC147B2_4614_48B7_8F22_6CC284377C82_QBILLFIG__: #REF!
Name __7DC147B2_4614_48B7_8F22_6CC284377C82_QINDEX__: Zakázka!#REF!
Name GROUP_ID: Zakázka!$B$6:$B$120
Name ITEM_PRICES: Zakázka!$J$6:$J$120
Name VAT_RATES: Zakázka!$O$6:$O$120

Sheet Rekapitulace
B1: OBNOVA ZPEVNĚNÉHO POVRCHU AREÁLU ZŠ ROUDNICE NAD LABEM, KRABČICKÁ
B4: Popis | C4: Cena | D4: Hmotnost | E4: DPH | F4: Cena s DPH
A6: SO 01 | B6: SO 01: Obnova zpevněného povrchu | C6: =VLOOKUP($A6,Zakázka!$A:$Q,10,FALSE) -> 0 | D6: =VLOOKUP($A6,Zakázka!$A:$Q,12,FALSE) -> 290.83051 | E6: =VLOOKUP($A6,Zakázka!$A:$Q,16,FALSE) -> 0 | F6: =VLOOKUP($A6,Zakázka!$A:$Q,17,FALSE) -> 0
A7: SO 01/001 | B7: 001: Zemní práce | C7: =VLOOKUP($A7,Zakázka!$A:$Q,10,FALSE) -> 0 | D7: =VLOOKUP($A7,Zakázka!$A:$Q,12,FALSE) -> 79.9092 | E7: =VLOOKUP($A7,Zakázka!$A:$Q,16,FALSE) -> 0 | F7: =VLOOKUP($A7,Zakázka!$A:$Q,17,FALSE) -> 0
A8: SO 01/002 | B8: 002: Bourací práce | C8: =VLOOKUP($A8,Zakázka!$A:$Q,10,FALSE) -> 0 | D8: =VLOOKUP($A8,Zakázka!$A:$Q,12,FALSE) -> 0 | E8: =VLOOKUP($A8,Zakázka!$A:$Q,16,FALSE) -> 0 | F8: =VLOOKUP($A8,Zakázka!$A:$Q,17,FALSE) -> 0
A9: SO 01/0052 | B9: 0052: Dlažba žulová | C9: =VLOOKUP($A9,Zakázka!$A:$Q,10,FALSE) -> 0 | D9: =VLOOKUP($A9,Zakázka!$A:$Q,12,FALSE) -> 210.90259 | E9: =VLOOKUP($A9,Zakázka!$A:$Q,16,FALSE) -> 0 | F9: =VLOOKUP($A9,Zakázka!$A:$Q,17,FALSE) -> 0
A10: SO 01/009 | B10: 009: Ostatní konstrukce a práce | C10: =VLOOKUP($A10,Zakázka!$A:$Q,10,FALSE) -> 0 | D10: =VLOOKUP($A10,Zakázka!$A:$Q,12,FALSE) -> 0 | E10: =VLOOKUP($A10,Zakázka!$A:$Q,16,FALSE) -> 0 | F10: =VLOOKUP($A10,Zakázka!$A:$Q,17,FALSE) -> 0
A11: SO 01/099 | B11: 099: Přesun hmot | C11: =VLOOKUP($A11,Zakázka!$A:$Q,10,FALSE) -> 0 | D11: =VLOOKUP($A11,Zakázka!$A:$Q,12,FALSE) -> 0 | E11: =VLOOKUP($A11,Zakázka!$A:$Q,16,FALSE) -> 0 | F11: =VLOOKUP($A11,Zakázka!$A:$Q,17,FALSE) -> 0
A12: SO 01/711 | B12: 711: Izolace proti vodě, vlhkosti a plynu | C12: =VLOOKUP($A12,Zakázka!$A:$Q,10,FALSE) -> 0 | D12: =VLOOKUP($A12,Zakázka!$A:$Q,12,FALSE) -> 0.01872 | E12: =VLOOKUP($A12,Zakázka!$A:$Q,16,FALSE) -> 0 | F12: =VLOOKUP($A12,Zakázka!$A:$Q,17,FALSE) -> 0
A13: SO 01/VRN | B13: VRN: Vedlejší rozpočtové náklady | C13: =VLOOKUP($A13,Zakázka!$A:$Q,10,FALSE) -> 0 | D13: =VLOOKUP($A13,Zakázka!$A:$Q,12,FALSE) -> 0 | E13: =VLOOKUP($A13,Zakázka!$A:$Q,16,FALSE) -> 0 | F13: =VLOOKUP($A13,Zakázka!$A:$Q,17,FALSE) -> 0
B15: Celkem (bez DPH) | C15: =SUMIF(GROUP_ID,"",ITEM_PRICES) -> 0
B16: DPH 21% | C16: =C15*0.21 -> 0
B19: Celkem (včetně DPH) | C19: =C15+C16 -> 0

Sheet Zakázka
F1: OBNOVA ZPEVNĚNÉHO POVRCHU AREÁLU ZŠ ROUDNICE NAD LABEM, KRABČICKÁ
C4: Poř. | D4: Typ | E4: Kód | F4: Popis | G4: MJ | H4: Výměra | I4: Jedn. Cena | J4: Cena bez DPH | K4: Jedn. hmotn. | L4: Hmotnost | M4: Jedn. suť | N4: Suť | O4: Sazba DPH | P4: DPH | Q4: Cena s DPH
A6: SO 01 | B6: 1 | D6: Objekt | F6: SO 01: Obnova zpevněného povrchu | J6: =SUBTOTAL(9,J7:J119) -> 0 | L6: =SUBTOTAL(9,L7:L119) -> 290.83051 | N6: =SUBTOTAL(9,N7:N119) -> 474.266 | P6: =SUBTOTAL(9,P7:P119) -> 0 | Q6: =SUBTOTAL(9,Q7:Q119) -> 0
A7: SO 01/001 | B7: 2 | D7: Oddíl | F7: 001: Zemní práce | J7: =SUBTOTAL(9,J8:J48) -> 0 | L7: =SUBTOTAL(9,L8:L48) -> 79.9092 | N7: =SUBTOTAL(9,N8:N48) -> 0 | P7: =SUBTOTAL(9,P8:P48) -> 0 | Q7: =SUBTOTAL(9,Q8:Q48) -> 0
C8: 1 | E8: 121151105 | F8: Sejmutí ornice plochy do 100 m2 tl vrstvy přes 250 do 300 mm strojně | G8: m2 | H8: 112.011 | I8: 0 | J8: =H8*I8 -> 0 | L8: =H8*K8 -> 0 | N8: =H8*M8 -> 0 | O8: 21 | P8: =J8*(O8/100) -> 0 | Q8: =J8+P8 -> 0
E9: Výkaz výměr: | F9: plocha zeleně; 73,99*1,2 | H9: 88.788
F10: rozšíření u krajnic; 77,41*0,3 | H10: 23.223
C12: 2 | E12: 162206112 | F12: Vodorovné přemístění do 50 m bez naložení výkopku ze zemin schopných zúrodnění | G12: m3 | H12: 33.6033 | I12: 0 | J12: =H12*I12 -> 0 | L12: =H12*K12 -> 0 | N12: =H12*M12 -> 0 | O12: 21 | P12: =J12*(O12/100) -> 0 | Q12: =J12+P12 -> 0
E13: Výkaz výměr: | F13: 112,011*0,3 | H13: 33.6033
C15: 3 | E15: 171206111 | F15: Uložení zemin schopných zúrodnění nebo výsypek do násypů - ornice k dalšímu použití | G15: m3 | H15: 33.603 | I15: 0 | J15: =H15*I15 -> 0 | L15: =H15*K15 -> 0 | N15: =H15*M15 -> 0 | O15: 21 | P15: =J15*(O15/100) -> 0 | Q15: =J15+P15 -> 0
C16: 4 | E16: 132151102 | F16: Hloubení rýh nezapažených š do 800 mm v hornině třídy těžitelnosti I skupiny 1 a 2 objem do 50 m3 strojně | G16: m3 | H16: 44.394 | I16: 0 | J16: =H16*I16 -> 0 | L16: =H16*K16 -> 0 | N16: =H16*M16 -> 0 | O16: 21 | P16: =J16*(O16/100) -> 0 | Q16: =J16+P16 -> 0
E17: Výkaz výměr: | F17: v místě průlehu; 73,99*0,6*1,0 | H17: 44.394
C19: 5 | E19: 122151102 | F19: Odkopávky a prokopávky nezapažené v hornině třídy těžitelnosti I skupiny 1 a 2 objem do 50 m3 strojně | G19: m3 | H19: 45.5 | I19: 0 | J19: =H19*I19 -> 0 | L19: =H19*K19 -> 0 | N19: =H19*M19 -> 0 | O19: 21 | P19: =J19*(O19/100) -> 0 | Q19: =J19+P19 -> 0
E20: Výkaz výměr: | F20: lokální svahování a v místě průlehu; 45,5 | H20: 45.5
C22: 6 | E22: 162251102 | F22: Vodorovné přemístění přes 20 do 50 m výkopku/sypaniny z horniny třídy těžitelnosti I skupiny 1 až 3 | G22: m3 | H22: 89.894 | I22: 0 | J22: =H22*I22 -> 0 | L22: =H22*K22 -> 0 | N22: =H22*M22 -> 0 | O22: 21 | P22: =J22*(O22/100) -> 0 | Q22: =J22+P22 -> 0
E23: Výkaz výměr: | F23: 44,394+45,5 | H23: 89.894
C25: 7 | E25: 167151101 | F25: Nakládání výkopku z hornin třídy těžitelnosti I skupiny 1 až 3 do 100 m3 | G25: m3 | H25: 89.894 | I25: 0 | J25: =H25*I25 -> 0 | L25: =H25*K25 -> 0 | N25: =H25*M25 -> 0 | O25: 21 | P25: =J25*(O25/100) -> 0 | Q25: =J25+P25 -> 0
C26: 8 | E26: 162751117 | F26: Vodorovné přemístění přes 9 000 do 10000 m výkopku/sypaniny z horniny třídy těžitelnosti I skupiny 1 až 3 | G26: m3 | H26: 89.894 | I26: 0 | J26: =H26*I26 -> 0 | L26: =H26*K26 -> 0 | N26: =H26*M26 -> 0 | O26: 21 | P26: =J26*(O26/100) -> 0 | Q26: =J26+P26 -> 0
C27: 9 | E27: 162751119 | F27: Příplatek k vodorovnému přemístění výkopku/sypaniny z horniny třídy těžitelnosti I skupiny 1 až 3 ZKD 1000 m přes 10000 m | G27: m3 | H27: 898.94 | I27: 0 | J27: =H27*I27 -> 0 | L27: =H27*K27 -> 0 | N27: =H27*M27 -> 0 | O27: 21 | P27: =J27*(O27/100) -> 0 | Q27: =J27+P27 -> 0
E28: Výkaz výměr: | F28: 89,894*10 | H28: 898.94
C30: 10 | E30: 171251201 | F30: Uložení sypaniny na skládky nebo meziskládky | G30: m3 | H30: 89.894 | I30: 0 | J30: =H30*I30 -> 0 | L30: =H30*K30 -> 0 | N30: =H30*M30 -> 0 | O30: 21 | P30: =J30*(O30/100) -> 0 | Q30: =J30+P30 -> 0
C31: 11 | E31: 171201231 | F31: Poplatek za uložení zeminy a kamení na recyklační skládce (skládkovné) kód odpadu 17 05 04 | G31: t | H31: 143.8304 | I31: 0 | J31: =H31*I31 -> 0 | L31: =H31*K31 -> 0 | N31: =H31*M31 -> 0 | O31: 21 | P31: =J31*(O31/100) -> 0 | Q31: =J31+P31 -> 0
E32: Výkaz výměr: | F32: 89,894*1,6 | H32: 143.8304
C34: 12 | E34: 181151391 | F34: Plošná úprava terénu do 500 m2 zemina skupiny 1 až 4 nerovnosti přes 100 do 150 mm | G34: m2 | H34: 112.011 | I34: 0 | J34: =H34*I34 -> 0 | L34: =H34*K34 -> 0 | N34: =H34*M34 -> 0 | O34: 21 | P34: =J34*(O34/100) -> 0 | Q34: =J34+P34 -> 0
C35: 13 | E35: 174151101 | F35: Zásyp jam, šachet rýh nebo kolem objektů sypaninou se zhutněním | G35: m3 | H35: 44.394 | I35: 0 | J35: =H35*I35 -> 0 | L35: =H35*K35 -> 0 | N35: =H35*M35 -> 0 | O35: 21 | P35: =J35*(O35/100) -> 0 | Q35: =J35+P35 -> 0
E36: Výkaz výměr: | F36: v místě průlehu; 73,99*0,6*1,0 | H36: 44.394
C38: 14 | E38: 58337993 | F38: Propustná hornina | G38: t | H38: 79.9092 | I38: 0 | J38: =H38*I38 -> 0 | K38: 1 | L38: =H38*K38 -> 79.9092 | N38: =H38*M38 -> 0 | O38: 21 | P38: =J38*(O38/100) -> 0 | Q38: =J38+P38 -> 0
E39: Výkaz výměr: | F39: 44,394*1,8 | H39: 79.9092
C41: 15 | E41: 181311105 | F41: Rozprostření ornice tl vrstvy přes 250 do 300 mm v rovině nebo ve svahu do 1:5 ručně | G41: m2 | H41: 152 | I41: 0 | J41: =H41*I41 -> 0 | L41: =H41*K41 -> 0 | N41: =H41*M41 -> 0 | O41: 21 | P41: =J41*(O41/100) -> 0 | Q41: =J41+P41 -> 0
E42: Výkaz výměr: | F42: kolem krajnic; 152,0*1,0 | H42: 152
C44: 16 | E44: 181411931 | F44: Založení parkového trávníku výsevem pl do 500 m2 | G44: m2 | H44: 152 | I44: 0 | J44: =H44*I44 -> 0 | L44: =H44*K44 -> 0 | N44: =H44*M44 -> 0 | O44: 21 | P44: =J44*(O44/100) -> 0 | Q44: =J44+P44 -> 0
C45: 17 | E45: 00572472 | F45: osivo směs travní | G45: kg | H45: 7.6 | I45: 0 | J45: =H45*I45 -> 0 | L45: =H45*K45 -> 0 | N45: =H45*M45 -> 0 | O45: 21 | P45: =J45*(O45/100) -> 0 | Q45: =J45+P45 -> 0
E46: Výkaz výměr: | F46: 152*0,05 | H46: 7.6
A49: SO 01/002 | B49: 2 | D49: Oddíl | F49: 002: Bourací práce | J49: =SUBTOTAL(9,J50:J73) -> 0 | L49: =SUBTOTAL(9,L50:L73) -> 0 | N49: =SUBTOTAL(9,N50:N73) -> 474.266 | P49: =SUBTOTAL(9,P50:P73) -> 0 | Q49: =SUBTOTAL(9,Q50:Q73) -> 0
C50: 18 | E50: 113106991 | F50: Vybourání zpevněných asfaltových ploch | G50: m2 | H50: 424 | I50: 0 | J50: =H50*I50 -> 0 | L50: =H50*K50 -> 0 | M50: 0.255 | N50: =H50*M50 -> 108.12 | O50: 21 | P50: =J50*(O50/100) -> 0 | Q50: =J50+P50 -> 0
E51: Výkaz výměr: | F51: dle výkresu č.5 - demolice; 424,0 | H51: 424
C53: 19 | E53: 113201112 | F53: Vytrhání obrub silničních a chodníkových | G53: m | H53: 151.4 | I53: 0 | J53: =H53*I53 -> 0 | L53: =H53*K53 -> 0 | M53: 0.29 | N53: =H53*M53 -> 43.906 | O53: 21 | P53: =J53*(O53/100) -> 0 | Q53: =J53+P53 -> 0
E54: Výkaz výměr: | F54: dle výkresu č.5 - demolice; 151,4 | H54: 151.4
C56: 20 | E56: 113182119 | F56: Odstranění podkladů zpevněných ploch z kameniva drceného nebo štěrkopísku | G56: m3 | H56: 169.6 | I56: 0 | J56: =H56*I56 -> 0 | L56: =H56*K56 -> 0 | M56: 1.9 | N56: =H56*M56 -> 322.24 | O56: 21 | P56: =J56*(O56/100) -> 0 | Q56: =J56+P56 -> 0
E57: Výkaz výměr: | F57: dle výkresu č.5 - demolice; 424,0*0,4 | H57: 169.6
...
