Workbook
Name __7DC147B2_4614_48B7_8F22_6CC284377C82_FIGURE__: #REF!
Name __7DC147B2_4614_48B7_8F22_6CC284377C82_ITEM__: Zakázka!$A$8:$Q$11
Name __7DC147B2_4614_48B7_8F22_6CC284377C82_ITEM_GROUP1__: Zakázka!$A$6:$Q$119
Name __7DC147B2_4614_48B7_8F22_6CC284377C82_ITEM_GROUP1_RECAP__: Rekapitulace!$A$6:$F$7
Name __7DC147B2_4614_48B7_8F22_6CC284377C82_ITEM_GROUP2__: Zakázka!$A$7:$Q$48
Name __7DC147B2_4614_48B7_8F22_6CC284377C82_ITEM_GROUP2_RECAP__: Rekapitulace!$A$7:$F$7
Name __7DC147B2_4614_48B7_8F22_6CC284377C82_QBILL__: Zakázka!$F$9:$H$9
Name __7DC147B2_4614_48B7_8F22_6CC284377C82_QBILLFIG__: #REF!
Name __7DC147B2_4614_48B7_8F22_6CC284377C82_QINDEX__: Zakázka!#REF!
Name GROUP_ID: Zakázka!$B$6:$B$120
Name ITEM_PRICES: Zakázka!$J$6:$J$120
Name VAT_RATES: Zakázka!$O$6:$O$120

Sheet Rekapitulace
B1: OBNOVA ZPEVNĚNÉHO POVRCHU AREÁLU ZŠ ROUDNICE NAD LABEM, KRABČICKÁ
B4: Popis | C4: Cena | D4: Hmotnost | E4: DPH | F4: Cena s DPH
A6: SO 01 | B6: SO 01: Obnova zpevněného povrchu | C6: =VLOOKUP($A6,Zakázka!$A:$Q,10,FALSE) -> 0 | D6: =VLOOKUP($A6,Zakázka!$A:$Q,12,FALSE) -> 290.83051 | E6: =VLOOKUP($A6,Zakázka!$A:$Q,16,FALSE) -> 0 | F6: =VLOOKUP($A6,Zakázka!$A:$Q,17,FALSE) -> 0
A7: SO 01/001 | B7: 001: Zemní práce | C7: =VLOOKUP($A7,Zakázka!$A:$Q,10,FALSE) -> 0 | D7: =VLOOKUP($A7,Zakázka!$A:$Q,12,FALSE) -> 79.9092 | E7: =VLOOKUP($A7,Zakázka!$A:$Q,16,FALSE) -> 0 | F7: =VLOOKUP($A7,Zakázka!$A:$Q,17,FALSE) -> 0
A8: SO 01/002 | B8: 002: Bourací práce | C8: =VLOOKUP($A8,Zakázka!$A:$Q,10,FALSE) -> 0 | D8: =VLOOKUP($A8,Zakázka!$A:$Q,12,FALSE) -> 0 | E8: =VLOOKUP($A8,Zakázka!$A:$Q,16,FALSE) -> 0 | F8: =VLOOKUP($A8,Zakázka!$A:$Q,17,FALSE) -> 0
A9: SO 01/0052 | B9: 0052: Dlažba žulová | C9: =VLOOKUP($A9,Zakázka!$A:$Q,10,FALSE) -> 0 | D9: =VLOOKUP($A9,Zakázka!$A:$Q,12,FALSE) -> 210.90259 | E9: =VLOOKUP($A9,Zakázka!$A:$Q,16,FALSE) -> 0 | F9: =VLOOKUP($A9,Zakázka!$A:$Q,17,FALSE) -> 0
A10: SO 01/009 | B10: 009: Ostatní konstrukce a práce | C10: =VLOOKUP($A10,Zakázka!$A:$Q,10,FALSE) -> 0 | D10: =VLOOKUP($A10,Zakázka!$A:$Q,12,FALSE) -> 0 | E10: =VLOOKUP($A10,Zakázka!$A:$Q,16,FALSE) -> 0 | F10: =VLOOKUP($A10,Zakázka!$A:$Q,17,FALSE) -> 0
A11: SO 01/099 | B11: 099: Přesun hmot | C11: =VLOOKUP($A11,Zakázka!$A:$Q,10,FALSE) -> 0 | D11: =VLOOKUP($A11,Zakázka!$A:$Q,12,FALSE) -> 0 | E11: =VLOOKUP($A11,Zakázka!$A:$Q,16,FALSE) -> 0 | F11: =VLOOKUP($A11,Zakázka!$A:$Q,17,FALSE) -> 0
A12: SO 01/711 | B12: 711: Izolace proti vodě, vlhkosti a plynu | C12: =VLOOKUP($A12,Zakázka!$A:$Q,10,FALSE) -> 0 | D12: =VLOOKUP($A12,Zakázka!$A:$Q,12,FALSE) -> 0.01872 | E12: =VLOOKUP($A12,Zakázka!$A:$Q,16,FALSE) -> 0 | F12: =VLOOKUP($A12,Zakázka!$A:$Q,17,FALSE) -> 0
A13: SO 01/VRN | B13: VRN: Vedlejší rozpočtové náklady | C13: =VLOOKUP($A13,Zakázka!$A:$Q,10,FALSE) -> 0 | D13: =VLOOKUP($A13,Zakázka!$A:$Q,12,FALSE) -> 0 | E13: =VLOOKUP($A13,Zakázka!$A:$Q,16,FALSE) -> 0 | F13: =VLOOKUP($A13,Zakázka!$A:$Q,17,FALSE) -> 0
B15: Celkem (bez DPH) | C15: =SUMIF(GROUP_ID,"",ITEM_PRICES) -> 0
B16: DPH 21% | C16: =C15*0.21 -> 0
B19: Celkem (včetně DPH) | C19: =C15+C16 -> 0

Sheet Zakázka
F1: OBNOVA ZPEVNĚNÉHO POVRCHU AREÁLU ZŠ ROUDNICE NAD LABEM, KRABČICKÁ
C4: Poř. | D4: Typ | E4: Kód | F4: Popis | G4: MJ | H4: Výměra | I4: Jedn. Cena | J4: Cena bez DPH | K4: Jedn. hmotn. | L4: Hmotnost | M4: Jedn. suť | N4: Suť | O4: Sazba DPH | P4: DPH | Q4: Cena s DPH
A6: SO 01 | B6: 1 | D6: Objekt | F6: SO 01: Obnova zpevněného povrchu | J6: =SUBTOTAL(9,J7:J119) -> 0 | L6: =SUBTOTAL(9,L7:L119) -> 290.83051 | N6: =SUBTOTAL(9,N7:N119) -> 474.266 | P6: =SUBTOTAL(9,P7:P119) -> 0 | Q6: =SUBTOTAL(9,Q7:Q119) -> 0
A7: SO 01/001 | B7: 2 | D7: Oddíl | F7: 001: Zemní práce | J7: =SUBTOTAL(9,J8:J48) -> 0 | L7: =SUBTOTAL(9,L8:L48) -> 79.9092 | N7: =SUBTOTAL(9,N8:N48) -> 0 | P7: =SUBTOTAL(9,P8:P48) -> 0 | Q7: =SUBTOTAL(9,Q8:Q48) -> 0
C8: 1 | E8: 121151105 | F8: Sejmutí ornice plochy do 100 m2 tl vrstvy přes 250 do 300 mm strojně | G8: m2 | H8: 112.011 | I8: 0 | J8: =H8*I8 -> 0 | L8: =H8*K8 -> 0 | N8: =H8*M8 -> 0 | O8: 21 | P8: =J8*(O8/100) -> 0 | Q8: =J8+P8 -> 0
E9: Výkaz výměr: | F9: plocha zeleně; 73,99*1,2 | H9: 88.788
F10: rozšíření u krajnic; 77,41*0,3 | H10: 23.223
C12: 2 | E12: 162206112 | F12: Vodorovné přemístění do 50 m bez naložení výkopku ze zemin schopných zúrodnění | G12: m3 | H12: 33.6033 | I12: 0 | J12: =H12*I12 -> 0 | L12: =H12*K12 -> 0 | N12: =H12*M12 -> 0 | O12: 21 | P12: =J12*(O12/100) -> 0 | Q12: =J12+P12 -> 0
E13: Výkaz výměr: | F13: 112,011*0,3 | H13: 33.6033
C15: 3 | E15: 171206111 | F15: Uložení zemin schopných zúrodnění nebo výsypek do násypů - ornice k dalšímu použití | G15: m3 | H15: 33.603 | I15: 0 | J15: =H15*I15 -> 0 | L15: =H15*K15 -> 0 | N15: =H15*M15 -> 0 | O15: 21 | P15: =J15*(O15/100) -> 0 | Q15: =J15+P15 -> 0
C16: 4 | E16: 132151102 | F16: Hloubení rýh nezapažených š do 800 mm v hornině třídy těžitelnosti I skupiny 1 a 2 objem do 50 m3 strojně | G16: m3 | H16: 44.394 | I16: 0 | J16: =H16*I16 -> 0 | L16: =H16*K16 -> 0 | N16: =H16*M16 -> 0 | O16: 21 | P16: =J16*(O16/100) -> 0 | Q16: =J16+P16 -> 0
E17: Výkaz výměr: | F17: v místě průlehu; 73,99*0,6*1,0 | H17: 44.394
C19: 5 | E19: 122151102 | F19: Odkopávky a prokopávky nezapažené v hornině třídy těžitelnosti I skupiny 1 a 2 objem do 50 m3 strojně | G19: m3 | H19: 45.5 | I19: 0 | J19: =H19*I19 -> 0 | L19: =H19*K19 -> 0 | N19: =H19*M19 -> 0 | O19: 21 | P19: =J19*(O19/100) -> 0 | Q19: =J19+P19 -> 0
E20: Výkaz výměr: | F20: lokální svahování a v místě průlehu; 45,5 | H20: 45.5
C22: 6 | E22: 162251102 | F22: Vodorovné přemístění přes 20 do 50 m výkopku/sypaniny z horniny třídy těžitelnosti I skupiny 1 až 3 | G22: m3 | H22: 89.894 | I22: 0 | J22: =H22*I22 -> 0 | L22: =H22*K22 -> 0 | N22: =H22*M22 -> 0 | O22: 21 | P22: =J22*(O22/100) -> 0 | Q22: =J22+P22 -> 0
E23: Výkaz výměr: | F23: 44,394+45,5 | H23: 89.894
C25: 7 | E25: 167151101 | F25: Nakládání výkopku z hornin třídy těžitelnosti I skupiny 1 až 3 do 100 m3 | G25: m3 | H25: 89.894 | I25: 0 | J25: =H25*I25 -> 0 | L25: =H25*K25 -> 0 | N25: =H25*M25 -> 0 | O25: 21 | P25: =J25*(O25/100) -> 0 | Q25: =J25+P25 -> 0
C26: 8 | E26: 162751117 | F26: Vodorovné přemístění přes 9 000 do 10000 m výkopku/sypaniny z horniny třídy těžitelnosti I skupiny 1 až 3 | G26: m3 | H26: 89.894 | I26: 0 | J26: =H26*I26 -> 0 | L26: =H26*K26 -> 0 | N26: =H26*M26 -> 0 | O26: 21 | P26: =J26*(O26/100) -> 0 | Q26: =J26+P26 -> 0
C27: 9 | E27: 162751119 | F27: Příplatek k vodorovnému přemístění výkopku/sypaniny z horniny třídy těžitelnosti I skupiny 1 až 3 ZKD 1000 m přes 10000 m | G27: m3 | H27: 898.94 | I27: 0 | J27: =H27*I27 -> 0 | L27: =H27*K27 -> 0 | N27: =H27*M27 -> 0 | O27: 21 | P27: =J27*(O27/100) -> 0 | Q27: =J27+P27 -> 0
E28: Výkaz výměr: | F28: 89,894*10 | H28: 898.94
C30: 10 | E30: 171251201 | F30: Uložení sypaniny na skládky nebo meziskládky | G30: m3 | H30: 89.894 | I30: 0 | J30: =H30*I30 -> 0 | L30: =H30*K30 -> 0 | N30: =H30*M30 -> 0 | O30: 21 | P30: =J30*(O30/100) -> 0 | Q30: =J30+P30 -> 0
C31: 11 | E31: 171201231 | F31: Poplatek za uložení zeminy a kamení na recyklační skládce (skládkovné) kód odpadu 17 05 04 | G31: t | H31: 143.8304 | I31: 0 | J31: =H31*I31 -> 0 | L31: =H31*K31 -> 0 | N31: =H31*M31 -> 0 | O31: 21 | P31: =J31*(O31/100) -> 0 | Q31: =J31+P31 -> 0
E32: Výkaz výměr: | F32: 89,894*1,6 | H32: 143.8304
C34: 12 | E34: 181151391 | F34: Plošná úprava terénu do 500 m2 zemina skupiny 1 až 4 nerovnosti přes 100 do 150 mm | G34: m2 | H34: 112.011 | I34: 0 | J34: =H34*I34 -> 0 | L34: =H34*K34 -> 0 | N34: =H34*M34 -> 0 | O34: 21 | P34: =J34*(O34/100) -> 0 | Q34: =J34+P34 -> 0
C35: 13 | E35: 174151101 | F35: Zásyp jam, šachet rýh nebo kolem objektů sypaninou se zhutněním | G35: m3 | H35: 44.394 | I35: 0 | J35: =H35*I35 -> 0 | L35: =H35*K35 -> 0 | N35: =H35*M35 -> 0 | O35: 21 | P35: =J35*(O35/100) -> 0 | Q35: =J35+P35 -> 0
E36: Výkaz výměr: | F36: v místě průlehu; 73,99*0,6*1,0 | H36: 44.394
C38: 14 | E38: 58337993 | F38: Propustná hornina | G38: t | H38: 79.9092 | I38: 0 | J38: =H38*I38 -> 0 | K38: 1 | L38: =H38*K38 -> 79.9092 | N38: =H38*M38 -> 0 | O38: 21 | P38: =J38*(O38/100) -> 0 | Q38: =J38+P38 -> 0
E39: Výkaz výměr: | F39: 44,394*1,8 | H39: 79.9092
C41: 15 | E41: 181311105 | F41: Rozprostření ornice tl vrstvy přes 250 do 300 mm v rovině nebo ve svahu do 1:5 ručně | G41: m2 | H41: 152 | I41: 0 | J41: =H41*I41 -> 0 | L41: =H41*K41 -> 0 | N41: =H41*M41 -> 0 | O41: 21 | P41: =J41*(O41/100) -> 0 | Q41: =J41+P41 -> 0
E42: Výkaz výměr: | F42: kolem krajnic; 152,0*1,0 | H42: 152
C44: 16 | E44: 181411931 | F44: Založení parkového trávníku výsevem pl do 500 m2 | G44: m2 | H44: 152 | I44: 0 | J44: =H44*I44 -> 0 | L44: =H44*K44 -> 0 | N44: =H44*M44 -> 0 | O44: 21 | P44: =J44*(O44/100) -> 0 | Q44: =J44+P44 -> 0
C45: 17 | E45: 00572472 | F45: osivo směs travní | G45: kg | H45: 7.6 | I45: 0 | J45: =H45*I45 -> 0 | L45: =H45*K45 -> 0 | N45: =H45*M45 -> 0 | O45: 21 | P45: =J45*(O45/100) -> 0 | Q45: =J45+P45 -> 0
E46: Výkaz výměr: | F46: 152*0,05 | H46: 7.6
A49: SO 01/002 | B49: 2 | D49: Oddíl | F49: 002: Bourací práce | J49: =SUBTOTAL(9,J50:J73) -> 0 | L49: =SUBTOTAL(9,L50:L73) -> 0 | N49: =SUBTOTAL(9,N50:N73) -> 474.266 | P49: =SUBTOTAL(9,P50:P73) -> 0 | Q49: =SUBTOTAL(9,Q50:Q73) -> 0
C50: 18 | E50: 113106991 | F50: Vybourání zpevněných asfaltových ploch | G50: m2 | H50: 424 | I50: 0 | J50: =H50*I50 -> 0 | L50: =H50*K50 -> 0 | M50: 0.255 | N50: =H50*M50 -> 108.12 | O50: 21 | P50: =J50*(O50/100) -> 0 | Q50: =J50+P50 -> 0
E51: Výkaz výměr: | F51: dle výkresu č.5 - demolice; 424,0 | H51: 424
C53: 19 | E53: 113201112 | F53: Vytrhání obrub silničních a chodníkových | G53: m | H53: 151.4 | I53: 0 | J53: =H53*I53 -> 0 | L53: =H53*K53 -> 0 | M53: 0.29 | N53: =H53*M53 -> 43.906 | O53: 21 | P53: =J53*(O53/100) -> 0 | Q53: =J53+P53 -> 0
E54: Výkaz výměr: | F54: dle výkresu č.5 - demolice; 151,4 | H54: 151.4
C56: 20 | E56: 113182119 | F56: Odstranění podkladů zpevněných ploch z kameniva drceného nebo štěrkopísku | G56: m3 | H56: 169.6 | I56: 0 | J56: =H56*I56 -> 0 | L56: =H56*K56 -> 0 | M56: 1.9 | N56: =H56*M56 -> 322.24 | O56: 21 | P56: =J56*(O56/100) -> 0 | Q56: =J56+P56 -> 0
E57: Výkaz výměr: | F57: dle výkresu č.5 - demolice; 424,0*0,4 | H57: 169.6
C59: 21 | E59: 160991001 | F59: Vnitrostaveništní přesun vybouraných hmot | G59: m3 | H59: 205.4125 | I59: 0 | J59: =H59*I59 -> 0 | L59: =H59*K59 -> 0 | N59: =H59*M59 -> 0 | O59: 21 | P59: =J59*(O59/100) -> 0 | Q59: =J59+P59 -> 0
E60: Výkaz výměr: | F60: zpevněné plochy; 424,0*0,08 | H60: 33.92
F61: podklad; 169,6 | H61: 169.6
F62: obrubníky; 151,4*0,05*0,25 | H62: 1.8925
C64: 22 | E64: 169991101 | F64: Nakládání vybouraných hmot | G64: m3 | H64: 205.412 | I64: 0 | J64: =H64*I64 -> 0 | L64: =H64*K64 -> 0 | N64: =H64*M64 -> 0 | O64: 21 | P64: =J64*(O64/100) -> 0 | Q64: =J64+P64 -> 0
C65: 23 | E65: 164101117 | F65: Odvoz vybouraných hmot na skládku | G65: m3 | H65: 205.412 | I65: 0 | J65: =H65*I65 -> 0 | L65: =H65*K65 -> 0 | N65: =H65*M65 -> 0 | O65: 21 | P65: =J65*(O65/100) -> 0 | Q65: =J65+P65 -> 0
C66: 24 | E66: 171901231 | F66: Poplatek za uložení na skládce (skládkovné) | G66: t | H66: 360.89125 | I66: 0 | J66: =H66*I66 -> 0 | L66: =H66*K66 -> 0 | N66: =H66*M66 -> 0 | O66: 21 | P66: =J66*(O66/100) -> 0 | Q66: =J66+P66 -> 0
E67: Výkaz výměr: | F67: podklad; 169,6*2,1 | H67: 356.16
F68: obrubníky; 151,4*0,05*0,25*2,5 | H68: 4.73125
C70: 25 | E70: 997013645 | F70: Poplatek za uložení na skládce (skládkovné) odpadu asfaltového bez dehtu | G70: t | H70: 74.624 | I70: 0 | J70: =H70*I70 -> 0 | L70: =H70*K70 -> 0 | N70: =H70*M70 -> 0 | O70: 21 | P70: =J70*(O70/100) -> 0 | Q70: =J70+P70 -> 0
E71: Výkaz výměr: | F71: zpevněné plochy; 424,0*0,08*2,2 | H71: 74.624
A74: SO 01/0052 | B74: 2 | D74: Oddíl | F74: 0052: Dlažba žulová | J74: =SUBTOTAL(9,J75:J96) -> 0 | L74: =SUBTOTAL(9,L75:L96) -> 210.90259 | N74: =SUBTOTAL(9,N75:N96) -> 0 | P74: =SUBTOTAL(9,P75:P96) -> 0 | Q74: =SUBTOTAL(9,Q75:Q96) -> 0
C75: 26 | E75: 564851111 | F75: Podklad ze štěrkodrtě ŠD plochy přes 100 m2 tl 150 mm - frakce 0-63 | G75: m2 | H75: 413 | I75: 0 | J75: =H75*I75 -> 0 | L75: =H75*K75 -> 0 | N75: =H75*M75 -> 0 | O75: 21 | P75: =J75*(O75/100) -> 0 | Q75: =J75+P75 -> 0
E76: Výkaz výměr: | F76: dle výkresu č.1 - situace; 413,0 | H76: 413
C78: 27 | E78: 564851191 | F78: Podklad ze štěrkodrtě ŠD plochy přes 100 m2 tl 150 mm - frakce 0-32 | G78: m2 | H78: 413 | I78: 0 | J78: =H78*I78 -> 0 | L78: =H78*K78 -> 0 | N78: =H78*M78 -> 0 | O78: 21 | P78: =J78*(O78/100) -> 0 | Q78: =J78+P78 -> 0
C79: 28 | E79: 594111112 | F79: Kladení dlažby z lomového kamene tl do 100 mm s provedením lože z kameniva těženého | G79: m2 | H79: 413 | I79: 0 | J79: =H79*I79 -> 0 | K79: 0.1002 | L79: =H79*K79 -> 41.3826 | N79: =H79*M79 -> 0 | O79: 21 | P79: =J79*(O79/100) -> 0 | Q79: =J79+P79 -> 0
E80: Výkaz výměr: | F80: dle výkresu č.1 - situace; 413,0 | H80: 413
C82: 29 | E82: 58381007 | F82: kostka štípaná dlažební žula drobná 8/10 | G82: m2 | H82: 433.65 | I82: 0 | J82: =H82*I82 -> 0 | K82: 0.222 | L82: =H82*K82 -> 96.2703 | N82: =H82*M82 -> 0 | O82: 21 | P82: =J82*(O82/100) -> 0 | Q82: =J82+P82 -> 0
E83: Výkaz výměr: | F83: 413*1,05 | H83: 433.65
C85: 30 | E85: 599432111 | F85: Vyplnění spár dlažby z lomového kamene drobným kamenivem | G85: m2 | H85: 413 | I85: 0 | J85: =H85*I85 -> 0 | K85: 0.05177 | L85: =H85*K85 -> 21.38101 | N85: =H85*M85 -> 0 | O85: 21 | P85: =J85*(O85/100) -> 0 | Q85: =J85+P85 -> 0
C86: 31 | E86: 916241213 | F86: Osazení obrubníku kamenného stojatého s boční opěrou do lože z betonu prostého | G86: m | H86: 191 | I86: 0 | J86: =H86*I86 -> 0 | K86: 0.14067 | L86: =H86*K86 -> 26.86797 | N86: =H86*M86 -> 0 | O86: 21 | P86: =J86*(O86/100) -> 0 | Q86: =J86+P86 -> 0
E87: Výkaz výměr: | F87: dle výkresu č.1 - situace - zapuštěný; 140,6 | H87: 140.6
F88: dle výkresu č.1 - situace - zvýšený; 50,4 | H88: 50.4
C90: 32 | E90: 91624XDOP | F90: Doprava obrubníku z deponie zadavatele na místo stavby a očištění žulových obrubníků | G90: m | H90: 147.63 | I90: 0 | J90: =H90*I90 -> 0 | K90: 0.14067 | L90: =H90*K90 -> 20.767112 | N90: =H90*M90 -> 0 | O90: 21 | P90: =J90*(O90/100) -> 0 | Q90: =J90+P90 -> 0
E91: Výkaz výměr: | F91: dle výkresu č.1 - situace - zapuštěný; 140,6*1,05 | H91: 147.63
C93: 33 | E93: 58380207 | F93: krajník kamenný žulový silniční 160x200x300-800mm | G93: m | H93: 52.92 | I93: 0 | J93: =H93*I93 -> 0 | K93: 0.08 | L93: =H93*K93 -> 4.2336 | N93: =H93*M93 -> 0 | O93: 21 | P93: =J93*(O93/100) -> 0 | Q93: =J93+P93 -> 0
E94: Výkaz výměr: | F94: dle výkresu č.1 - situace - zvýšený; 50,4*1,05 | H94: 52.92
A97: SO 01/009 | B97: 2 | D97: Oddíl | F97: 009: Ostatní konstrukce a práce | J97: =SUBTOTAL(9,J98:J102) -> 0 | L97: =SUBTOTAL(9,L98:L102) -> 0 | N97: =SUBTOTAL(9,N98:N102) -> 0 | P97: =SUBTOTAL(9,P98:P102) -> 0 | Q97: =SUBTOTAL(9,Q98:Q102) -> 0
C98: 34 | E98: 9621 | F98: Výšková úprava poklopu | G98: kus | H98: 1 | I98: 0 | J98: =H98*I98 -> 0 | L98: =H98*K98 -> 0 | N98: =H98*M98 -> 0 | O98: 21 | P98: =J98*(O98/100) -> 0 | Q98: =J98+P98 -> 0
C99: 35 | E99: 9621 | F99: Výšková úprava poklopu šachty | G99: kus | H99: 3 | I99: 0 | J99: =H99*I99 -> 0 | L99: =H99*K99 -> 0 | N99: =H99*M99 -> 0 | O99: 21 | P99: =J99*(O99/100) -> 0 | Q99: =J99+P99 -> 0
C100: 36 | E100: 9622 | F100: Výšková úprava vodovodního šoupěte | G100: kus | H100: 1 | I100: 0 | J100: =H100*I100 -> 0 | L100: =H100*K100 -> 0 | N100: =H100*M100 -> 0 | O100: 21 | P100: =J100*(O100/100) -> 0 | Q100: =J100+P100 -> 0
C101: 37 | E101: 9623 | F101: Výšková úprava uliční vpusti s napojením na stávající trubní vedení | G101: kus | H101: 3 | I101: 0 | J101: =H101*I101 -> 0 | L101: =H101*K101 -> 0 | N101: =H101*M101 -> 0 | O101: 21 | P101: =J101*(O101/100) -> 0 | Q101: =J101+P101 -> 0
A103: SO 01/099 | B103: 2 | D103: Oddíl | F103: 099: Přesun hmot | J103: =SUBTOTAL(9,J104:J105) -> 0 | L103: =SUBTOTAL(9,L104:L105) -> 0 | N103: =SUBTOTAL(9,N104:N105) -> 0 | P103: =SUBTOTAL(9,P104:P105) -> 0 | Q103: =SUBTOTAL(9,Q104:Q105) -> 0
C104: 38 | E104: 998223011 | F104: Přesun hmot pro pozemní komunikace s krytem dlážděným | G104: t | H104: 290.81179 | I104: 0 | J104: =H104*I104 -> 0 | L104: =H104*K104 -> 0 | N104: =H104*M104 -> 0 | O104: 21 | P104: =J104*(O104/100) -> 0 | Q104: =J104+P104 -> 0
A106: SO 01/711 | B106: 2 | D106: Oddíl | F106: 711: Izolace proti vodě, vlhkosti a plynu | J106: =SUBTOTAL(9,J107:J112) -> 0 | L106: =SUBTOTAL(9,L107:L112) -> 0.01872 | N106: =SUBTOTAL(9,N107:N112) -> 0 | P106: =SUBTOTAL(9,P107:P112) -> 0 | Q106: =SUBTOTAL(9,Q107:Q112) -> 0
C107: 39 | E107: 711161212 | F107: Izolace proti zemní vlhkosti nopovou fólií svislá, nopek v 8,0 mm, tl do 0,6 mm | G107: m2 | H107: 26 | I107: 0 | J107: =H107*I107 -> 0 | K107: 0.0004 | L107: =H107*K107 -> 0.0104 | N107: =H107*M107 -> 0 | O107: 21 | P107: =J107*(O107/100) -> 0 | Q107: =J107+P107 -> 0
E108: Výkaz výměr: | F108: 52,0*0,5 | H108: 26
C110: 40 | E110: 711161383 | F110: Izolace proti zemní vlhkosti nopovou fólií ukončení horní lištou | G110: m | H110: 52 | I110: 0 | J110: =H110*I110 -> 0 | K110: 0.00016 | L110: =H110*K110 -> 0.00832 | N110: =H110*M110 -> 0 | O110: 21 | P110: =J110*(O110/100) -> 0 | Q110: =J110+P110 -> 0
C111: 41 | E111: 998711101 | F111: Přesun hmot tonážní pro izolace proti vodě, vlhkosti a plynům v objektech v do 6 m | G111: t | H111: 0.01872 | I111: 0 | J111: =H111*I111 -> 0 | L111: =H111*K111 -> 0 | N111: =H111*M111 -> 0 | O111: 21 | P111: =J111*(O111/100) -> 0 | Q111: =J111+P111 -> 0
A113: SO 01/VRN | B113: 2 | D113: Oddíl | F113: VRN: Vedlejší rozpočtové náklady | J113: =SUBTOTAL(9,J114:J118) -> 0 | L113: =SUBTOTAL(9,L114:L118) -> 0 | N113: =SUBTOTAL(9,N114:N118) -> 0 | P113: =SUBTOTAL(9,P114:P118) -> 0 | Q113: =SUBTOTAL(9,Q114:Q118) -> 0
C114: 42 | E114: 07 | F114: Zařízení staveniště (zřízení, provoz, zabezpečení, odstranění), včetně nákladů na energie pro ZS | G114: % | H114: 0 | I114: 0 | J114: =H114*I114 -> 0 | L114: =H114*K114 -> 0 | N114: =H114*M114 -> 0 | O114: 21 | P114: =J114*(O114/100) -> 0 | Q114: =J114+P114 -> 0
C115: 43 | E115: 04 | F115: Mimostaveništní doprava | G115: % | H115: 0 | I115: 0 | J115: =H115*I115 -> 0 | L115: =H115*K115 -> 0 | N115: =H115*M115 -> 0 | O115: 21 | P115: =J115*(O115/100) -> 0 | Q115: =J115+P115 -> 0
C116: 44 | E116: 040001000 | F116: Inženýrská činnost | G116: % | H116: 0 | I116: 0 | J116: =H116*I116 -> 0 | L116: =H116*K116 -> 0 | N116: =H116*M116 -> 0 | O116: 21 | P116: =J116*(O116/100) -> 0 | Q116: =J116+P116 -> 0
C117: 45 | E117: 012002000 | F117: Geodetické práce | G117: kpl | H117: 1 | I117: 0 | J117: =H117*I117 -> 0 | L117: =H117*K117 -> 0 | N117: =H117*M117 -> 0 | O117: 21 | P117: =J117*(O117/100) -> 0 | Q117: =J117+P117 -> 0
