Workbook

Sheet Rekapitulace stavby
A1: Export Komplet | AZ1: VZ | BA1: 2.0 | BB1: ZAMOK | BT1: False | BU1: False | BV1: {3a9629f7-7b82-448d-ac44-cc4717cd75eb}
BS2: 0,01 | BT2: 21
BS3: 0,01 | BT3: 12
D4: REKAPITULACE STAVBY | AS4: v --- níže se nacházejí doplnkové a pomocné údaje k sestavám --- v | BE4: Návod na vyplnění | BS4: 0,001
D5: Kód: | K5: 038-0-24 | BE5: Měnit lze pouze buňky se žlutým podbarvením!_x000D_ _x000D_ 1) v Rekapitulaci stavby vyplňte údaje o Uchazeči (přenesou se do ostatních sestav i v jiných listech)_x000D_ _x000D_ 2) na vybraných listech vyplňte v sestavě Soupis prací ceny u položek | BS5: 0,01
D6: Stavba: | K6: Roudnice nad Labem - přechody v centru města | BS6: 0,01
D7: KSO: | K7: 822 2 | AK7: CC-CZ: | AN7: 2112 | BS7: 0,01
D8: Místo: | K8: Roudnice nad Labem | AK8: Datum: | AN8: 17. 9. 2024 | BS8: 0,01
BS9: 0,01
D10: Zadavatel: | AK10: IČ: | BS10: 0,01
AK11: DIČ: | BS11: 0,01
BS12: 0,01
D13: Uchazeč: | AK13: IČ: | AN13: Vyplň údaj | BS13: 0,01
E14: Vyplň údaj | AK14: DIČ: | AN14: Vyplň údaj | BS14: 0,01
BS15: False
D16: Projektant: | AK16: IČ: | BS16: False
E17: PK dopravní s.r.o. | AK17: DIČ: | BS17: True
BS18: 0,01
D19: Zpracovatel: | AK19: IČ: | BS19: 0,01
AK20: DIČ: | BS20: True
D22: Poznámka:
E23: Soupis prací je sestaven s využitím Cenové soustavy ÚRS. Položky, které pochází z této cenové soustavy, jsou ve sloupci 'Cenová soustava' označeny popisem 'CS ÚRS' a úrovní příslušného kalendářního pololetí. Veškeré další informace vymezující popis a podmínky použití těchto položek z Cenové soustavy, které nejsou uvedeny přímo v soupisu prací, jsou neomezeně dálkově k dispozici na webu podminky.urs.cz._x000D_ Součástí ceny musí být veškeré náklady, aby cena byla konečná a zahrnovala veškerý materiál a práce potřebné k dokončení díla. Výkazy výměr byly změřeny digitálně v dwg. Pro výběr zhotovitele je soupis prací nedílnou součástí projektové dokumentace a nesmí být použit samostatně._x000D_ Pro potřeby zpracování rozpočtu a výkazu výměr byla použita projektová dokumentace „Roudnice nad Labem - přechody v centru města“. Z jejích příloh byly odměřeny a zjištěny údaje uvedené v tomto výkazu výměr. Jde především o výměry zpevněných ploch, objemy zemních a bouracích prací, výměry nezpevněných ploch, objemy a výměry použitých stavebních prvků, a dále další nezbytné části nutné k dokončení stavby._x000D_
D26: Cena bez DPH | AK26: =ROUND(AG54,2) -> 0
L28: Sazba daně | W28: Základ daně | AK28: Výše daně
D29: DPH | F29: základní | L29: 0.21 | W29: =ROUND(AZ54, 2) -> 0 | AK29: =ROUND(AV54, 2) -> 0
F30: snížená | L30: 0.12 | W30: =ROUND(BA54, 2) -> 0 | AK30: =ROUND(AW54, 2) -> 0
F31: zákl. přenesená | L31: 0.21 | W31: =ROUND(BB54, 2) -> 0 | AK31: 0
F32: sníž. přenesená | L32: 0.12 | W32: =ROUND(BC54, 2) -> 0 | AK32: 0
F33: nulová | L33: 0 | W33: =ROUND(BD54, 2) -> 0 | AK33: 0
D35: Cena s DPH | T35: v | X35: CZK | AK35: =SUM(AK26:AK33) -> 0
C42: REKAPITULACE OBJEKTŮ STAVBY A SOUPISŮ PRACÍ
C44: Kód: | L44: =K5 -> 038-0-24
C45: Stavba: | L45: =K6 -> Roudnice nad Labem - přechody v centru města
C47: Místo: | L47: =IF(K8="","",K8) -> Roudnice nad Labem | AI47: Datum: | AM47: =IF(AN8= "","",AN8) -> 17. 9. 2024
C49: Zadavatel: | L49: =IF(E11= "","",E11) | AI49: Projektant: | AM49: =IF(E17="","",E17) -> PK dopravní s.r.o. | AS49: Informatívní údaje z listů zakázek
C50: Uchazeč: | L50: =IF(E14= "Vyplň údaj","",E14) | AI50: Zpracovatel: | AM50: =IF(E20="","",E20)
C52: Kód | I52: Popis | AG52: Cena bez DPH [CZK] | AN52: Cena s DPH [CZK] | AQ52: Typ | AS52: z toho Ostat._x000D_ náklady [CZK] | AT52: DPH [CZK] | AU52: Normohodiny [h] | AV52: DPH základní [CZK] | AW52: DPH snížená [CZK] | AX52: DPH základní přenesená_x000D_ [CZK] | AY52: DPH snížená přenesená_x000D_ [CZK] | AZ52: Základna_x000D_ DPH základní | BA52: Základna_x000D_ DPH snížená | BB52: Základna_x000D_ DPH zákl. přenesená | BC52: Základna_x000D_ DPH sníž. přenesená | BD52: Základna_x000D_ DPH nulová
C54: Náklady stavby celkem | AG54: =ROUND(AG55+AG59+AG63+AG67,2) -> 0 | AN54: =SUM(AG54,AT54) -> 0 | AS54: =ROUND(AS55+AS59+AS63+AS67,2) -> 0 | AT54: =ROUND(SUM(AV54:AW54),2) -> 0 | AU54: =ROUND(AU55+AU59+AU63+AU67,5) -> 0 | AV54: =ROUND(AZ54*L29,2) -> 0 | AW54: =ROUND(BA54*L30,2) -> 0 | AX54: =ROUND(BB54*L29,2) -> 0 | AY54: =ROUND(BC54*L30,2) -> 0 | AZ54: =ROUND(AZ55+AZ59+AZ63+AZ67,2) -> 0 | BA54: =ROUND(BA55+BA59+BA63+BA67,2) -> 0 | BB54: =ROUND(BB55+BB59+BB63+BB67,2) -> 0 | BC54: =ROUND(BC55+BC59+BC63+BC67,2) -> 0 | BD54: =ROUND(BD55+BD59+BD63+BD67,2) -> 0 | BS54: D | BT54: 0 | BU54: ###NOIMPORT### | BV54: IMPORT | BW54: {3a9629f7-7b82-448d-ac44-cc4717cd75eb} | BX54: {00000000-0000-0000-0000-000000000000} | CL54: 822 2
D55: SO 101 | J55: Přechod pro chodce oblast ´most´ | AG55: =ROUND(SUM(AG56:AG58),2) -> 0 | AN55: =SUM(AG55,AT55) -> 0 | AQ55: ING | AS55: =ROUND(SUM(AS56:AS58),2) -> 0 | AT55: =ROUND(SUM(AV55:AW55),2) -> 0 | AU55: =ROUND(SUM(AU56:AU58),5) -> 0 | AV55: =ROUND(AZ55*L29,2) -> 0 | AW55: =ROUND(BA55*L30,2) -> 0 | AX55: =ROUND(BB55*L29,2) -> 0 | AY55: =ROUND(BC55*L30,2) -> 0 | AZ55: =ROUND(SUM(AZ56:AZ58),2) -> 0 | BA55: =ROUND(SUM(BA56:BA58),2) -> 0 | BB55: =ROUND(SUM(BB56:BB58),2) -> 0 | BC55: =ROUND(SUM(BC56:BC58),2) -> 0 | BD55: =ROUND(SUM(BD56:BD58),2) -> 0 | BS55: D | BT55: 1 | BU55: ###NOIMPORT### | BV55: IMPORT | BW55: {cf7cb2e6-7b9f-4ce9-955e-1e505c57e4a5} | BX55: {3a9629f7-7b82-448d-ac44-cc4717cd75eb} | CL55: 822 2 | CM55: 2
A56: / | E56: SO 101 | K56: Komunikace a zpevněné plochy | AG56: ='SO 101 - Komunikace a zpe...'!J32 -> 0 | AN56: =SUM(AG56,AT56) -> 0 | AQ56: Soupis | AS56: 0 | AT56: =ROUND(SUM(AV56:AW56),2) -> 0 | AU56: ='SO 101 - Komunikace a zpe...'!P94 -> 0 | AV56: ='SO 101 - Komunikace a zpe...'!J35 -> 0 | AW56: ='SO 101 - Komunikace a zpe...'!J36 -> 0 | AX56: ='SO 101 - Komunikace a zpe...'!J37 -> 0 | AY56: ='SO 101 - Komunikace a zpe...'!J38 -> 0 | AZ56: ='SO 101 - Komunikace a zpe...'!F35 -> 0 | BA56: ='SO 101 - Komunikace a zpe...'!F36 -> 0 | BB56: ='SO 101 - Komunikace a zpe...'!F37 -> 0 | BC56: ='SO 101 - Komunikace a zpe...'!F38 -> 0 | BD56: ='SO 101 - Komunikace a zpe...'!F39 -> 0 | BT56: 2 | BV56: IMPORT | BW56: {5f6ade36-b99f-48a2-b81f-3b4cc8b196a1} | BX56: {cf7cb2e6-7b9f-4ce9-955e-1e505c57e4a5} | CL56: 822 2
...

Sheet SO 101 - Komunikace a zpe...
AT2: {5f6ade36-b99f-48a2-b81f-3b4cc8b196a1}
AT3: 2
D4: KRYCÍ LIST SOUPISU PRACÍ | M4: v --- níže se nacházejí doplnkové a pomocné údaje k sestavám --- v | AT4: False
D6: Stavba:
E7: ='Rekapitulace stavby'!K6 -> Roudnice nad Labem - přechody v centru města
D8: Objekt:
E9: SO 101 - Přechod pro chodce oblast ´most´
D10: Soupis:
E11: SO 101 - Komunikace a zpevněné plochy
D13: KSO: | F13: 822 2 | I13: CC-CZ:
D14: Místo: | F14: Roudnice nad Labem | I14: Datum: | J14: ='Rekapitulace stavby'!AN8 -> 17. 9. 2024
D16: Zadavatel: | I16: IČ: | J16: =IF('Rekapitulace stavby'!AN10="","",'Rekapitulace stavby'!AN10)
E17: =IF('Rekapitulace stavby'!E11="","",'Rekapitulace stavby'!E11) | I17: DIČ: | J17: =IF('Rekapitulace stavby'!AN11="","",'Rekapitulace stavby'!AN11)
D19: Uchazeč: | I19: IČ: | J19: ='Rekapitulace stavby'!AN13 -> Vyplň údaj
E20: ='Rekapitulace stavby'!E14 -> Vyplň údaj | I20: DIČ: | J20: ='Rekapitulace stavby'!AN14 -> Vyplň údaj
D22: Projektant: | I22: IČ:
E23: PK dopravní s.r.o. | I23: DIČ:
D25: Zpracovatel: | I25: IČ: | J25: =IF('Rekapitulace stavby'!AN19="","",'Rekapitulace stavby'!AN19)
E26: =IF('Rekapitulace stavby'!E20="","",'Rekapitulace stavby'!E20) | I26: DIČ: | J26: =IF('Rekapitulace stavby'!AN20="","",'Rekapitulace stavby'!AN20)
D28: Poznámka:
D32: Cena bez DPH | J32: =ROUND(J94, 2) -> 0
F34: Základ daně | I34: Sazba daně | J34: Výše daně
D35: DPH | E35: základní | F35: =ROUND((SUM(BE94:BE590)), 2) -> 0 | I35: 0.21 | J35: =ROUND(((SUM(BE94:BE590))*I35), 2) -> 0
E36: snížená | F36: =ROUND((SUM(BF94:BF590)), 2) -> 0 | I36: 0.12 | J36: =ROUND(((SUM(BF94:BF590))*I36), 2) -> 0
E37: zákl. přenesená | F37: =ROUND((SUM(BG94:BG590)), 2) -> 0 | I37: 0.21 | J37: =0 -> 0
E38: sníž. přenesená | F38: =ROUND((SUM(BH94:BH590)), 2) -> 0 | I38: 0.12 | J38: =0 -> 0
E39: nulová | F39: =ROUND((SUM(BI94:BI590)), 2) -> 0 | I39: 0 | J39: =0 -> 0
D41: Cena s DPH | G41: v | H41: CZK | J41: =SUM(J32:J39) -> 0
C47: REKAPITULACE ČLENĚNÍ SOUPISU PRACÍ
C49: Stavba:
E50: =E7 -> Roudnice nad Labem - přechody v centru města
C51: Objekt:
E52: SO 101 - Přechod pro chodce oblast ´most´
C53: Soupis:
E54: =E11 -> SO 101 - Komunikace a zpevněné plochy
C56: Místo: | F56: =F14 -> Roudnice nad Labem | I56: Datum: | J56: =IF(J14="","",J14) -> 17. 9. 2024
C58: Zadavatel: | F58: =E17 | I58: Projektant: | J58: =E23 -> PK dopravní s.r.o.
C59: Uchazeč: | F59: =IF(E20="","",E20) -> Vyplň údaj | I59: Zpracovatel: | J59: =E26
C61: Kód dílu - Popis | J61: Cena celkem [CZK]
C63: Náklady stavby celkem | J63: =J94 -> 0 | AU63: -1
...

Sheet SO 401 - Veřejné osvětlení
AT2: {b61f9c56-c192-4bc7-a384-874d1ef1fb48}
AT3: 2
D4: KRYCÍ LIST SOUPISU PRACÍ | M4: v --- níže se nacházejí doplnkové a pomocné údaje k sestavám --- v | AT4: False
D6: Stavba:
E7: ='Rekapitulace stavby'!K6 -> Roudnice nad Labem - přechody v centru města
D8: Objekt:
E9: SO 101 - Přechod pro chodce oblast ´most´
D10: Soupis:
E11: SO 401 - Veřejné osvětlení
D13: KSO: | I13: CC-CZ:
D14: Místo: | F14: Roudnice nad Labem | I14: Datum: | J14: ='Rekapitulace stavby'!AN8 -> 17. 9. 2024
D16: Zadavatel: | I16: IČ: | J16: =IF('Rekapitulace stavby'!AN10="","",'Rekapitulace stavby'!AN10)
E17: =IF('Rekapitulace stavby'!E11="","",'Rekapitulace stavby'!E11) | I17: DIČ: | J17: =IF('Rekapitulace stavby'!AN11="","",'Rekapitulace stavby'!AN11)
D19: Uchazeč: | I19: IČ: | J19: ='Rekapitulace stavby'!AN13 -> Vyplň údaj
E20: ='Rekapitulace stavby'!E14 -> Vyplň údaj | I20: DIČ: | J20: ='Rekapitulace stavby'!AN14 -> Vyplň údaj
D22: Projektant: | I22: IČ: | J22: =IF('Rekapitulace stavby'!AN16="","",'Rekapitulace stavby'!AN16)
E23: =IF('Rekapitulace stavby'!E17="","",'Rekapitulace stavby'!E17) -> PK dopravní s.r.o. | I23: DIČ: | J23: =IF('Rekapitulace stavby'!AN17="","",'Rekapitulace stavby'!AN17)
D25: Zpracovatel: | I25: IČ: | J25: =IF('Rekapitulace stavby'!AN19="","",'Rekapitulace stavby'!AN19)
E26: =IF('Rekapitulace stavby'!E20="","",'Rekapitulace stavby'!E20) | I26: DIČ: | J26: =IF('Rekapitulace stavby'!AN20="","",'Rekapitulace stavby'!AN20)
D28: Poznámka:
D32: Cena bez DPH | J32: =ROUND(J90, 2) -> 0
F34: Základ daně | I34: Sazba daně | J34: Výše daně
D35: DPH | E35: základní | F35: =ROUND((SUM(BE90:BE201)), 2) -> 0 | I35: 0.21 | J35: =ROUND(((SUM(BE90:BE201))*I35), 2) -> 0
E36: snížená | F36: =ROUND((SUM(BF90:BF201)), 2) -> 0 | I36: 0.12 | J36: =ROUND(((SUM(BF90:BF201))*I36), 2) -> 0
E37: zákl. přenesená | F37: =ROUND((SUM(BG90:BG201)), 2) -> 0 | I37: 0.21 | J37: =0 -> 0
E38: sníž. přenesená | F38: =ROUND((SUM(BH90:BH201)), 2) -> 0 | I38: 0.12 | J38: =0 -> 0
E39: nulová | F39: =ROUND((SUM(BI90:BI201)), 2) -> 0 | I39: 0 | J39: =0 -> 0
D41: Cena s DPH | G41: v | H41: CZK | J41: =SUM(J32:J39) -> 0
C47: REKAPITULACE ČLENĚNÍ SOUPISU PRACÍ
C49: Stavba:
E50: =E7 -> Roudnice nad Labem - přechody v centru města
C51: Objekt:
E52: SO 101 - Přechod pro chodce oblast ´most´
C53: Soupis:
E54: =E11 -> SO 401 - Veřejné osvětlení
C56: Místo: | F56: =F14 -> Roudnice nad Labem | I56: Datum: | J56: =IF(J14="","",J14) -> 17. 9. 2024
C58: Zadavatel: | F58: =E17 | I58: Projektant: | J58: =E23 -> PK dopravní s.r.o.
C59: Uchazeč: | F59: =IF(E20="","",E20) -> Vyplň údaj | I59: Zpracovatel: | J59: =E26
C61: Kód dílu - Popis | J61: Cena celkem [CZK]
C63: Náklady stavby celkem | J63: =J90 -> 0 | AU63: -1
...

Sheet VRN 101 - Vedlejší rozpoč...
AT2: {b72e467f-2a35-4ba7-8352-7cecca9cd774}
AT3: 2
D4: KRYCÍ LIST SOUPISU PRACÍ | M4: v --- níže se nacházejí doplnkové a pomocné údaje k sestavám --- v | AT4: False
D6: Stavba:
E7: ='Rekapitulace stavby'!K6 -> Roudnice nad Labem - přechody v centru města
D8: Objekt:
E9: SO 101 - Přechod pro chodce oblast ´most´
D10: Soupis:
E11: VRN 101 - Vedlejší rozpočtové náklady
D13: KSO: | F13: 822 2 | I13: CC-CZ:
D14: Místo: | F14: Roudnice nad Labem | I14: Datum: | J14: ='Rekapitulace stavby'!AN8 -> 17. 9. 2024
D16: Zadavatel: | I16: IČ: | J16: =IF('Rekapitulace stavby'!AN10="","",'Rekapitulace stavby'!AN10)
E17: =IF('Rekapitulace stavby'!E11="","",'Rekapitulace stavby'!E11) | I17: DIČ: | J17: =IF('Rekapitulace stavby'!AN11="","",'Rekapitulace stavby'!AN11)
D19: Uchazeč: | I19: IČ: | J19: ='Rekapitulace stavby'!AN13 -> Vyplň údaj
E20: ='Rekapitulace stavby'!E14 -> Vyplň údaj | I20: DIČ: | J20: ='Rekapitulace stavby'!AN14 -> Vyplň údaj
D22: Projektant: | I22: IČ:
E23: PK dopravní s.r.o. | I23: DIČ:
D25: Zpracovatel: | I25: IČ: | J25: =IF('Rekapitulace stavby'!AN19="","",'Rekapitulace stavby'!AN19)
E26: =IF('Rekapitulace stavby'!E20="","",'Rekapitulace stavby'!E20) | I26: DIČ: | J26: =IF('Rekapitulace stavby'!AN20="","",'Rekapitulace stavby'!AN20)
D28: Poznámka:
D32: Cena bez DPH | J32: =ROUND(J89, 2) -> 0
F34: Základ daně | I34: Sazba daně | J34: Výše daně
D35: DPH | E35: základní | F35: =ROUND((SUM(BE89:BE114)), 2) -> 0 | I35: 0.21 | J35: =ROUND(((SUM(BE89:BE114))*I35), 2) -> 0
E36: snížená | F36: =ROUND((SUM(BF89:BF114)), 2) -> 0 | I36: 0.12 | J36: =ROUND(((SUM(BF89:BF114))*I36), 2) -> 0
E37: zákl. přenesená | F37: =ROUND((SUM(BG89:BG114)), 2) -> 0 | I37: 0.21 | J37: =0 -> 0
E38: sníž. přenesená | F38: =ROUND((SUM(BH89:BH114)), 2) -> 0 | I38: 0.12 | J38: =0 -> 0
E39: nulová | F39: =ROUND((SUM(BI89:BI114)), 2) -> 0 | I39: 0 | J39: =0 -> 0
D41: Cena s DPH | G41: v | H41: CZK | J41: =SUM(J32:J39) -> 0
C47: REKAPITULACE ČLENĚNÍ SOUPISU PRACÍ
C49: Stavba:
E50: =E7 -> Roudnice nad Labem - přechody v centru města
C51: Objekt:
E52: SO 101 - Přechod pro chodce oblast ´most´
C53: Soupis:
E54: =E11 -> VRN 101 - Vedlejší rozpočtové náklady
C56: Místo: | F56: =F14 -> Roudnice nad Labem | I56: Datum: | J56: =IF(J14="","",J14) -> 17. 9. 2024
C58: Zadavatel: | F58: =E17 | I58: Projektant: | J58: =E23 -> PK dopravní s.r.o.
C59: Uchazeč: | F59: =IF(E20="","",E20) -> Vyplň údaj | I59: Zpracovatel: | J59: =E26
C61: Kód dílu - Popis | J61: Cena celkem [CZK]
C63: Náklady stavby celkem | J63: =J89 -> 0 | AU63: -1
...

Sheet SO 102 - Komunikace a zpe...
AT2: {86ed9295-2494-49aa-b845-a653f316a10d}
AT3: 2
D4: KRYCÍ LIST SOUPISU PRACÍ | M4: v --- níže se nacházejí doplnkové a pomocné údaje k sestavám --- v | AT4: False
D6: Stavba:
E7: ='Rekapitulace stavby'!K6 -> Roudnice nad Labem - přechody v centru města
D8: Objekt:
E9: SO 102 - Přechody u Jana z Dražic
D10: Soupis:
E11: SO 102 - Komunikace a zpevněné plochy
D13: KSO: | F13: 822 2 | I13: CC-CZ:
D14: Místo: | F14: Roudnice nad Labem | I14: Datum: | J14: ='Rekapitulace stavby'!AN8 -> 17. 9. 2024
D16: Zadavatel: | I16: IČ: | J16: =IF('Rekapitulace stavby'!AN10="","",'Rekapitulace stavby'!AN10)
E17: =IF('Rekapitulace stavby'!E11="","",'Rekapitulace stavby'!E11) | I17: DIČ: | J17: =IF('Rekapitulace stavby'!AN11="","",'Rekapitulace stavby'!AN11)
D19: Uchazeč: | I19: IČ: | J19: ='Rekapitulace stavby'!AN13 -> Vyplň údaj
E20: ='Rekapitulace stavby'!E14 -> Vyplň údaj | I20: DIČ: | J20: ='Rekapitulace stavby'!AN14 -> Vyplň údaj
D22: Projektant: | I22: IČ:
E23: PK dopravní s.r.o. | I23: DIČ:
D25: Zpracovatel: | I25: IČ: | J25: =IF('Rekapitulace stavby'!AN19="","",'Rekapitulace stavby'!AN19)
E26: =IF('Rekapitulace stavby'!E20="","",'Rekapitulace stavby'!E20) | I26: DIČ: | J26: =IF('Rekapitulace stavby'!AN20="","",'Rekapitulace stavby'!AN20)
D28: Poznámka:
D32: Cena bez DPH | J32: =ROUND(J92, 2) -> 0
F34: Základ daně | I34: Sazba daně | J34: Výše daně
D35: DPH | E35: základní | F35: =ROUND((SUM(BE92:BE490)), 2) -> 0 | I35: 0.21 | J35: =ROUND(((SUM(BE92:BE490))*I35), 2) -> 0
E36: snížená | F36: =ROUND((SUM(BF92:BF490)), 2) -> 0 | I36: 0.12 | J36: =ROUND(((SUM(BF92:BF490))*I36), 2) -> 0
E37: zákl. přenesená | F37: =ROUND((SUM(BG92:BG490)), 2) -> 0 | I37: 0.21 | J37: =0 -> 0
E38: sníž. přenesená | F38: =ROUND((SUM(BH92:BH490)), 2) -> 0 | I38: 0.12 | J38: =0 -> 0
E39: nulová | F39: =ROUND((SUM(BI92:BI490)), 2) -> 0 | I39: 0 | J39: =0 -> 0
D41: Cena s DPH | G41: v | H41: CZK | J41: =SUM(J32:J39) -> 0
C47: REKAPITULACE ČLENĚNÍ SOUPISU PRACÍ
C49: Stavba:
E50: =E7 -> Roudnice nad Labem - přechody v centru města
C51: Objekt:
E52: SO 102 - Přechody u Jana z Dražic
C53: Soupis:
E54: =E11 -> SO 102 - Komunikace a zpevněné plochy
C56: Místo: | F56: =F14 -> Roudnice nad Labem | I56: Datum: | J56: =IF(J14="","",J14) -> 17. 9. 2024
C58: Zadavatel: | F58: =E17 | I58: Projektant: | J58: =E23 -> PK dopravní s.r.o.
C59: Uchazeč: | F59: =IF(E20="","",E20) -> Vyplň údaj | I59: Zpracovatel: | J59: =E26
C61: Kód dílu - Popis | J61: Cena celkem [CZK]
C63: Náklady stavby celkem | J63: =J92 -> 0 | AU63: -1
...

Sheet SO 402 - Veřejné osvětlení
AT2: {46fed116-8533-4ba5-9585-b3144c58e6d0}
AT3: 2
D4: KRYCÍ LIST SOUPISU PRACÍ | M4: v --- níže se nacházejí doplnkové a pomocné údaje k sestavám --- v | AT4: False
D6: Stavba:
E7: ='Rekapitulace stavby'!K6 -> Roudnice nad Labem - přechody v centru města
D8: Objekt:
E9: SO 102 - Přechody u Jana z Dražic
D10: Soupis:
E11: SO 402 - Veřejné osvětlení
D13: KSO: | I13: CC-CZ:
D14: Místo: | F14: Roudnice nad Labem | I14: Datum: | J14: ='Rekapitulace stavby'!AN8 -> 17. 9. 2024
D16: Zadavatel: | I16: IČ: | J16: =IF('Rekapitulace stavby'!AN10="","",'Rekapitulace stavby'!AN10)
E17: =IF('Rekapitulace stavby'!E11="","",'Rekapitulace stavby'!E11) | I17: DIČ: | J17: =IF('Rekapitulace stavby'!AN11="","",'Rekapitulace stavby'!AN11)
D19: Uchazeč: | I19: IČ: | J19: ='Rekapitulace stavby'!AN13 -> Vyplň údaj
E20: ='Rekapitulace stavby'!E14 -> Vyplň údaj | I20: DIČ: | J20: ='Rekapitulace stavby'!AN14 -> Vyplň údaj
D22: Projektant: | I22: IČ: | J22: =IF('Rekapitulace stavby'!AN16="","",'Rekapitulace stavby'!AN16)
E23: =IF('Rekapitulace stavby'!E17="","",'Rekapitulace stavby'!E17) -> PK dopravní s.r.o. | I23: DIČ: | J23: =IF('Rekapitulace stavby'!AN17="","",'Rekapitulace stavby'!AN17)
D25: Zpracovatel: | I25: IČ: | J25: =IF('Rekapitulace stavby'!AN19="","",'Rekapitulace stavby'!AN19)
E26: =IF('Rekapitulace stavby'!E20="","",'Rekapitulace stavby'!E20) | I26: DIČ: | J26: =IF('Rekapitulace stavby'!AN20="","",'Rekapitulace stavby'!AN20)
D28: Poznámka:
D32: Cena bez DPH | J32: =ROUND(J90, 2) -> 0
F34: Základ daně | I34: Sazba daně | J34: Výše daně
D35: DPH | E35: základní | F35: =ROUND((SUM(BE90:BE200)), 2) -> 0 | I35: 0.21 | J35: =ROUND(((SUM(BE90:BE200))*I35), 2) -> 0
E36: snížená | F36: =ROUND((SUM(BF90:BF200)), 2) -> 0 | I36: 0.12 | J36: =ROUND(((SUM(BF90:BF200))*I36), 2) -> 0
E37: zákl. přenesená | F37: =ROUND((SUM(BG90:BG200)), 2) -> 0 | I37: 0.21 | J37: =0 -> 0
E38: sníž. přenesená | F38: =ROUND((SUM(BH90:BH200)), 2) -> 0 | I38: 0.12 | J38: =0 -> 0
E39: nulová | F39: =ROUND((SUM(BI90:BI200)), 2) -> 0 | I39: 0 | J39: =0 -> 0
D41: Cena s DPH | G41: v | H41: CZK | J41: =SUM(J32:J39) -> 0
C47: REKAPITULACE ČLENĚNÍ SOUPISU PRACÍ
C49: Stavba:
E50: =E7 -> Roudnice nad Labem - přechody v centru města
C51: Objekt:
E52: SO 102 - Přechody u Jana z Dražic
C53: Soupis:
E54: =E11 -> SO 402 - Veřejné osvětlení
C56: Místo: | F56: =F14 -> Roudnice nad Labem | I56: Datum: | J56: =IF(J14="","",J14) -> 17. 9. 2024
C58: Zadavatel: | F58: =E17 | I58: Projektant: | J58: =E23 -> PK dopravní s.r.o.
C59: Uchazeč: | F59: =IF(E20="","",E20) -> Vyplň údaj | I59: Zpracovatel: | J59: =E26
C61: Kód dílu - Popis | J61: Cena celkem [CZK]
C63: Náklady stavby celkem | J63: =J90 -> 0 | AU63: -1
...

Sheet VRN 102 - Vedlejší rozpoč...
AT2: {e94b145e-1ee9-4dd4-893e-0900e85fc80c}
AT3: 2
D4: KRYCÍ LIST SOUPISU PRACÍ | M4: v --- níže se nacházejí doplnkové a pomocné údaje k sestavám --- v | AT4: False
D6: Stavba:
E7: ='Rekapitulace stavby'!K6 -> Roudnice nad Labem - přechody v centru města
D8: Objekt:
E9: SO 102 - Přechody u Jana z Dražic
D10: Soupis:
E11: VRN 102 - Vedlejší rozpočtové náklady
D13: KSO: | F13: 822 2 | I13: CC-CZ:
D14: Místo: | F14: Roudnice nad Labem | I14: Datum: | J14: ='Rekapitulace stavby'!AN8 -> 17. 9. 2024
D16: Zadavatel: | I16: IČ: | J16: =IF('Rekapitulace stavby'!AN10="","",'Rekapitulace stavby'!AN10)
E17: =IF('Rekapitulace stavby'!E11="","",'Rekapitulace stavby'!E11) | I17: DIČ: | J17: =IF('Rekapitulace stavby'!AN11="","",'Rekapitulace stavby'!AN11)
D19: Uchazeč: | I19: IČ: | J19: ='Rekapitulace stavby'!AN13 -> Vyplň údaj
E20: ='Rekapitulace stavby'!E14 -> Vyplň údaj | I20: DIČ: | J20: ='Rekapitulace stavby'!AN14 -> Vyplň údaj
D22: Projektant: | I22: IČ:
E23: PK dopravní s.r.o. | I23: DIČ:
D25: Zpracovatel: | I25: IČ: | J25: =IF('Rekapitulace stavby'!AN19="","",'Rekapitulace stavby'!AN19)
E26: =IF('Rekapitulace stavby'!E20="","",'Rekapitulace stavby'!E20) | I26: DIČ: | J26: =IF('Rekapitulace stavby'!AN20="","",'Rekapitulace stavby'!AN20)
D28: Poznámka:
D32: Cena bez DPH | J32: =ROUND(J89, 2) -> 0
F34: Základ daně | I34: Sazba daně | J34: Výše daně
D35: DPH | E35: základní | F35: =ROUND((SUM(BE89:BE114)), 2) -> 0 | I35: 0.21 | J35: =ROUND(((SUM(BE89:BE114))*I35), 2) -> 0
E36: snížená | F36: =ROUND((SUM(BF89:BF114)), 2) -> 0 | I36: 0.12 | J36: =ROUND(((SUM(BF89:BF114))*I36), 2) -> 0
E37: zákl. přenesená | F37: =ROUND((SUM(BG89:BG114)), 2) -> 0 | I37: 0.21 | J37: =0 -> 0
E38: sníž. přenesená | F38: =ROUND((SUM(BH89:BH114)), 2) -> 0 | I38: 0.12 | J38: =0 -> 0
E39: nulová | F39: =ROUND((SUM(BI89:BI114)), 2) -> 0 | I39: 0 | J39: =0 -> 0
D41: Cena s DPH | G41: v | H41: CZK | J41: =SUM(J32:J39) -> 0
C47: REKAPITULACE ČLENĚNÍ SOUPISU PRACÍ
C49: Stavba:
E50: =E7 -> Roudnice nad Labem - přechody v centru města
C51: Objekt:
E52: SO 102 - Přechody u Jana z Dražic
C53: Soupis:
E54: =E11 -> VRN 102 - Vedlejší rozpočtové náklady
C56: Místo: | F56: =F14 -> Roudnice nad Labem | I56: Datum: | J56: =IF(J14="","",J14) -> 17. 9. 2024
C58: Zadavatel: | F58: =E17 | I58: Projektant: | J58: =E23 -> PK dopravní s.r.o.
C59: Uchazeč: | F59: =IF(E20="","",E20) -> Vyplň údaj | I59: Zpracovatel: | J59: =E26
C61: Kód dílu - Popis | J61: Cena celkem [CZK]
C63: Náklady stavby celkem | J63: =J89 -> 0 | AU63: -1
...

Sheet SO 103 - Komunikace a zpe...
AT2: {baa623cc-9385-4d65-9c08-2e4f5dfc4f55}
AT3: 2
D4: KRYCÍ LIST SOUPISU PRACÍ | M4: v --- níže se nacházejí doplnkové a pomocné údaje k sestavám --- v | AT4: False
D6: Stavba:
E7: ='Rekapitulace stavby'!K6 -> Roudnice nad Labem - přechody v centru města
D8: Objekt:
E9: SO 103 - Místo pro přecházení u pivovaru
D10: Soupis:
E11: SO 103 - Komunikace a zpevněné plochy
D13: KSO: | F13: 822 2 | I13: CC-CZ:
D14: Místo: | F14: Roudnice nad Labem | I14: Datum: | J14: ='Rekapitulace stavby'!AN8 -> 17. 9. 2024
D16: Zadavatel: | I16: IČ: | J16: =IF('Rekapitulace stavby'!AN10="","",'Rekapitulace stavby'!AN10)
E17: =IF('Rekapitulace stavby'!E11="","",'Rekapitulace stavby'!E11) | I17: DIČ: | J17: =IF('Rekapitulace stavby'!AN11="","",'Rekapitulace stavby'!AN11)
D19: Uchazeč: | I19: IČ: | J19: ='Rekapitulace stavby'!AN13 -> Vyplň údaj
E20: ='Rekapitulace stavby'!E14 -> Vyplň údaj | I20: DIČ: | J20: ='Rekapitulace stavby'!AN14 -> Vyplň údaj
D22: Projektant: | I22: IČ:
E23: PK dopravní s.r.o. | I23: DIČ:
D25: Zpracovatel: | I25: IČ: | J25: =IF('Rekapitulace stavby'!AN19="","",'Rekapitulace stavby'!AN19)
E26: =IF('Rekapitulace stavby'!E20="","",'Rekapitulace stavby'!E20) | I26: DIČ: | J26: =IF('Rekapitulace stavby'!AN20="","",'Rekapitulace stavby'!AN20)
D28: Poznámka:
D32: Cena bez DPH | J32: =ROUND(J92, 2) -> 0
F34: Základ daně | I34: Sazba daně | J34: Výše daně
D35: DPH | E35: základní | F35: =ROUND((SUM(BE92:BE390)), 2) -> 0 | I35: 0.21 | J35: =ROUND(((SUM(BE92:BE390))*I35), 2) -> 0
E36: snížená | F36: =ROUND((SUM(BF92:BF390)), 2) -> 0 | I36: 0.12 | J36: =ROUND(((SUM(BF92:BF390))*I36), 2) -> 0
E37: zákl. přenesená | F37: =ROUND((SUM(BG92:BG390)), 2) -> 0 | I37: 0.21 | J37: =0 -> 0
E38: sníž. přenesená | F38: =ROUND((SUM(BH92:BH390)), 2) -> 0 | I38: 0.12 | J38: =0 -> 0
E39: nulová | F39: =ROUND((SUM(BI92:BI390)), 2) -> 0 | I39: 0 | J39: =0 -> 0
D41: Cena s DPH | G41: v | H41: CZK | J41: =SUM(J32:J39) -> 0
C47: REKAPITULACE ČLENĚNÍ SOUPISU PRACÍ
C49: Stavba:
E50: =E7 -> Roudnice nad Labem - přechody v centru města
C51: Objekt:
E52: SO 103 - Místo pro přecházení u pivovaru
C53: Soupis:
E54: =E11 -> SO 103 - Komunikace a zpevněné plochy
C56: Místo: | F56: =F14 -> Roudnice nad Labem | I56: Datum: | J56: =IF(J14="","",J14) -> 17. 9. 2024
C58: Zadavatel: | F58: =E17 | I58: Projektant: | J58: =E23 -> PK dopravní s.r.o.
C59: Uchazeč: | F59: =IF(E20="","",E20) -> Vyplň údaj | I59: Zpracovatel: | J59: =E26
C61: Kód dílu - Popis | J61: Cena celkem [CZK]
C63: Náklady stavby celkem | J63: =J92 -> 0 | AU63: -1
...

Sheet SO 403 - Veřejné osvětlení
AT2: {9b2e04c5-555c-441a-8258-b28a8eaa1d61}
AT3: 2
D4: KRYCÍ LIST SOUPISU PRACÍ | M4: v --- níže se nacházejí doplnkové a pomocné údaje k sestavám --- v | AT4: False
D6: Stavba:
E7: ='Rekapitulace stavby'!K6 -> Roudnice nad Labem - přechody v centru města
D8: Objekt:
E9: SO 103 - Místo pro přecházení u pivovaru
D10: Soupis:
E11: SO 403 - Veřejné osvětlení
D13: KSO: | I13: CC-CZ:
D14: Místo: | F14: Roudnice nad Labem | I14: Datum: | J14: ='Rekapitulace stavby'!AN8 -> 17. 9. 2024
D16: Zadavatel: | I16: IČ: | J16: =IF('Rekapitulace stavby'!AN10="","",'Rekapitulace stavby'!AN10)
E17: =IF('Rekapitulace stavby'!E11="","",'Rekapitulace stavby'!E11) | I17: DIČ: | J17: =IF('Rekapitulace stavby'!AN11="","",'Rekapitulace stavby'!AN11)
D19: Uchazeč: | I19: IČ: | J19: ='Rekapitulace stavby'!AN13 -> Vyplň údaj
E20: ='Rekapitulace stavby'!E14 -> Vyplň údaj | I20: DIČ: | J20: ='Rekapitulace stavby'!AN14 -> Vyplň údaj
D22: Projektant: | I22: IČ: | J22: =IF('Rekapitulace stavby'!AN16="","",'Rekapitulace stavby'!AN16)
E23: =IF('Rekapitulace stavby'!E17="","",'Rekapitulace stavby'!E17) -> PK dopravní s.r.o. | I23: DIČ: | J23: =IF('Rekapitulace stavby'!AN17="","",'Rekapitulace stavby'!AN17)
D25: Zpracovatel: | I25: IČ: | J25: =IF('Rekapitulace stavby'!AN19="","",'Rekapitulace stavby'!AN19)
E26: =IF('Rekapitulace stavby'!E20="","",'Rekapitulace stavby'!E20) | I26: DIČ: | J26: =IF('Rekapitulace stavby'!AN20="","",'Rekapitulace stavby'!AN20)
D28: Poznámka:
D32: Cena bez DPH | J32: =ROUND(J90, 2) -> 0
F34: Základ daně | I34: Sazba daně | J34: Výše daně
D35: DPH | E35: základní | F35: =ROUND((SUM(BE90:BE184)), 2) -> 0 | I35: 0.21 | J35: =ROUND(((SUM(BE90:BE184))*I35), 2) -> 0
E36: snížená | F36: =ROUND((SUM(BF90:BF184)), 2) -> 0 | I36: 0.12 | J36: =ROUND(((SUM(BF90:BF184))*I36), 2) -> 0
E37: zákl. přenesená | F37: =ROUND((SUM(BG90:BG184)), 2) -> 0 | I37: 0.21 | J37: =0 -> 0
E38: sníž. přenesená | F38: =ROUND((SUM(BH90:BH184)), 2) -> 0 | I38: 0.12 | J38: =0 -> 0
E39: nulová | F39: =ROUND((SUM(BI90:BI184)), 2) -> 0 | I39: 0 | J39: =0 -> 0
D41: Cena s DPH | G41: v | H41: CZK | J41: =SUM(J32:J39) -> 0
C47: REKAPITULACE ČLENĚNÍ SOUPISU PRACÍ
C49: Stavba:
E50: =E7 -> Roudnice nad Labem - přechody v centru města
C51: Objekt:
E52: SO 103 - Místo pro přecházení u pivovaru
C53: Soupis:
E54: =E11 -> SO 403 - Veřejné osvětlení
C56: Místo: | F56: =F14 -> Roudnice nad Labem | I56: Datum: | J56: =IF(J14="","",J14) -> 17. 9. 2024
C58: Zadavatel: | F58: =E17 | I58: Projektant: | J58: =E23 -> PK dopravní s.r.o.
C59: Uchazeč: | F59: =IF(E20="","",E20) -> Vyplň údaj | I59: Zpracovatel: | J59: =E26
C61: Kód dílu - Popis | J61: Cena celkem [CZK]
C63: Náklady stavby celkem | J63: =J90 -> 0 | AU63: -1
...

Sheet VRN 103 - Vedlejší rozpoč...
AT2: {395f266f-dc06-466a-ad47-85c190fedf91}
AT3: 2
D4: KRYCÍ LIST SOUPISU PRACÍ | M4: v --- níže se nacházejí doplnkové a pomocné údaje k sestavám --- v | AT4: False
D6: Stavba:
E7: ='Rekapitulace stavby'!K6 -> Roudnice nad Labem - přechody v centru města
D8: Objekt:
E9: SO 103 - Místo pro přecházení u pivovaru
D10: Soupis:
E11: VRN 103 - Vedlejší rozpočtové náklady
D13: KSO: | F13: 822 2 | I13: CC-CZ:
D14: Místo: | F14: Roudnice nad Labem | I14: Datum: | J14: ='Rekapitulace stavby'!AN8 -> 17. 9. 2024
D16: Zadavatel: | I16: IČ: | J16: =IF('Rekapitulace stavby'!AN10="","",'Rekapitulace stavby'!AN10)
E17: =IF('Rekapitulace stavby'!E11="","",'Rekapitulace stavby'!E11) | I17: DIČ: | J17: =IF('Rekapitulace stavby'!AN11="","",'Rekapitulace stavby'!AN11)
D19: Uchazeč: | I19: IČ: | J19: ='Rekapitulace stavby'!AN13 -> Vyplň údaj
E20: ='Rekapitulace stavby'!E14 -> Vyplň údaj | I20: DIČ: | J20: ='Rekapitulace stavby'!AN14 -> Vyplň údaj
D22: Projektant: | I22: IČ:
E23: PK dopravní s.r.o. | I23: DIČ:
D25: Zpracovatel: | I25: IČ: | J25: =IF('Rekapitulace stavby'!AN19="","",'Rekapitulace stavby'!AN19)
E26: =IF('Rekapitulace stavby'!E20="","",'Rekapitulace stavby'!E20) | I26: DIČ: | J26: =IF('Rekapitulace stavby'!AN20="","",'Rekapitulace stavby'!AN20)
D28: Poznámka:
D32: Cena bez DPH | J32: =ROUND(J89, 2) -> 0
F34: Základ daně | I34: Sazba daně | J34: Výše daně
D35: DPH | E35: základní | F35: =ROUND((SUM(BE89:BE114)), 2) -> 0 | I35: 0.21 | J35: =ROUND(((SUM(BE89:BE114))*I35), 2) -> 0
E36: snížená | F36: =ROUND((SUM(BF89:BF114)), 2) -> 0 | I36: 0.12 | J36: =ROUND(((SUM(BF89:BF114))*I36), 2) -> 0
E37: zákl. přenesená | F37: =ROUND((SUM(BG89:BG114)), 2) -> 0 | I37: 0.21 | J37: =0 -> 0
E38: sníž. přenesená | F38: =ROUND((SUM(BH89:BH114)), 2) -> 0 | I38: 0.12 | J38: =0 -> 0
E39: nulová | F39: =ROUND((SUM(BI89:BI114)), 2) -> 0 | I39: 0 | J39: =0 -> 0
D41: Cena s DPH | G41: v | H41: CZK | J41: =SUM(J32:J39) -> 0
C47: REKAPITULACE ČLENĚNÍ SOUPISU PRACÍ
C49: Stavba:
E50: =E7 -> Roudnice nad Labem - přechody v centru města
C51: Objekt:
E52: SO 103 - Místo pro přecházení u pivovaru
C53: Soupis:
E54: =E11 -> VRN 103 - Vedlejší rozpočtové náklady
C56: Místo: | F56: =F14 -> Roudnice nad Labem | I56: Datum: | J56: =IF(J14="","",J14) -> 17. 9. 2024
C58: Zadavatel: | F58: =E17 | I58: Projektant: | J58: =E23 -> PK dopravní s.r.o.
C59: Uchazeč: | F59: =IF(E20="","",E20) -> Vyplň údaj | I59: Zpracovatel: | J59: =E26
C61: Kód dílu - Popis | J61: Cena celkem [CZK]
C63: Náklady stavby celkem | J63: =J89 -> 0 | AU63: -1
...

Sheet SO 104 - Komunikace a zpe...
AT2: {f404ace3-3ca7-455a-8106-887307fc7958}
AT3: 2
D4: KRYCÍ LIST SOUPISU PRACÍ | M4: v --- níže se nacházejí doplnkové a pomocné údaje k sestavám --- v | AT4: False
D6: Stavba:
E7: ='Rekapitulace stavby'!K6 -> Roudnice nad Labem - přechody v centru města
D8: Objekt:
E9: SO 104 - Místo pro přecházení ´u Bakera´
D10: Soupis:
E11: SO 104 - Komunikace a zpevněné plochy
D13: KSO: | F13: 822 2 | I13: CC-CZ:
D14: Místo: | F14: Roudnice nad Labem | I14: Datum: | J14: ='Rekapitulace stavby'!AN8 -> 17. 9. 2024
D16: Zadavatel: | I16: IČ: | J16: =IF('Rekapitulace stavby'!AN10="","",'Rekapitulace stavby'!AN10)
E17: =IF('Rekapitulace stavby'!E11="","",'Rekapitulace stavby'!E11) | I17: DIČ: | J17: =IF('Rekapitulace stavby'!AN11="","",'Rekapitulace stavby'!AN11)
D19: Uchazeč: | I19: IČ: | J19: ='Rekapitulace stavby'!AN13 -> Vyplň údaj
E20: ='Rekapitulace stavby'!E14 -> Vyplň údaj | I20: DIČ: | J20: ='Rekapitulace stavby'!AN14 -> Vyplň údaj
D22: Projektant: | I22: IČ:
E23: PK dopravní s.r.o. | I23: DIČ:
D25: Zpracovatel: | I25: IČ: | J25: =IF('Rekapitulace stavby'!AN19="","",'Rekapitulace stavby'!AN19)
E26: =IF('Rekapitulace stavby'!E20="","",'Rekapitulace stavby'!E20) | I26: DIČ: | J26: =IF('Rekapitulace stavby'!AN20="","",'Rekapitulace stavby'!AN20)
D28: Poznámka:
D32: Cena bez DPH | J32: =ROUND(J97, 2) -> 0
F34: Základ daně | I34: Sazba daně | J34: Výše daně
D35: DPH | E35: základní | F35: =ROUND((SUM(BE97:BE487)), 2) -> 0 | I35: 0.21 | J35: =ROUND(((SUM(BE97:BE487))*I35), 2) -> 0
E36: snížená | F36: =ROUND((SUM(BF97:BF487)), 2) -> 0 | I36: 0.12 | J36: =ROUND(((SUM(BF97:BF487))*I36), 2) -> 0
E37: zákl. přenesená | F37: =ROUND((SUM(BG97:BG487)), 2) -> 0 | I37: 0.21 | J37: =0 -> 0
E38: sníž. přenesená | F38: =ROUND((SUM(BH97:BH487)), 2) -> 0 | I38: 0.12 | J38: =0 -> 0
E39: nulová | F39: =ROUND((SUM(BI97:BI487)), 2) -> 0 | I39: 0 | J39: =0 -> 0
D41: Cena s DPH | G41: v | H41: CZK | J41: =SUM(J32:J39) -> 0
C47: REKAPITULACE ČLENĚNÍ SOUPISU PRACÍ
C49: Stavba:
E50: =E7 -> Roudnice nad Labem - přechody v centru města
C51: Objekt:
E52: SO 104 - Místo pro přecházení ´u Bakera´
C53: Soupis:
E54: =E11 -> SO 104 - Komunikace a zpevněné plochy
C56: Místo: | F56: =F14 -> Roudnice nad Labem | I56: Datum: | J56: =IF(J14="","",J14) -> 17. 9. 2024
C58: Zadavatel: | F58: =E17 | I58: Projektant: | J58: =E23 -> PK dopravní s.r.o.
C59: Uchazeč: | F59: =IF(E20="","",E20) -> Vyplň údaj | I59: Zpracovatel: | J59: =E26
C61: Kód dílu - Popis | J61: Cena celkem [CZK]
C63: Náklady stavby celkem | J63: =J97 -> 0 | AU63: -1
...

Sheet SO 404 - Veřejné osvětlení
AT2: {322d53f4-53d2-4c5a-a092-7ff9b320e86f}
AT3: 2
D4: KRYCÍ LIST SOUPISU PRACÍ | M4: v --- níže se nacházejí doplnkové a pomocné údaje k sestavám --- v | AT4: False
D6: Stavba:
E7: ='Rekapitulace stavby'!K6 -> Roudnice nad Labem - přechody v centru města
D8: Objekt:
E9: SO 104 - Místo pro přecházení ´u Bakera´
D10: Soupis:
E11: SO 404 - Veřejné osvětlení
D13: KSO: | I13: CC-CZ:
D14: Místo: | F14: Roudnice nad Labem | I14: Datum: | J14: ='Rekapitulace stavby'!AN8 -> 17. 9. 2024
D16: Zadavatel: | I16: IČ: | J16: =IF('Rekapitulace stavby'!AN10="","",'Rekapitulace stavby'!AN10)
E17: =IF('Rekapitulace stavby'!E11="","",'Rekapitulace stavby'!E11) | I17: DIČ: | J17: =IF('Rekapitulace stavby'!AN11="","",'Rekapitulace stavby'!AN11)
D19: Uchazeč: | I19: IČ: | J19: ='Rekapitulace stavby'!AN13 -> Vyplň údaj
E20: ='Rekapitulace stavby'!E14 -> Vyplň údaj | I20: DIČ: | J20: ='Rekapitulace stavby'!AN14 -> Vyplň údaj
D22: Projektant: | I22: IČ: | J22: =IF('Rekapitulace stavby'!AN16="","",'Rekapitulace stavby'!AN16)
E23: =IF('Rekapitulace stavby'!E17="","",'Rekapitulace stavby'!E17) -> PK dopravní s.r.o. | I23: DIČ: | J23: =IF('Rekapitulace stavby'!AN17="","",'Rekapitulace stavby'!AN17)
D25: Zpracovatel: | I25: IČ: | J25: =IF('Rekapitulace stavby'!AN19="","",'Rekapitulace stavby'!AN19)
E26: =IF('Rekapitulace stavby'!E20="","",'Rekapitulace stavby'!E20) | I26: DIČ: | J26: =IF('Rekapitulace stavby'!AN20="","",'Rekapitulace stavby'!AN20)
D28: Poznámka:
D32: Cena bez DPH | J32: =ROUND(J90, 2) -> 0
F34: Základ daně | I34: Sazba daně | J34: Výše daně
D35: DPH | E35: základní | F35: =ROUND((SUM(BE90:BE181)), 2) -> 0 | I35: 0.21 | J35: =ROUND(((SUM(BE90:BE181))*I35), 2) -> 0
E36: snížená | F36: =ROUND((SUM(BF90:BF181)), 2) -> 0 | I36: 0.12 | J36: =ROUND(((SUM(BF90:BF181))*I36), 2) -> 0
E37: zákl. přenesená | F37: =ROUND((SUM(BG90:BG181)), 2) -> 0 | I37: 0.21 | J37: =0 -> 0
E38: sníž. přenesená | F38: =ROUND((SUM(BH90:BH181)), 2) -> 0 | I38: 0.12 | J38: =0 -> 0
E39: nulová | F39: =ROUND((SUM(BI90:BI181)), 2) -> 0 | I39: 0 | J39: =0 -> 0
D41: Cena s DPH | G41: v | H41: CZK | J41: =SUM(J32:J39) -> 0
C47: REKAPITULACE ČLENĚNÍ SOUPISU PRACÍ
C49: Stavba:
E50: =E7 -> Roudnice nad Labem - přechody v centru města
C51: Objekt:
E52: SO 104 - Místo pro přecházení ´u Bakera´
C53: Soupis:
E54: =E11 -> SO 404 - Veřejné osvětlení
C56: Místo: | F56: =F14 -> Roudnice nad Labem | I56: Datum: | J56: =IF(J14="","",J14) -> 17. 9. 2024
C58: Zadavatel: | F58: =E17 | I58: Projektant: | J58: =E23 -> PK dopravní s.r.o.
C59: Uchazeč: | F59: =IF(E20="","",E20) -> Vyplň údaj | I59: Zpracovatel: | J59: =E26
C61: Kód dílu - Popis | J61: Cena celkem [CZK]
C63: Náklady stavby celkem | J63: =J90 -> 0 | AU63: -1
...

Sheet VRN 104 - Vedlejší rozpoč...
AT2: {65c002a1-b76d-4248-b15a-987b1eb52502}
AT3: 2
D4: KRYCÍ LIST SOUPISU PRACÍ | M4: v --- níže se nacházejí doplnkové a pomocné údaje k sestavám --- v | AT4: False
D6: Stavba:
E7: ='Rekapitulace stavby'!K6 -> Roudnice nad Labem - přechody v centru města
D8: Objekt:
E9: SO 104 - Místo pro přecházení ´u Bakera´
D10: Soupis:
E11: VRN 104 - Vedlejší rozpočtové náklady
D13: KSO: | F13: 822 2 | I13: CC-CZ:
D14: Místo: | F14: Roudnice nad Labem | I14: Datum: | J14: ='Rekapitulace stavby'!AN8 -> 17. 9. 2024
D16: Zadavatel: | I16: IČ: | J16: =IF('Rekapitulace stavby'!AN10="","",'Rekapitulace stavby'!AN10)
E17: =IF('Rekapitulace stavby'!E11="","",'Rekapitulace stavby'!E11) | I17: DIČ: | J17: =IF('Rekapitulace stavby'!AN11="","",'Rekapitulace stavby'!AN11)
D19: Uchazeč: | I19: IČ: | J19: ='Rekapitulace stavby'!AN13 -> Vyplň údaj
E20: ='Rekapitulace stavby'!E14 -> Vyplň údaj | I20: DIČ: | J20: ='Rekapitulace stavby'!AN14 -> Vyplň údaj
D22: Projektant: | I22: IČ:
E23: PK dopravní s.r.o. | I23: DIČ:
D25: Zpracovatel: | I25: IČ: | J25: =IF('Rekapitulace stavby'!AN19="","",'Rekapitulace stavby'!AN19)
E26: =IF('Rekapitulace stavby'!E20="","",'Rekapitulace stavby'!E20) | I26: DIČ: | J26: =IF('Rekapitulace stavby'!AN20="","",'Rekapitulace stavby'!AN20)
D28: Poznámka:
D32: Cena bez DPH | J32: =ROUND(J89, 2) -> 0
F34: Základ daně | I34: Sazba daně | J34: Výše daně
D35: DPH | E35: základní | F35: =ROUND((SUM(BE89:BE114)), 2) -> 0 | I35: 0.21 | J35: =ROUND(((SUM(BE89:BE114))*I35), 2) -> 0
E36: snížená | F36: =ROUND((SUM(BF89:BF114)), 2) -> 0 | I36: 0.12 | J36: =ROUND(((SUM(BF89:BF114))*I36), 2) -> 0
E37: zákl. přenesená | F37: =ROUND((SUM(BG89:BG114)), 2) -> 0 | I37: 0.21 | J37: =0 -> 0
E38: sníž. přenesená | F38: =ROUND((SUM(BH89:BH114)), 2) -> 0 | I38: 0.12 | J38: =0 -> 0
E39: nulová | F39: =ROUND((SUM(BI89:BI114)), 2) -> 0 | I39: 0 | J39: =0 -> 0
D41: Cena s DPH | G41: v | H41: CZK | J41: =SUM(J32:J39) -> 0
C47: REKAPITULACE ČLENĚNÍ SOUPISU PRACÍ
C49: Stavba:
E50: =E7 -> Roudnice nad Labem - přechody v centru města
C51: Objekt:
E52: SO 104 - Místo pro přecházení ´u Bakera´
C53: Soupis:
E54: =E11 -> VRN 104 - Vedlejší rozpočtové náklady
C56: Místo: | F56: =F14 -> Roudnice nad Labem | I56: Datum: | J56: =IF(J14="","",J14) -> 17. 9. 2024
C58: Zadavatel: | F58: =E17 | I58: Projektant: | J58: =E23 -> PK dopravní s.r.o.
C59: Uchazeč: | F59: =IF(E20="","",E20) -> Vyplň údaj | I59: Zpracovatel: | J59: =E26
C61: Kód dílu - Popis | J61: Cena celkem [CZK]
C63: Náklady stavby celkem | J63: =J89 -> 0 | AU63: -1
...

Sheet Pokyny pro vyplnění
C3: Struktura údajů, formát souboru a metodika pro zpracování
C4: Struktura
C6: Soubor je složen ze záložky Rekapitulace stavby a záložek s názvem soupisu prací pro jednotlivé objekty ve formátu XLSX. Každá ze záložek přitom obsahuje
C7: ještě samostatné sestavy vymezené orámovaním a nadpisem sestavy.
C9: Rekapitulace stavby obsahuje sestavu Rekapitulace stavby a Rekapitulace objektů stavby a soupisů prací.
D10: V sestavě Rekapitulace stavby jsou uvedeny informace identifikující předmět veřejné zakázky na stavební práce, KSO, CC-CZ, CZ-CPV, CZ-CPA a rekapitulaci
D11: celkové nabídkové ceny uchazeče.
D13: Termínem "uchazeč" (resp. zhotovitel) se myslí "účastník zadávacího řízení" ve smyslu zákona o zadávání veřejných zakázek.
D15: V sestavě Rekapitulace objektů stavby a soupisů prací je uvedena rekapitulace stavebních objektů, inženýrských objektů, provozních souborů,
D16: vedlejších a ostatních nákladů a ostatních nákladů s rekapitulací nabídkové ceny za jednotlivé soupisy prací. Na základě údaje Typ je možné
D17: identifikovat, zda se jedná o objekt nebo soupis prací pro daný objekt:
E18: STA | F18: Stavební objekt pozemní
E19: ING | F19: Stavební objekt inženýrský
E20: PRO | F20: Provozní soubor
E21: VON | F21: Vedlejší a ostatní náklady
E22: OST | F22: Ostatní
E23: Soupis | F23: Soupis prací pro daný typ objektu
C25: Soupis prací pro jednotlivé objekty obsahuje sestavy Krycí list soupisu prací, Rekapitulace členění soupisu prací, Soupis prací. Za soupis prací může být považován
C26: i objekt stavby v případě, že neobsahuje podřízenou zakázku.
D27: Krycí list soupisu obsahuje rekapitulaci informací o předmětu veřejné zakázky ze sestavy Rekapitulace stavby, informaci o zařazení objektu do KSO,
D28: CC-CZ, CZ-CPV, CZ-CPA a rekapitulaci celkové nabídkové ceny uchazeče za aktuální soupis prací.
D30: Rekapitulace členění soupisu prací obsahuje rekapitulaci soupisu prací ve všech úrovních členění soupisu tak, jak byla tato členění použita (např.
D31: stavební díly, funkční díly, případně jiné členění) s rekapitulací nabídkové ceny.
D33: Soupis prací obsahuje položky veškerých stavebních nebo montážních prací, dodávek materiálů a služeb nezbytných pro zhotovení stavebního objektu,
D34: inženýrského objektu, provozního souboru, vedlejších a ostatních nákladů.
D35: Pro položky soupisu prací se zobrazují následující informace:
E36: PČ | G36: Pořadové číslo položky v aktuálním soupisu
E37: TYP | G37: Typ položky: K - konstrukce, M - materiál, PP - plný popis, PSC - poznámka k souboru cen, P - poznámka k položce, VV - výkaz výměr, FIG - rozpad figur
E38: Kód | G38: Kód položky
E39: Popis | G39: Zkrácený popis položky
E40: MJ | G40: Měrná jednotka položky
E41: Množství | G41: Množství v měrné jednotce
E42: J.cena | G42: Jednotková cena položky. Zadaní může obsahovat namísto J.ceny sloupce J.materiál a J.montáž, jejichž součet definuje
G43: J.cenu položky.
E44: Cena celkem | G44: Celková cena položky daná jako součin množství a j.ceny
E45: Cenová soustava | G45: Příslušnost položky do cenové soustavy
D47: Ke každé položce soupisu prací se na samostatných řádcích může zobrazovat:
E48: Plný popis položky
E49: Poznámka k souboru cen a poznámka zadavatele
E50: Výkaz výměr
...
