Workbook

Sheet Rekapitulace stavby
A1: Export Komplet | AZ1: VZ | BA1: 2.0 | BB1: ZAMOK | BT1: False | BU1: False | BV1: {3a9629f7-7b82-448d-ac44-cc4717cd75eb}
BS2: 0,01 | BT2: 21
BS3: 0,01 | BT3: 12
D4: REKAPITULACE STAVBY | AS4: v --- níže se nacházejí doplnkové a pomocné údaje k sestavám --- v | BE4: Návod na vyplnění | BS4: 0,001
D5: Kód: | K5: 038-0-24 | BE5: Měnit lze pouze buňky se žlutým podbarvením!_x000D_ _x000D_ 1) v Rekapitulaci stavby vyplňte údaje o Uchazeči (přenesou se do ostatních sestav i v jiných listech)_x000D_ _x000D_ 2) na vybraných listech vyplňte v sestavě Soupis prací ceny u položek | BS5: 0,01
D6: Stavba: | K6: Roudnice nad Labem - přechody v centru města | BS6: 0,01
D7: KSO: | K7: 822 2 | AK7: CC-CZ: | AN7: 2112 | BS7: 0,01
D8: Místo: | K8: Roudnice nad Labem | AK8: Datum: | AN8: 17. 9. 2024 | BS8: 0,01
BS9: 0,01
D10: Zadavatel: | AK10: IČ: | BS10: 0,01
AK11: DIČ: | BS11: 0,01
BS12: 0,01
D13: Uchazeč: | AK13: IČ: | AN13: Vyplň údaj | BS13: 0,01
E14: Vyplň údaj | AK14: DIČ: | AN14: Vyplň údaj | BS14: 0,01
BS15: False
D16: Projektant: | AK16: IČ: | BS16: False
E17: PK dopravní s.r.o. | AK17: DIČ: | BS17: True
BS18: 0,01
D19: Zpracovatel: | AK19: IČ: | BS19: 0,01
AK20: DIČ: | BS20: True
D22: Poznámka:
E23: Soupis prací je sestaven s využitím Cenové soustavy ÚRS. Položky, které pochází z této cenové soustavy, jsou ve sloupci 'Cenová soustava' označeny popisem 'CS ÚRS' a úrovní příslušného kalendářního pololetí. Veškeré další informace vymezující popis a podmínky použití těchto položek z Cenové soustavy, které nejsou uvedeny přímo v soupisu prací, jsou neomezeně dálkově k dispozici na webu podminky.urs.cz._x000D_ Součástí ceny musí být veškeré náklady, aby cena byla konečná a zahrnovala veškerý materiál a práce potřebné k dokončení díla. Výkazy výměr byly změřeny digitálně v dwg. Pro výběr zhotovitele je soupis prací nedílnou součástí projektové dokumentace a nesmí být použit samostatně._x000D_ Pro potřeby zpracování rozpočtu a výkazu výměr byla použita projektová dokumentace „Roudnice nad Labem - přechody v centru města“. Z jejích příloh byly odměřeny a zjištěny údaje uvedené v tomto výkazu výměr. Jde především o výměry zpevněných ploch, objemy zemních a bouracích prací, výměry nezpevněných ploch, objemy a výměry použitých stavebních prvků, a dále další nezbytné části nutné k dokončení stavby._x000D_
D26: Cena bez DPH | AK26: =ROUND(AG54,2) -> 0
L28: Sazba daně | W28: Základ daně | AK28: Výše daně
D29: DPH | F29: základní | L29: 0.21 | W29: =ROUND(AZ54, 2) -> 0 | AK29: =ROUND(AV54, 2) -> 0
F30: snížená | L30: 0.12 | W30: =ROUND(BA54, 2) -> 0 | AK30: =ROUND(AW54, 2) -> 0
F31: zákl. přenesená | L31: 0.21 | W31: =ROUND(BB54, 2) -> 0 | AK31: 0
F32: sníž. přenesená | L32: 0.12 | W32: =ROUND(BC54, 2) -> 0 | AK32: 0
F33: nulová | L33: 0 | W33: =ROUND(BD54, 2) -> 0 | AK33: 0
D35: Cena s DPH | T35: v | X35: CZK | AK35: =SUM(AK26:AK33) -> 0
C42: REKAPITULACE OBJEKTŮ STAVBY A SOUPISŮ PRACÍ
C44: Kód: | L44: =K5 -> 038-0-24
C45: Stavba: | L45: =K6 -> Roudnice nad Labem - přechody v centru města
C47: Místo: | L47: =IF(K8="","",K8) -> Roudnice nad Labem | AI47: Datum: | AM47: =IF(AN8= "","",AN8) -> 17. 9. 2024
C49: Zadavatel: | L49: =IF(E11= "","",E11) | AI49: Projektant: | AM49: =IF(E17="","",E17) -> PK dopravní s.r.o. | AS49: Informatívní údaje z listů zakázek
C50: Uchazeč: | L50: =IF(E14= "Vyplň údaj","",E14) | AI50: Zpracovatel: | AM50: =IF(E20="","",E20)
C52: Kód | I52: Popis | AG52: Cena bez DPH [CZK] | AN52: Cena s DPH [CZK] | AQ52: Typ | AS52: z toho Ostat._x000D_ náklady [CZK] | AT52: DPH [CZK] | AU52: Normohodiny [h] | AV52: DPH základní [CZK] | AW52: DPH snížená [CZK] | AX52: DPH základní přenesená_x000D_ [CZK] | AY52: DPH snížená přenesená_x000D_ [CZK] | AZ52: Základna_x000D_ DPH základní | BA52: Základna_x000D_ DPH snížená | BB52: Základna_x000D_ DPH zákl. přenesená | BC52: Základna_x000D_ DPH sníž. přenesená | BD52: Základna_x000D_ DPH nulová
C54: Náklady stavby celkem | AG54: =ROUND(AG55+AG59+AG63+AG67,2) -> 0 | AN54: =SUM(AG54,AT54) -> 0 | AS54: =ROUND(AS55+AS59+AS63+AS67,2) -> 0 | AT54: =ROUND(SUM(AV54:AW54),2) -> 0 | AU54: =ROUND(AU55+AU59+AU63+AU67,5) -> 0 | AV54: =ROUND(AZ54*L29,2) -> 0 | AW54: =ROUND(BA54*L30,2) -> 0 | AX54: =ROUND(BB54*L29,2) -> 0 | AY54: =ROUND(BC54*L30,2) -> 0 | AZ54: =ROUND(AZ55+AZ59+AZ63+AZ67,2) -> 0 | BA54: =ROUND(BA55+BA59+BA63+BA67,2) -> 0 | BB54: =ROUND(BB55+BB59+BB63+BB67,2) -> 0 | BC54: =ROUND(BC55+BC59+BC63+BC67,2) -> 0 | BD54: =ROUND(BD55+BD59+BD63+BD67,2) -> 0 | BS54: D | BT54: 0 | BU54: ###NOIMPORT### | BV54: IMPORT | BW54: {3a9629f7-7b82-448d-ac44-cc4717cd75eb} | BX54: {00000000-0000-0000-0000-000000000000} | CL54: 822 2
D55: SO 101 | J55: Přechod pro chodce oblast ´most´ | AG55: =ROUND(SUM(AG56:AG58),2) -> 0 | AN55: =SUM(AG55,AT55) -> 0 | AQ55: ING | AS55: =ROUND(SUM(AS56:AS58),2) -> 0 | AT55: =ROUND(SUM(AV55:AW55),2) -> 0 | AU55: =ROUND(SUM(AU56:AU58),5) -> 0 | AV55: =ROUND(AZ55*L29,2) -> 0 | AW55: =ROUND(BA55*L30,2) -> 0 | AX55: =ROUND(BB55*L29,2) -> 0 | AY55: =ROUND(BC55*L30,2) -> 0 | AZ55: =ROUND(SUM(AZ56:AZ58),2) -> 0 | BA55: =ROUND(SUM(BA56:BA58),2) -> 0 | BB55: =ROUND(SUM(BB56:BB58),2) -> 0 | BC55: =ROUND(SUM(BC56:BC58),2) -> 0 | BD55: =ROUND(SUM(BD56:BD58),2) -> 0 | BS55: D | BT55: 1 | BU55: ###NOIMPORT### | BV55: IMPORT | BW55: {cf7cb2e6-7b9f-4ce9-955e-1e505c57e4a5} | BX55: {3a9629f7-7b82-448d-ac44-cc4717cd75eb} | CL55: 822 2 | CM55: 2
A56: / | E56: SO 101 | K56: Komunikace a zpevněné plochy | AG56: ='SO 101 - Komunikace a zpe...'!J32 -> 0 | AN56: =SUM(AG56,AT56) -> 0 | AQ56: Soupis | AS56: 0 | AT56: =ROUND(SUM(AV56:AW56),2) -> 0 | AU56: ='SO 101 - Komunikace a zpe...'!P94 -> 0 | AV56: ='SO 101 - Komunikace a zpe...'!J35 -> 0 | AW56: ='SO 101 - Komunikace a zpe...'!J36 -> 0 | AX56: ='SO 101 - Komunikace a zpe...'!J37 -> 0 | AY56: ='SO 101 - Komunikace a zpe...'!J38 -> 0 | AZ56: ='SO 101 - Komunikace a zpe...'!F35 -> 0 | BA56: ='SO 101 - Komunikace a zpe...'!F36 -> 0 | BB56: ='SO 101 - Komunikace a zpe...'!F37 -> 0 | BC56: ='SO 101 - Komunikace a zpe...'!F38 -> 0 | BD56: ='SO 101 - Komunikace a zpe...'!F39 -> 0 | BT56: 2 | BV56: IMPORT | BW56: {5f6ade36-b99f-48a2-b81f-3b4cc8b196a1} | BX56: {cf7cb2e6-7b9f-4ce9-955e-1e505c57e4a5} | CL56: 822 2
A57: / | E57: SO 401 | K57: Veřejné osvětlení | AG57: ='SO 401 - Veřejné osvětlení'!J32 -> 0 | AN57: =SUM(AG57,AT57) -> 0 | AQ57: Soupis | AS57: 0 | AT57: =ROUND(SUM(AV57:AW57),2) -> 0 | AU57: ='SO 401 - Veřejné osvětlení'!P90 -> 0 | AV57: ='SO 401 - Veřejné osvětlení'!J35 -> 0 | AW57: ='SO 401 - Veřejné osvětlení'!J36 -> 0 | AX57: ='SO 401 - Veřejné osvětlení'!J37 -> 0 | AY57: ='SO 401 - Veřejné osvětlení'!J38 -> 0 | AZ57: ='SO 401 - Veřejné osvětlení'!F35 -> 0 | BA57: ='SO 401 - Veřejné osvětlení'!F36 -> 0 | BB57: ='SO 401 - Veřejné osvětlení'!F37 -> 0 | BC57: ='SO 401 - Veřejné osvětlení'!F38 -> 0 | BD57: ='SO 401 - Veřejné osvětlení'!F39 -> 0 | BT57: 2 | BV57: IMPORT | BW57: {b61f9c56-c192-4bc7-a384-874d1ef1fb48} | BX57: {cf7cb2e6-7b9f-4ce9-955e-1e505c57e4a5}
A58: / | E58: VRN 101 | K58: Vedlejší rozpočtové náklady | AG58: ='VRN 101 - Vedlejší rozpoč...'!J32 -> 0 | AN58: =SUM(AG58,AT58) -> 0 | AQ58: Soupis | AS58: 0 | AT58: =ROUND(SUM(AV58:AW58),2) -> 0 | AU58: ='VRN 101 - Vedlejší rozpoč...'!P89 -> 0 | AV58: ='VRN 101 - Vedlejší rozpoč...'!J35 -> 0 | AW58: ='VRN 101 - Vedlejší rozpoč...'!J36 -> 0 | AX58: ='VRN 101 - Vedlejší rozpoč...'!J37 -> 0 | AY58: ='VRN 101 - Vedlejší rozpoč...'!J38 -> 0 | AZ58: ='VRN 101 - Vedlejší rozpoč...'!F35 -> 0 | BA58: ='VRN 101 - Vedlejší rozpoč...'!F36 -> 0 | BB58: ='VRN 101 - Vedlejší rozpoč...'!F37 -> 0 | BC58: ='VRN 101 - Vedlejší rozpoč...'!F38 -> 0 | BD58: ='VRN 101 - Vedlejší rozpoč...'!F39 -> 0 | BT58: 2 | BV58: IMPORT | BW58: {b72e467f-2a35-4ba7-8352-7cecca9cd774} | BX58: {cf7cb2e6-7b9f-4ce9-955e-1e505c57e4a5} | CL58: 822 2
D59: SO 102 | J59: Přechody u Jana z Dražic | AG59: =ROUND(SUM(AG60:AG62),2) -> 0 | AN59: =SUM(AG59,AT59) -> 0 | AQ59: ING | AS59: =ROUND(SUM(AS60:AS62),2) -> 0 | AT59: =ROUND(SUM(AV59:AW59),2) -> 0 | AU59: =ROUND(SUM(AU60:AU62),5) -> 0 | AV59: =ROUND(AZ59*L29,2) -> 0 | AW59: =ROUND(BA59*L30,2) -> 0 | AX59: =ROUND(BB59*L29,2) -> 0 | AY59: =ROUND(BC59*L30,2) -> 0 | AZ59: =ROUND(SUM(AZ60:AZ62),2) -> 0 | BA59: =ROUND(SUM(BA60:BA62),2) -> 0 | BB59: =ROUND(SUM(BB60:BB62),2) -> 0 | BC59: =ROUND(SUM(BC60:BC62),2) -> 0 | BD59: =ROUND(SUM(BD60:BD62),2) -> 0 | BS59: D | BT59: 1 | BU59: ###NOIMPORT### | BV59: IMPORT | BW59: {ffbf0951-c37e-4564-8c75-d0a1fc2ee0b3} | BX59: {3a9629f7-7b82-448d-ac44-cc4717cd75eb} | CL59: 822 2 | CM59: 2
A60: / | E60: SO 102 | K60: Komunikace a zpevněné plochy | AG60: ='SO 102 - Komunikace a zpe...'!J32 -> 0 | AN60: =SUM(AG60,AT60) -> 0 | AQ60: Soupis | AS60: 0 | AT60: =ROUND(SUM(AV60:AW60),2) -> 0 | AU60: ='SO 102 - Komunikace a zpe...'!P92 -> 0 | AV60: ='SO 102 - Komunikace a zpe...'!J35 -> 0 | AW60: ='SO 102 - Komunikace a zpe...'!J36 -> 0 | AX60: ='SO 102 - Komunikace a zpe...'!J37 -> 0 | AY60: ='SO 102 - Komunikace a zpe...'!J38 -> 0 | AZ60: ='SO 102 - Komunikace a zpe...'!F35 -> 0 | BA60: ='SO 102 - Komunikace a zpe...'!F36 -> 0 | BB60: ='SO 102 - Komunikace a zpe...'!F37 -> 0 | BC60: ='SO 102 - Komunikace a zpe...'!F38 -> 0 | BD60: ='SO 102 - Komunikace a zpe...'!F39 -> 0 | BT60: 2 | BV60: IMPORT | BW60: {86ed9295-2494-49aa-b845-a653f316a10d} | BX60: {ffbf0951-c37e-4564-8c75-d0a1fc2ee0b3} | CL60: 822 2
A61: / | E61: SO 402 | K61: Veřejné osvětlení | AG61: ='SO 402 - Veřejné osvětlení'!J32 -> 0 | AN61: =SUM(AG61,AT61) -> 0 | AQ61: Soupis | AS61: 0 | AT61: =ROUND(SUM(AV61:AW61),2) -> 0 | AU61: ='SO 402 - Veřejné osvětlení'!P90 -> 0 | AV61: ='SO 402 - Veřejné osvětlení'!J35 -> 0 | AW61: ='SO 402 - Veřejné osvětlení'!J36 -> 0 | AX61: ='SO 402 - Veřejné osvětlení'!J37 -> 0 | AY61: ='SO 402 - Veřejné osvětlení'!J38 -> 0 | AZ61: ='SO 402 - Veřejné osvětlení'!F35 -> 0 | BA61: ='SO 402 - Veřejné osvětlení'!F36 -> 0 | BB61: ='SO 402 - Veřejné osvětlení'!F37 -> 0 | BC61: ='SO 402 - Veřejné osvětlení'!F38 -> 0 | BD61: ='SO 402 - Veřejné osvětlení'!F39 -> 0 | BT61: 2 | BV61: IMPORT | BW61: {46fed116-8533-4ba5-9585-b3144c58e6d0} | BX61: {ffbf0951-c37e-4564-8c75-d0a1fc2ee0b3}
A62: / | E62: VRN 102 | K62: Vedlejší rozpočtové náklady | AG62: ='VRN 102 - Vedlejší rozpoč...'!J32 -> 0 | AN62: =SUM(AG62,AT62) -> 0 | AQ62: Soupis | AS62: 0 | AT62: =ROUND(SUM(AV62:AW62),2) -> 0 | AU62: ='VRN 102 - Vedlejší rozpoč...'!P89 -> 0 | AV62: ='VRN 102 - Vedlejší rozpoč...'!J35 -> 0 | AW62: ='VRN 102 - Vedlejší rozpoč...'!J36 -> 0 | AX62: ='VRN 102 - Vedlejší rozpoč...'!J37 -> 0 | AY62: ='VRN 102 - Vedlejší rozpoč...'!J38 -> 0 | AZ62: ='VRN 102 - Vedlejší rozpoč...'!F35 -> 0 | BA62: ='VRN 102 - Vedlejší rozpoč...'!F36 -> 0 | BB62: ='VRN 102 - Vedlejší rozpoč...'!F37 -> 0 | BC62: ='VRN 102 - Vedlejší rozpoč...'!F38 -> 0 | BD62: ='VRN 102 - Vedlejší rozpoč...'!F39 -> 0 | BT62: 2 | BV62: IMPORT | BW62: {e94b145e-1ee9-4dd4-893e-0900e85fc80c} | BX62: {ffbf0951-c37e-4564-8c75-d0a1fc2ee0b3} | CL62: 822 2
D63: SO 103 | J63: Místo pro přecházení u pivovaru | AG63: =ROUND(SUM(AG64:AG66),2) -> 0 | AN63: =SUM(AG63,AT63) -> 0 | AQ63: ING | AS63: =ROUND(SUM(AS64:AS66),2) -> 0 | AT63: =ROUND(SUM(AV63:AW63),2) -> 0 | AU63: =ROUND(SUM(AU64:AU66),5) -> 0 | AV63: =ROUND(AZ63*L29,2) -> 0 | AW63: =ROUND(BA63*L30,2) -> 0 | AX63: =ROUND(BB63*L29,2) -> 0 | AY63: =ROUND(BC63*L30,2) -> 0 | AZ63: =ROUND(SUM(AZ64:AZ66),2) -> 0 | BA63: =ROUND(SUM(BA64:BA66),2) -> 0 | BB63: =ROUND(SUM(BB64:BB66),2) -> 0 | BC63: =ROUND(SUM(BC64:BC66),2) -> 0 | BD63: =ROUND(SUM(BD64:BD66),2) -> 0 | BS63: D | BT63: 1 | BU63: ###NOIMPORT### | BV63: IMPORT | BW63: {35c7700a-3215-428e-9f9c-f4065ebfedc2} | BX63: {3a9629f7-7b82-448d-ac44-cc4717cd75eb} | CL63: 822 2 | CM63: 2
A64: / | E64: SO 103 | K64: Komunikace a zpevněné plochy | AG64: ='SO 103 - Komunikace a zpe...'!J32 -> 0 | AN64: =SUM(AG64,AT64) -> 0 | AQ64: Soupis | AS64: 0 | AT64: =ROUND(SUM(AV64:AW64),2) -> 0 | AU64: ='SO 103 - Komunikace a zpe...'!P92 -> 0 | AV64: ='SO 103 - Komunikace a zpe...'!J35 -> 0 | AW64: ='SO 103 - Komunikace a zpe...'!J36 -> 0 | AX64: ='SO 103 - Komunikace a zpe...'!J37 -> 0 | AY64: ='SO 103 - Komunikace a zpe...'!J38 -> 0 | AZ64: ='SO 103 - Komunikace a zpe...'!F35 -> 0 | BA64: ='SO 103 - Komunikace a zpe...'!F36 -> 0 | BB64: ='SO 103 - Komunikace a zpe...'!F37 -> 0 | BC64: ='SO 103 - Komunikace a zpe...'!F38 -> 0 | BD64: ='SO 103 - Komunikace a zpe...'!F39 -> 0 | BT64: 2 | BV64: IMPORT | BW64: {baa623cc-9385-4d65-9c08-2e4f5dfc4f55} | BX64: {35c7700a-3215-428e-9f9c-f4065ebfedc2} | CL64: 822 2
A65: / | E65: SO 403 | K65: Veřejné osvětlení | AG65: ='SO 403 - Veřejné osvětlení'!J32 -> 0 | AN65: =SUM(AG65,AT65) -> 0 | AQ65: Soupis | AS65: 0 | AT65: =ROUND(SUM(AV65:AW65),2) -> 0 | AU65: ='SO 403 - Veřejné osvětlení'!P90 -> 0 | AV65: ='SO 403 - Veřejné osvětlení'!J35 -> 0 | AW65: ='SO 403 - Veřejné osvětlení'!J36 -> 0 | AX65: ='SO 403 - Veřejné osvětlení'!J37 -> 0 | AY65: ='SO 403 - Veřejné osvětlení'!J38 -> 0 | AZ65: ='SO 403 - Veřejné osvětlení'!F35 -> 0 | BA65: ='SO 403 - Veřejné osvětlení'!F36 -> 0 | BB65: ='SO 403 - Veřejné osvětlení'!F37 -> 0 | BC65: ='SO 403 - Veřejné osvětlení'!F38 -> 0 | BD65: ='SO 403 - Veřejné osvětlení'!F39 -> 0 | BT65: 2 | BV65: IMPORT | BW65: {9b2e04c5-555c-441a-8258-b28a8eaa1d61} | BX65: {35c7700a-3215-428e-9f9c-f4065ebfedc2}
A66: / | E66: VRN 103 | K66: Vedlejší rozpočtové náklady | AG66: ='VRN 103 - Vedlejší rozpoč...'!J32 -> 0 | AN66: =SUM(AG66,AT66) -> 0 | AQ66: Soupis | AS66: 0 | AT66: =ROUND(SUM(AV66:AW66),2) -> 0 | AU66: ='VRN 103 - Vedlejší rozpoč...'!P89 -> 0 | AV66: ='VRN 103 - Vedlejší rozpoč...'!J35 -> 0 | AW66: ='VRN 103 - Vedlejší rozpoč...'!J36 -> 0 | AX66: ='VRN 103 - Vedlejší rozpoč...'!J37 -> 0 | AY66: ='VRN 103 - Vedlejší rozpoč...'!J38 -> 0 | AZ66: ='VRN 103 - Vedlejší rozpoč...'!F35 -> 0 | BA66: ='VRN 103 - Vedlejší rozpoč...'!F36 -> 0 | BB66: ='VRN 103 - Vedlejší rozpoč...'!F37 -> 0 | BC66: ='VRN 103 - Vedlejší rozpoč...'!F38 -> 0 | BD66: ='VRN 103 - Vedlejší rozpoč...'!F39 -> 0 | BT66: 2 | BV66: IMPORT | BW66: {395f266f-dc06-466a-ad47-85c190fedf91} | BX66: {35c7700a-3215-428e-9f9c-f4065ebfedc2} | CL66: 822 2
D67: SO 104 | J67: Místo pro přecházení ´u Bakera´ | AG67: =ROUND(SUM(AG68:AG70),2) -> 0 | AN67: =SUM(AG67,AT67) -> 0 | AQ67: ING | AS67: =ROUND(SUM(AS68:AS70),2) -> 0 | AT67: =ROUND(SUM(AV67:AW67),2) -> 0 | AU67: =ROUND(SUM(AU68:AU70),5) -> 0 | AV67: =ROUND(AZ67*L29,2) -> 0 | AW67: =ROUND(BA67*L30,2) -> 0 | AX67: =ROUND(BB67*L29,2) -> 0 | AY67: =ROUND(BC67*L30,2) -> 0 | AZ67: =ROUND(SUM(AZ68:AZ70),2) -> 0 | BA67: =ROUND(SUM(BA68:BA70),2) -> 0 | BB67: =ROUND(SUM(BB68:BB70),2) -> 0 | BC67: =ROUND(SUM(BC68:BC70),2) -> 0 | BD67: =ROUND(SUM(BD68:BD70),2) -> 0 | BS67: D | BT67: 1 | BU67: ###NOIMPORT### | BV67: IMPORT | BW67: {20d1a6ce-a3f9-4786-8882-8ffba3781169} | BX67: {3a9629f7-7b82-448d-ac44-cc4717cd75eb} | CL67: 822 2 | CM67: 2
A68: / | E68: SO 104 | K68: Komunikace a zpevněné plochy | AG68: ='SO 104 - Komunikace a zpe...'!J32 -> 0 | AN68: =SUM(AG68,AT68) -> 0 | AQ68: Soupis | AS68: 0 | AT68: =ROUND(SUM(AV68:AW68),2) -> 0 | AU68: ='SO 104 - Komunikace a zpe...'!P97 -> 0 | AV68: ='SO 104 - Komunikace a zpe...'!J35 -> 0 | AW68: ='SO 104 - Komunikace a zpe...'!J36 -> 0 | AX68: ='SO 104 - Komunikace a zpe...'!J37 -> 0 | AY68: ='SO 104 - Komunikace a zpe...'!J38 -> 0 | AZ68: ='SO 104 - Komunikace a zpe...'!F35 -> 0 | BA68: ='SO 104 - Komunikace a zpe...'!F36 -> 0 | BB68: ='SO 104 - Komunikace a zpe...'!F37 -> 0 | BC68: ='SO 104 - Komunikace a zpe...'!F38 -> 0 | BD68: ='SO 104 - Komunikace a zpe...'!F39 -> 0 | BT68: 2 | BV68: IMPORT | BW68: {f404ace3-3ca7-455a-8106-887307fc7958} | BX68: {20d1a6ce-a3f9-4786-8882-8ffba3781169} | CL68: 822 2
A69: / | E69: SO 404 | K69: Veřejné osvětlení | AG69: ='SO 404 - Veřejné osvětlení'!J32 -> 0 | AN69: =SUM(AG69,AT69) -> 0 | AQ69: Soupis | AS69: 0 | AT69: =ROUND(SUM(AV69:AW69),2) -> 0 | AU69: ='SO 404 - Veřejné osvětlení'!P90 -> 0 | AV69: ='SO 404 - Veřejné osvětlení'!J35 -> 0 | AW69: ='SO 404 - Veřejné osvětlení'!J36 -> 0 | AX69: ='SO 404 - Veřejné osvětlení'!J37 -> 0 | AY69: ='SO 404 - Veřejné osvětlení'!J38 -> 0 | AZ69: ='SO 404 - Veřejné osvětlení'!F35 -> 0 | BA69: ='SO 404 - Veřejné osvětlení'!F36 -> 0 | BB69: ='SO 404 - Veřejné osvětlení'!F37 -> 0 | BC69: ='SO 404 - Veřejné osvětlení'!F38 -> 0 | BD69: ='SO 404 - Veřejné osvětlení'!F39 -> 0 | BT69: 2 | BV69: IMPORT | BW69: {322d53f4-53d2-4c5a-a092-7ff9b320e86f} | BX69: {20d1a6ce-a3f9-4786-8882-8ffba3781169}
A70: / | E70: VRN 104 | K70: Vedlejší rozpočtové náklady | AG70: ='VRN 104 - Vedlejší rozpoč...'!J32 -> 0 | AN70: =SUM(AG70,AT70) -> 0 | AQ70: Soupis | AS70: 0 | AT70: =ROUND(SUM(AV70:AW70),2) -> 0 | AU70: ='VRN 104 - Vedlejší rozpoč...'!P89 -> 0 | AV70: ='VRN 104 - Vedlejší rozpoč...'!J35 -> 0 | AW70: ='VRN 104 - Vedlejší rozpoč...'!J36 -> 0 | AX70: ='VRN 104 - Vedlejší rozpoč...'!J37 -> 0 | AY70: ='VRN 104 - Vedlejší rozpoč...'!J38 -> 0 | AZ70: ='VRN 104 - Vedlejší rozpoč...'!F35 -> 0 | BA70: ='VRN 104 - Vedlejší rozpoč...'!F36 -> 0 | BB70: ='VRN 104 - Vedlejší rozpoč...'!F37 -> 0 | BC70: ='VRN 104 - Vedlejší rozpoč...'!F38 -> 0 | BD70: ='VRN 104 - Vedlejší rozpoč...'!F39 -> 0 | BT70: 2 | BV70: IMPORT | BW70: {65c002a1-b76d-4248-b15a-987b1eb52502} | BX70: {20d1a6ce-a3f9-4786-8882-8ffba3781169} | CL70: 822 2

Sheet SO 101 - Komunikace a zpe...
AT2: {5f6ade36-b99f-48a2-b81f-3b4cc8b196a1}
AT3: 2
D4: KRYCÍ LIST SOUPISU PRACÍ | M4: v --- níže se nacházejí doplnkové a pomocné údaje k sestavám --- v | AT4: False
D6: Stavba:
E7: ='Rekapitulace stavby'!K6 -> Roudnice nad Labem - přechody v centru města
D8: Objekt:
E9: SO 101 - Přechod pro chodce oblast ´most´
D10: Soupis:
E11: SO 101 - Komunikace a zpevněné plochy
D13: KSO: | F13: 822 2 | I13: CC-CZ:
D14: Místo: | F14: Roudnice nad Labem | I14: Datum: | J14: ='Rekapitulace stavby'!AN8 -> 17. 9. 2024
D16: Zadavatel: | I16: IČ: | J16: =IF('Rekapitulace stavby'!AN10="","",'Rekapitulace stavby'!AN10)
E17: =IF('Rekapitulace stavby'!E11="","",'Rekapitulace stavby'!E11) | I17: DIČ: | J17: =IF('Rekapitulace stavby'!AN11="","",'Rekapitulace stavby'!AN11)
D19: Uchazeč: | I19: IČ: | J19: ='Rekapitulace stavby'!AN13 -> Vyplň údaj
E20: ='Rekapitulace stavby'!E14 -> Vyplň údaj | I20: DIČ: | J20: ='Rekapitulace stavby'!AN14 -> Vyplň údaj
D22: Projektant: | I22: IČ:
E23: PK dopravní s.r.o. | I23: DIČ:
D25: Zpracovatel: | I25: IČ: | J25: =IF('Rekapitulace stavby'!AN19="","",'Rekapitulace stavby'!AN19)
E26: =IF('Rekapitulace stavby'!E20="","",'Rekapitulace stavby'!E20) | I26: DIČ: | J26: =IF('Rekapitulace stavby'!AN20="","",'Rekapitulace stavby'!AN20)
D28: Poznámka:
D32: Cena bez DPH | J32: =ROUND(J94, 2) -> 0
F34: Základ daně | I34: Sazba daně | J34: Výše daně
D35: DPH | E35: základní | F35: =ROUND((SUM(BE94:BE590)), 2) -> 0 | I35: 0.21 | J35: =ROUND(((SUM(BE94:BE590))*I35), 2) -> 0
E36: snížená | F36: =ROUND((SUM(BF94:BF590)), 2) -> 0 | I36: 0.12 | J36: =ROUND(((SUM(BF94:BF590))*I36), 2) -> 0
E37: zákl. přenesená | F37: =ROUND((SUM(BG94:BG590)), 2) -> 0 | I37: 0.21 | J37: =0 -> 0
E38: sníž. přenesená | F38: =ROUND((SUM(BH94:BH590)), 2) -> 0 | I38: 0.12 | J38: =0 -> 0
E39: nulová | F39: =ROUND((SUM(BI94:BI590)), 2) -> 0 | I39: 0 | J39: =0 -> 0
D41: Cena s DPH | G41: v | H41: CZK | J41: =SUM(J32:J39) -> 0
C47: REKAPITULACE ČLENĚNÍ SOUPISU PRACÍ
C49: Stavba:
E50: =E7 -> Roudnice nad Labem - přechody v centru města
C51: Objekt:
E52: SO 101 - Přechod pro chodce oblast ´most´
C53: Soupis:
E54: =E11 -> SO 101 - Komunikace a zpevněné plochy
C56: Místo: | F56: =F14 -> Roudnice nad Labem | I56: Datum: | J56: =IF(J14="","",J14) -> 17. 9. 2024
C58: Zadavatel: | F58: =E17 | I58: Projektant: | J58: =E23 -> PK dopravní s.r.o.
C59: Uchazeč: | F59: =IF(E20="","",E20) -> Vyplň údaj | I59: Zpracovatel: | J59: =E26
C61: Kód dílu - Popis | J61: Cena celkem [CZK]
C63: Náklady stavby celkem | J63: =J94 -> 0 | AU63: -1
D64: HSV - Práce a dodávky HSV | J64: =J95 -> 0
D65: 1 - Zemní práce | J65: =J96 -> 0
D66: 4 - Vodorovné konstrukce | J66: =J160 -> 0
D67: 5 - Komunikace pozemní | J67: =J171 -> 0
D68: 8 - Trubní vedení | J68: =J268 -> 0
D69: 9 - Ostatní konstrukce a práce, bourání | J69: =J340 -> 0
D70: 96 - Bourání konstrukcí | J70: =J484 -> 0
D71: 997 - Přesun sutě | J71: =J538 -> 0
D72: 998 - Přesun hmot | J72: =J587 -> 0
C79: SOUPIS PRACÍ
C81: Stavba:
E82: =E7 -> Roudnice nad Labem - přechody v centru města
C83: Objekt:
E84: SO 101 - Přechod pro chodce oblast ´most´
C85: Soupis:
E86: =E11 -> SO 101 - Komunikace a zpevněné plochy
C88: Místo: | F88: =F14 -> Roudnice nad Labem | I88: Datum: | J88: =IF(J14="","",J14) -> 17. 9. 2024
C90: Zadavatel: | F90: =E17 | I90: Projektant: | J90: =E23 -> PK dopravní s.r.o.
C91: Uchazeč: | F91: =IF(E20="","",E20) -> Vyplň údaj | I91: Zpracovatel: | J91: =E26
C93: PČ | D93: Typ | E93: Kód | F93: Popis | G93: MJ | H93: Množství | I93: J.cena [CZK] | J93: Cena celkem [CZK] | K93: Cenová soustava | N93: DPH | O93: J. Nh [h] | P93: Nh celkem [h] | Q93: J. hmotnost [t] | R93: Hmotnost celkem [t] | S93: J. suť [t] | T93: Suť Celkem [t]
C94: Náklady soupisu celkem | J94: =BK94 -> 0 | P94: =P95 -> 0 | R94: =R95 -> 73.866424 | T94: =T95 -> 79.13832 | AT94: D | AU94: -1 | BK94: =BK95 -> 0
D95: D | E95: HSV | F95: Práce a dodávky HSV | J95: =BK95 -> 0 | P95: =P96+P160+P171+P268+P340+P538+P587 -> 0 | R95: =R96+R160+R171+R268+R340+R538+R587 -> 73.866424 | T95: =T96+T160+T171+T268+T340+T538+T587 -> 79.13832 | AR95: 1 | AT95: D | AU95: 0 | AY95: ROZPOCET | BK95: =BK96+BK160+BK171+BK268+BK340+BK538+BK587 -> 0
D96: D | E96: 1 | F96: Zemní práce | J96: =BK96 -> 0 | P96: =SUM(P97:P159) -> 0 | R96: =SUM(R97:R159) -> 5.852 | T96: =SUM(T97:T159) -> 0 | AR96: 1 | AT96: D | AU96: 1 | AY96: ROZPOCET | BK96: =SUM(BK97:BK159) -> 0
C97: 1 | D97: K | E97: 122251102 | F97: Odkopávky a prokopávky nezapažené v hornině třídy těžitelnosti I skupiny 3 objem do 50 m3 strojně | G97: m3 | H97: 40.461 | J97: =ROUND(I97*H97,2) -> 0 | K97: CS ÚRS 2024 02 | N97: základní | P97: =O97*H97 -> 0 | Q97: 0 | R97: =Q97*H97 -> 0 | S97: 0 | T97: =S97*H97 -> 0 | AR97: 4 | AT97: K | AU97: 2 | AY97: ROZPOCET | BE97: =IF(N97="základní",J97,0) -> 0 | BF97: =IF(N97="snížená",J97,0) -> 0 | BG97: =IF(N97="zákl. přenesená",J97,0) -> 0 | BH97: =IF(N97="sníž. přenesená",J97,0) -> 0 | BI97: =IF(N97="nulová",J97,0) -> 0 | BJ97: 1 | BK97: =ROUND(I97*H97,2) -> 0 | BL97: 4 | BM97: 445910581
D98: PP | F98: Odkopávky a prokopávky nezapažené strojně v hornině třídy těžitelnosti I skupiny 3 přes 20 do 50 m3 | AT98: PP | AU98: 2
D99: Online PSC | F99: https://podminky.urs.cz/item/CS_URS_2024_02/122251102 | AT99: Online PSC | AU99: 2
D100: VV | F100: 47,91*0,46 | H100: 22.039 | AT100: VV | AU100: 2 | AV100: 2 | AW100: True | AX100: 0 | AY100: ROZPOCET
D101: VV | F101: 30,6*0,35 | H101: 10.71 | AT101: VV | AU101: 2 | AV101: 2 | AW101: True | AX101: 0 | AY101: ROZPOCET
D102: VV | F102: 38,56*0,2 | H102: 7.712 | AT102: VV | AU102: 2 | AV102: 2 | AW102: True | AX102: 0 | AY102: ROZPOCET
D103: VV | F103: Součet | H103: 40.461 | AT103: VV | AU103: 2 | AV103: 4 | AW103: True | AX103: 1 | AY103: ROZPOCET
C104: 2 | D104: K | E104: 129001101 | F104: Příplatek za ztížení odkopávky nebo prokopávky v blízkosti inženýrských sítí | G104: m3 | H104: 40.461 | J104: =ROUND(I104*H104,2) -> 0 | K104: CS ÚRS 2024 02 | N104: základní | P104: =O104*H104 -> 0 | Q104: 0 | R104: =Q104*H104 -> 0 | S104: 0 | T104: =S104*H104 -> 0 | AR104: 4 | AT104: K | AU104: 2 | AY104: ROZPOCET | BE104: =IF(N104="základní",J104,0) -> 0 | BF104: =IF(N104="snížená",J104,0) -> 0 | BG104: =IF(N104="zákl. přenesená",J104,0) -> 0 | BH104: =IF(N104="sníž. přenesená",J104,0) -> 0 | BI104: =IF(N104="nulová",J104,0) -> 0 | BJ104: 1 | BK104: =ROUND(I104*H104,2) -> 0 | BL104: 4 | BM104: -1232541805
D105: PP | F105: Příplatek k cenám vykopávek za ztížení vykopávky v blízkosti podzemního vedení nebo výbušnin v horninách jakékoliv třídy | AT105: PP | AU105: 2
D106: Online PSC | F106: https://podminky.urs.cz/item/CS_URS_2024_02/129001101 | AT106: Online PSC | AU106: 2
D107: VV | F107: 47,91*0,46 | H107: 22.039 | AT107: VV | AU107: 2 | AV107: 2 | AW107: True | AX107: 0 | AY107: ROZPOCET
D108: VV | F108: 30,6*0,35 | H108: 10.71 | AT108: VV | AU108: 2 | AV108: 2 | AW108: True | AX108: 0 | AY108: ROZPOCET
D109: VV | F109: 38,56*0,2 | H109: 7.712 | AT109: VV | AU109: 2 | AV109: 2 | AW109: True | AX109: 0 | AY109: ROZPOCET
D110: VV | F110: Součet | H110: 40.461 | AT110: VV | AU110: 2 | AV110: 4 | AW110: True | AX110: 1 | AY110: ROZPOCET
C111: 3 | D111: K | E111: 132251101 | F111: Hloubení rýh nezapažených š do 800 mm v hornině třídy těžitelnosti I skupiny 3 objem do 20 m3 strojně | G111: m3 | H111: 5.85 | J111: =ROUND(I111*H111,2) -> 0 | K111: CS ÚRS 2024 02 | N111: základní | P111: =O111*H111 -> 0 | Q111: 0 | R111: =Q111*H111 -> 0 | S111: 0 | T111: =S111*H111 -> 0 | AR111: 4 | AT111: K | AU111: 2 | AY111: ROZPOCET | BE111: =IF(N111="základní",J111,0) -> 0 | BF111: =IF(N111="snížená",J111,0) -> 0 | BG111: =IF(N111="zákl. přenesená",J111,0) -> 0 | BH111: =IF(N111="sníž. přenesená",J111,0) -> 0 | BI111: =IF(N111="nulová",J111,0) -> 0 | BJ111: 1 | BK111: =ROUND(I111*H111,2) -> 0 | BL111: 4 | BM111: -484840601
D112: PP | F112: Hloubení nezapažených rýh šířky do 800 mm strojně s urovnáním dna do předepsaného profilu a spádu v hornině třídy těžitelnosti I skupiny 3 do 20 m3 | AT112: PP | AU112: 2
D113: Online PSC | F113: https://podminky.urs.cz/item/CS_URS_2024_02/132251101 | AT113: Online PSC | AU113: 2
D114: VV | F114: "přípojka" 0,6*1,5*6,5 | H114: 5.85 | AT114: VV | AU114: 2 | AV114: 2 | AW114: True | AX114: 0 | AY114: ROZPOCET
D115: VV | F115: Součet | H115: 5.85 | AT115: VV | AU115: 2 | AV115: 4 | AW115: True | AX115: 1 | AY115: ROZPOCET
C116: 4 | D116: K | E116: 133251101 | F116: Hloubení šachet nezapažených v hornině třídy těžitelnosti I skupiny 3 objem do 20 m3 | G116: m3 | H116: 0.6 | J116: =ROUND(I116*H116,2) -> 0 | K116: CS ÚRS 2024 02 | N116: základní | P116: =O116*H116 -> 0 | Q116: 0 | R116: =Q116*H116 -> 0 | S116: 0 | T116: =S116*H116 -> 0 | AR116: 4 | AT116: K | AU116: 2 | AY116: ROZPOCET | BE116: =IF(N116="základní",J116,0) -> 0 | BF116: =IF(N116="snížená",J116,0) -> 0 | BG116: =IF(N116="zákl. přenesená",J116,0) -> 0 | BH116: =IF(N116="sníž. přenesená",J116,0) -> 0 | BI116: =IF(N116="nulová",J116,0) -> 0 | BJ116: 1 | BK116: =ROUND(I116*H116,2) -> 0 | BL116: 4 | BM116: 806855525
D117: PP | F117: Hloubení nezapažených šachet strojně v hornině třídy těžitelnosti I skupiny 3 do 20 m3 | AT117: PP | AU117: 2
D118: Online PSC | F118: https://podminky.urs.cz/item/CS_URS_2024_02/133251101 | AT118: Online PSC | AU118: 2
D119: VV | F119: "UV" 1*1*0,6 | H119: 0.6 | AT119: VV | AU119: 2 | AV119: 2 | AW119: True | AX119: 1 | AY119: ROZPOCET
C120: 5 | D120: K | E120: 162751117 | F120: Vodorovné přemístění přes 9 000 do 10000 m výkopku/sypaniny z horniny třídy těžitelnosti I skupiny 1 až 3 | G120: m3 | H120: 43.011 | J120: =ROUND(I120*H120,2) -> 0 | K120: CS ÚRS 2024 02 | N120: základní | P120: =O120*H120 -> 0 | Q120: 0 | R120: =Q120*H120 -> 0 | S120: 0 | T120: =S120*H120 -> 0 | AR120: 4 | AT120: K | AU120: 2 | AY120: ROZPOCET | BE120: =IF(N120="základní",J120,0) -> 0 | BF120: =IF(N120="snížená",J120,0) -> 0 | BG120: =IF(N120="zákl. přenesená",J120,0) -> 0 | BH120: =IF(N120="sníž. přenesená",J120,0) -> 0 | BI120: =IF(N120="nulová",J120,0) -> 0 | BJ120: 1 | BK120: =ROUND(I120*H120,2) -> 0 | BL120: 4 | BM120: -792482105
D121: PP | F121: Vodorovné přemístění výkopku nebo sypaniny po suchu na obvyklém dopravním prostředku, bez naložení výkopku, avšak se složením bez rozhrnutí z horniny třídy těžitelnosti I skupiny 1 až 3 na vzdálenost přes 9 000 do 10 000 m | AT121: PP | AU121: 2
D122: Online PSC | F122: https://podminky.urs.cz/item/CS_URS_2024_02/162751117 | AT122: Online PSC | AU122: 2
D123: P | F123: Poznámka k položce:_x000D_ vzdálenost odvozu je pouze orientační, určí uchazeč | AT123: P | AU123: 2
D124: VV | F124: 40,461+5,85+0,6 | H124: 46.911 | AT124: VV | AU124: 2 | AV124: 2 | AW124: True | AX124: 0 | AY124: ROZPOCET
D125: VV | F125: -(3,9) | H125: -3.9 | AT125: VV | AU125: 2 | AV125: 2 | AW125: True | AX125: 0 | AY125: ROZPOCET
D126: VV | F126: Součet | H126: 43.011 | AT126: VV | AU126: 2 | AV126: 4 | AW126: True | AX126: 1 | AY126: ROZPOCET
C127: 6 | D127: K | E127: 171201231 | F127: Poplatek za uložení zeminy a kamení na recyklační skládce (skládkovné) kód odpadu 17 05 04 | G127: t | H127: 77.42 | J127: =ROUND(I127*H127,2) -> 0 | K127: CS ÚRS 2024 02 | N127: základní | P127: =O127*H127 -> 0 | Q127: 0 | R127: =Q127*H127 -> 0 | S127: 0 | T127: =S127*H127 -> 0 | AR127: 4 | AT127: K | AU127: 2 | AY127: ROZPOCET | BE127: =IF(N127="základní",J127,0) -> 0 | BF127: =IF(N127="snížená",J127,0) -> 0 | BG127: =IF(N127="zákl. přenesená",J127,0) -> 0 | BH127: =IF(N127="sníž. přenesená",J127,0) -> 0 | BI127: =IF(N127="nulová",J127,0) -> 0 | BJ127: 1 | BK127: =ROUND(I127*H127,2) -> 0 | BL127: 4 | BM127: 1012656816
D128: PP | F128: Poplatek za uložení stavebního odpadu na recyklační skládce (skládkovné) zeminy a kamení zatříděného do Katalogu odpadů pod kódem 17 05 04 | AT128: PP | AU128: 2
D129: Online PSC | F129: https://podminky.urs.cz/item/CS_URS_2024_02/171201231 | AT129: Online PSC | AU129: 2
D130: VV | F130: 43,011 | H130: 43.011 | AT130: VV | AU130: 2 | AV130: 2 | AW130: True | AX130: 0 | AY130: ROZPOCET
D131: VV | F131: Součet | H131: 43.011 | AT131: VV | AU131: 2 | AV131: 4 | AW131: True | AX131: 1 | AY131: ROZPOCET
D132: VV | F132: 43,011*1,8 'Přepočtené koeficientem množství | H132: 77.42 | AT132: VV | AU132: 2 | AV132: 2 | AW132: False | AX132: 1 | AY132: ROZPOCET
C133: 7 | D133: K | E133: 174151101 | F133: Zásyp jam, šachet rýh nebo kolem objektů sypaninou se zhutněním | G133: m3 | H133: 5.381 | J133: =ROUND(I133*H133,2) -> 0 | K133: CS ÚRS 2024 02 | N133: základní | P133: =O133*H133 -> 0 | Q133: 0 | R133: =Q133*H133 -> 0 | S133: 0 | T133: =S133*H133 -> 0 | AR133: 4 | AT133: K | AU133: 2 | AY133: ROZPOCET | BE133: =IF(N133="základní",J133,0) -> 0 | BF133: =IF(N133="snížená",J133,0) -> 0 | BG133: =IF(N133="zákl. přenesená",J133,0) -> 0 | BH133: =IF(N133="sníž. přenesená",J133,0) -> 0 | BI133: =IF(N133="nulová",J133,0) -> 0 | BJ133: 1 | BK133: =ROUND(I133*H133,2) -> 0 | BL133: 4 | BM133: -2102879266
...

Sheet SO 401 - Veřejné osvětlení
AT2: {b61f9c56-c192-4bc7-a384-874d1ef1fb48}
AT3: 2
D4: KRYCÍ LIST SOUPISU PRACÍ | M4: v --- níže se nacházejí doplnkové a pomocné údaje k sestavám --- v | AT4: False
D6: Stavba:
E7: ='Rekapitulace stavby'!K6 -> Roudnice nad Labem - přechody v centru města
D8: Objekt:
E9: SO 101 - Přechod pro chodce oblast ´most´
D10: Soupis:
E11: SO 401 - Veřejné osvětlení
D13: KSO: | I13: CC-CZ:
D14: Místo: | F14: Roudnice nad Labem | I14: Datum: | J14: ='Rekapitulace stavby'!AN8 -> 17. 9. 2024
D16: Zadavatel: | I16: IČ: | J16: =IF('Rekapitulace stavby'!AN10="","",'Rekapitulace stavby'!AN10)
E17: =IF('Rekapitulace stavby'!E11="","",'Rekapitulace stavby'!E11) | I17: DIČ: | J17: =IF('Rekapitulace stavby'!AN11="","",'Rekapitulace stavby'!AN11)
D19: Uchazeč: | I19: IČ: | J19: ='Rekapitulace stavby'!AN13 -> Vyplň údaj
E20: ='Rekapitulace stavby'!E14 -> Vyplň údaj | I20: DIČ: | J20: ='Rekapitulace stavby'!AN14 -> Vyplň údaj
D22: Projektant: | I22: IČ: | J22: =IF('Rekapitulace stavby'!AN16="","",'Rekapitulace stavby'!AN16)
E23: =IF('Rekapitulace stavby'!E17="","",'Rekapitulace stavby'!E17) -> PK dopravní s.r.o. | I23: DIČ: | J23: =IF('Rekapitulace stavby'!AN17="","",'Rekapitulace stavby'!AN17)
D25: Zpracovatel: | I25: IČ: | J25: =IF('Rekapitulace stavby'!AN19="","",'Rekapitulace stavby'!AN19)
E26: =IF('Rekapitulace stavby'!E20="","",'Rekapitulace stavby'!E20) | I26: DIČ: | J26: =IF('Rekapitulace stavby'!AN20="","",'Rekapitulace stavby'!AN20)
D28: Poznámka:
D32: Cena bez DPH | J32: =ROUND(J90, 2) -> 0
F34: Základ daně | I34: Sazba daně | J34: Výše daně
D35: DPH | E35: základní | F35: =ROUND((SUM(BE90:BE201)), 2) -> 0 | I35: 0.21 | J35: =ROUND(((SUM(BE90:BE201))*I35), 2) -> 0
E36: snížená | F36: =ROUND((SUM(BF90:BF201)), 2) -> 0 | I36: 0.12 | J36: =ROUND(((SUM(BF90:BF201))*I36), 2) -> 0
E37: zákl. přenesená | F37: =ROUND((SUM(BG90:BG201)), 2) -> 0 | I37: 0.21 | J37: =0 -> 0
E38: sníž. přenesená | F38: =ROUND((SUM(BH90:BH201)), 2) -> 0 | I38: 0.12 | J38: =0 -> 0
E39: nulová | F39: =ROUND((SUM(BI90:BI201)), 2) -> 0 | I39: 0 | J39: =0 -> 0
D41: Cena s DPH | G41: v | H41: CZK | J41: =SUM(J32:J39) -> 0
C47: REKAPITULACE ČLENĚNÍ SOUPISU PRACÍ
C49: Stavba:
E50: =E7 -> Roudnice nad Labem - přechody v centru města
C51: Objekt:
E52: SO 101 - Přechod pro chodce oblast ´most´
C53: Soupis:
E54: =E11 -> SO 401 - Veřejné osvětlení
C56: Místo: | F56: =F14 -> Roudnice nad Labem | I56: Datum: | J56: =IF(J14="","",J14) -> 17. 9. 2024
C58: Zadavatel: | F58: =E17 | I58: Projektant: | J58: =E23 -> PK dopravní s.r.o.
C59: Uchazeč: | F59: =IF(E20="","",E20) -> Vyplň údaj | I59: Zpracovatel: | J59: =E26
C61: Kód dílu - Popis | J61: Cena celkem [CZK]
C63: Náklady stavby celkem | J63: =J90 -> 0 | AU63: -1
D64: D0 - Instalační materiál a kabelová vedení | J64: =J91 -> 0
D65: D1 - Demontáže | J65: =J134 -> 0
D66: D2 - Montážní práce | J66: =J141 -> 0
D67: D3 - Zemní práce | J67: =J184 -> 0
D68: OST - Ostatní | J68: =J197 -> 0
C75: SOUPIS PRACÍ
C77: Stavba:
E78: =E7 -> Roudnice nad Labem - přechody v centru města
C79: Objekt:
E80: SO 101 - Přechod pro chodce oblast ´most´
C81: Soupis:
E82: =E11 -> SO 401 - Veřejné osvětlení
C84: Místo: | F84: =F14 -> Roudnice nad Labem | I84: Datum: | J84: =IF(J14="","",J14) -> 17. 9. 2024
C86: Zadavatel: | F86: =E17 | I86: Projektant: | J86: =E23 -> PK dopravní s.r.o.
C87: Uchazeč: | F87: =IF(E20="","",E20) -> Vyplň údaj | I87: Zpracovatel: | J87: =E26
C89: PČ | D89: Typ | E89: Kód | F89: Popis | G89: MJ | H89: Množství | I89: J.cena [CZK] | J89: Cena celkem [CZK] | K89: Cenová soustava | N89: DPH | O89: J. Nh [h] | P89: Nh celkem [h] | Q89: J. hmotnost [t] | R89: Hmotnost celkem [t] | S89: J. suť [t] | T89: Suť Celkem [t]
C90: Náklady soupisu celkem | J90: =BK90 -> 0 | P90: =P91+P134+P141+P184+P197 -> 0 | R90: =R91+R134+R141+R184+R197 -> 0 | T90: =T91+T134+T141+T184+T197 -> 0 | AT90: D | AU90: -1 | BK90: =BK91+BK134+BK141+BK184+BK197 -> 0
D91: D | E91: D0 | F91: Instalační materiál a kabelová vedení | J91: =BK91 -> 0 | P91: =SUM(P92:P133) -> 0 | R91: =SUM(R92:R133) -> 0 | T91: =SUM(T92:T133) -> 0 | AR91: 1 | AT91: D | AU91: 0 | AY91: ROZPOCET | BK91: =SUM(BK92:BK133) -> 0
C92: 1 | D92: M | E92: Pol1 | F92: CYKY - J 4x16 mm (B) | G92: m | H92: 5 | J92: =ROUND(I92*H92,2) -> 0 | N92: základní | P92: =O92*H92 -> 0 | Q92: 0 | R92: =Q92*H92 -> 0 | S92: 0 | T92: =S92*H92 -> 0 | AR92: 8 | AT92: M | AU92: 1 | AY92: ROZPOCET | BE92: =IF(N92="základní",J92,0) -> 0 | BF92: =IF(N92="snížená",J92,0) -> 0 | BG92: =IF(N92="zákl. přenesená",J92,0) -> 0 | BH92: =IF(N92="sníž. přenesená",J92,0) -> 0 | BI92: =IF(N92="nulová",J92,0) -> 0 | BJ92: 1 | BK92: =ROUND(I92*H92,2) -> 0 | BL92: 4 | BM92: 2
D93: PP | F93: CYKY - J 4x16 mm (B) | AT93: PP | AU93: 1
C94: 2 | D94: M | E94: Pol2 | F94: CYKY - J 3 x 4 mm (C) | G94: m | H94: 3 | J94: =ROUND(I94*H94,2) -> 0 | N94: základní | P94: =O94*H94 -> 0 | Q94: 0 | R94: =Q94*H94 -> 0 | S94: 0 | T94: =S94*H94 -> 0 | AR94: 8 | AT94: M | AU94: 1 | AY94: ROZPOCET | BE94: =IF(N94="základní",J94,0) -> 0 | BF94: =IF(N94="snížená",J94,0) -> 0 | BG94: =IF(N94="zákl. přenesená",J94,0) -> 0 | BH94: =IF(N94="sníž. přenesená",J94,0) -> 0 | BI94: =IF(N94="nulová",J94,0) -> 0 | BJ94: 1 | BK94: =ROUND(I94*H94,2) -> 0 | BL94: 4 | BM94: 4
D95: PP | F95: CYKY - J 3 x 4 mm (C) | AT95: PP | AU95: 1
C96: 3 | D96: M | E96: Pol3 | F96: Kabel CYKY - J 3x1,5 mm (C) | G96: m | H96: 15 | J96: =ROUND(I96*H96,2) -> 0 | N96: základní | P96: =O96*H96 -> 0 | Q96: 0 | R96: =Q96*H96 -> 0 | S96: 0 | T96: =S96*H96 -> 0 | AR96: 8 | AT96: M | AU96: 1 | AY96: ROZPOCET | BE96: =IF(N96="základní",J96,0) -> 0 | BF96: =IF(N96="snížená",J96,0) -> 0 | BG96: =IF(N96="zákl. přenesená",J96,0) -> 0 | BH96: =IF(N96="sníž. přenesená",J96,0) -> 0 | BI96: =IF(N96="nulová",J96,0) -> 0 | BJ96: 1 | BK96: =ROUND(I96*H96,2) -> 0 | BL96: 4 | BM96: 6
D97: PP | F97: Kabel CYKY - J 3x1,5 mm (C) | AT97: PP | AU97: 1
C98: 4 | D98: M | E98: Pol4 | F98: Drát 10 PVC 10/13 FeZn+PVC 0,695kg/m | G98: m | H98: 3 | J98: =ROUND(I98*H98,2) -> 0 | N98: základní | P98: =O98*H98 -> 0 | Q98: 0 | R98: =Q98*H98 -> 0 | S98: 0 | T98: =S98*H98 -> 0 | AR98: 8 | AT98: M | AU98: 1 | AY98: ROZPOCET | BE98: =IF(N98="základní",J98,0) -> 0 | BF98: =IF(N98="snížená",J98,0) -> 0 | BG98: =IF(N98="zákl. přenesená",J98,0) -> 0 | BH98: =IF(N98="sníž. přenesená",J98,0) -> 0 | BI98: =IF(N98="nulová",J98,0) -> 0 | BJ98: 1 | BK98: =ROUND(I98*H98,2) -> 0 | BL98: 4 | BM98: 8
D99: PP | F99: Drát 10 PVC 10/13 FeZn+PVC 0,695kg/m | AT99: PP | AU99: 1
C100: 5 | D100: M | E100: Pol5 | F100: SP - svorka připojovací | G100: ks | H100: 2 | J100: =ROUND(I100*H100,2) -> 0 | N100: základní | P100: =O100*H100 -> 0 | Q100: 0 | R100: =Q100*H100 -> 0 | S100: 0 | T100: =S100*H100 -> 0 | AR100: 8 | AT100: M | AU100: 1 | AY100: ROZPOCET | BE100: =IF(N100="základní",J100,0) -> 0 | BF100: =IF(N100="snížená",J100,0) -> 0 | BG100: =IF(N100="zákl. přenesená",J100,0) -> 0 | BH100: =IF(N100="sníž. přenesená",J100,0) -> 0 | BI100: =IF(N100="nulová",J100,0) -> 0 | BJ100: 1 | BK100: =ROUND(I100*H100,2) -> 0 | BL100: 4 | BM100: 10
D101: PP | F101: SP - svorka připojovací | AT101: PP | AU101: 1
C102: 6 | D102: M | E102: Pol6 | F102: SU - svorka univerzální V001 | G102: ks | H102: 4 | J102: =ROUND(I102*H102,2) -> 0 | N102: základní | P102: =O102*H102 -> 0 | Q102: 0 | R102: =Q102*H102 -> 0 | S102: 0 | T102: =S102*H102 -> 0 | AR102: 8 | AT102: M | AU102: 1 | AY102: ROZPOCET | BE102: =IF(N102="základní",J102,0) -> 0 | BF102: =IF(N102="snížená",J102,0) -> 0 | BG102: =IF(N102="zákl. přenesená",J102,0) -> 0 | BH102: =IF(N102="sníž. přenesená",J102,0) -> 0 | BI102: =IF(N102="nulová",J102,0) -> 0 | BJ102: 1 | BK102: =ROUND(I102*H102,2) -> 0 | BL102: 4 | BM102: 12
D103: PP | F103: SU - svorka univerzální V001 | AT103: PP | AU103: 1
C104: 7 | D104: M | E104: Pol7 | F104: Stožár přechodový STP 6-A (133/89/76) bezpaticový 3-stup. | G104: ks | H104: 2 | J104: =ROUND(I104*H104,2) -> 0 | N104: základní | P104: =O104*H104 -> 0 | Q104: 0 | R104: =Q104*H104 -> 0 | S104: 0 | T104: =S104*H104 -> 0 | AR104: 8 | AT104: M | AU104: 1 | AY104: ROZPOCET | BE104: =IF(N104="základní",J104,0) -> 0 | BF104: =IF(N104="snížená",J104,0) -> 0 | BG104: =IF(N104="zákl. přenesená",J104,0) -> 0 | BH104: =IF(N104="sníž. přenesená",J104,0) -> 0 | BI104: =IF(N104="nulová",J104,0) -> 0 | BJ104: 1 | BK104: =ROUND(I104*H104,2) -> 0 | BL104: 4 | BM104: 14
D105: PP | F105: Stožár přechodový STP 6-A (133/89/76) bezpaticový 3-stup. | AT105: PP | AU105: 1
C106: 8 | D106: M | E106: Pol8 | F106: Stožár přechodový STP 6-B (133/108/89) bezpaticový 3-stup. | G106: ks | H106: 2 | J106: =ROUND(I106*H106,2) -> 0 | N106: základní | P106: =O106*H106 -> 0 | Q106: 0 | R106: =Q106*H106 -> 0 | S106: 0 | T106: =S106*H106 -> 0 | AR106: 8 | AT106: M | AU106: 1 | AY106: ROZPOCET | BE106: =IF(N106="základní",J106,0) -> 0 | BF106: =IF(N106="snížená",J106,0) -> 0 | BG106: =IF(N106="zákl. přenesená",J106,0) -> 0 | BH106: =IF(N106="sníž. přenesená",J106,0) -> 0 | BI106: =IF(N106="nulová",J106,0) -> 0 | BJ106: 1 | BK106: =ROUND(I106*H106,2) -> 0 | BL106: 4 | BM106: 16
D107: PP | F107: Stožár přechodový STP 6-B (133/108/89) bezpaticový 3-stup. | AT107: PP | AU107: 1
C108: 9 | D108: M | E108: Pol9 | F108: Výložník UD1-500A na d=76, pozink | G108: ks | H108: 1 | J108: =ROUND(I108*H108,2) -> 0 | N108: základní | P108: =O108*H108 -> 0 | Q108: 0 | R108: =Q108*H108 -> 0 | S108: 0 | T108: =S108*H108 -> 0 | AR108: 8 | AT108: M | AU108: 1 | AY108: ROZPOCET | BE108: =IF(N108="základní",J108,0) -> 0 | BF108: =IF(N108="snížená",J108,0) -> 0 | BG108: =IF(N108="zákl. přenesená",J108,0) -> 0 | BH108: =IF(N108="sníž. přenesená",J108,0) -> 0 | BI108: =IF(N108="nulová",J108,0) -> 0 | BJ108: 1 | BK108: =ROUND(I108*H108,2) -> 0 | BL108: 4 | BM108: 18
D109: PP | F109: Výložník UD1-500A na d=76, pozink | AT109: PP | AU109: 1
C110: 10 | D110: M | E110: Pol10 | F110: Výložník UD1-2000B na d=89, pozink | G110: ks | H110: 1 | J110: =ROUND(I110*H110,2) -> 0 | N110: základní | P110: =O110*H110 -> 0 | Q110: 0 | R110: =Q110*H110 -> 0 | S110: 0 | T110: =S110*H110 -> 0 | AR110: 8 | AT110: M | AU110: 1 | AY110: ROZPOCET | BE110: =IF(N110="základní",J110,0) -> 0 | BF110: =IF(N110="snížená",J110,0) -> 0 | BG110: =IF(N110="zákl. přenesená",J110,0) -> 0 | BH110: =IF(N110="sníž. přenesená",J110,0) -> 0 | BI110: =IF(N110="nulová",J110,0) -> 0 | BJ110: 1 | BK110: =ROUND(I110*H110,2) -> 0 | BL110: 4 | BM110: 20
D111: PP | F111: Výložník UD1-2000B na d=89, pozink | AT111: PP | AU111: 1
C112: 11 | D112: M | E112: Pol11 | F112: Ochranná manžeta OMP 133 | G112: ks | H112: 2 | J112: =ROUND(I112*H112,2) -> 0 | N112: základní | P112: =O112*H112 -> 0 | Q112: 0 | R112: =Q112*H112 -> 0 | S112: 0 | T112: =S112*H112 -> 0 | AR112: 8 | AT112: M | AU112: 1 | AY112: ROZPOCET | BE112: =IF(N112="základní",J112,0) -> 0 | BF112: =IF(N112="snížená",J112,0) -> 0 | BG112: =IF(N112="zákl. přenesená",J112,0) -> 0 | BH112: =IF(N112="sníž. přenesená",J112,0) -> 0 | BI112: =IF(N112="nulová",J112,0) -> 0 | BJ112: 1 | BK112: =ROUND(I112*H112,2) -> 0 | BL112: 4 | BM112: 22
D113: PP | F113: Ochranná manžeta OMP 133 | AT113: PP | AU113: 1
C114: 12 | D114: M | E114: Pol12 | F114: Trubka ochranná korugovaná 63 (09063 BA) | G114: m | H114: 5 | J114: =ROUND(I114*H114,2) -> 0 | N114: základní | P114: =O114*H114 -> 0 | Q114: 0 | R114: =Q114*H114 -> 0 | S114: 0 | T114: =S114*H114 -> 0 | AR114: 8 | AT114: M | AU114: 1 | AY114: ROZPOCET | BE114: =IF(N114="základní",J114,0) -> 0 | BF114: =IF(N114="snížená",J114,0) -> 0 | BG114: =IF(N114="zákl. přenesená",J114,0) -> 0 | BH114: =IF(N114="sníž. přenesená",J114,0) -> 0 | BI114: =IF(N114="nulová",J114,0) -> 0 | BJ114: 1 | BK114: =ROUND(I114*H114,2) -> 0 | BL114: 4 | BM114: 24
D115: PP | F115: Trubka ochranná korugovaná 63 (09063 BA) | AT115: PP | AU115: 1
C116: 13 | D116: M | E116: Pol13 | F116: Výstražná folie 22/50 | G116: m | H116: 3 | J116: =ROUND(I116*H116,2) -> 0 | N116: základní | P116: =O116*H116 -> 0 | Q116: 0 | R116: =Q116*H116 -> 0 | S116: 0 | T116: =S116*H116 -> 0 | AR116: 8 | AT116: M | AU116: 1 | AY116: ROZPOCET | BE116: =IF(N116="základní",J116,0) -> 0 | BF116: =IF(N116="snížená",J116,0) -> 0 | BG116: =IF(N116="zákl. přenesená",J116,0) -> 0 | BH116: =IF(N116="sníž. přenesená",J116,0) -> 0 | BI116: =IF(N116="nulová",J116,0) -> 0 | BJ116: 1 | BK116: =ROUND(I116*H116,2) -> 0 | BL116: 4 | BM116: 26
D117: PP | F117: Výstražná folie 22/50 | AT117: PP | AU117: 1
C118: 14 | D118: M | E118: Pol14 | F118: SV-A 6.16.4 stožár.výzbroj /H416110/ | G118: ks | H118: 2 | J118: =ROUND(I118*H118,2) -> 0 | N118: základní | P118: =O118*H118 -> 0 | Q118: 0 | R118: =Q118*H118 -> 0 | S118: 0 | T118: =S118*H118 -> 0 | AR118: 8 | AT118: M | AU118: 1 | AY118: ROZPOCET | BE118: =IF(N118="základní",J118,0) -> 0 | BF118: =IF(N118="snížená",J118,0) -> 0 | BG118: =IF(N118="zákl. přenesená",J118,0) -> 0 | BH118: =IF(N118="sníž. přenesená",J118,0) -> 0 | BI118: =IF(N118="nulová",J118,0) -> 0 | BJ118: 1 | BK118: =ROUND(I118*H118,2) -> 0 | BL118: 4 | BM118: 28
D119: PP | F119: SV-A 6.16.4 stožár.výzbroj /H416110/ | AT119: PP | AU119: 1
C120: 15 | D120: M | E120: Pol15 | F120: Poj.6A D01 gL/gG E14 | G120: ks | H120: 2 | J120: =ROUND(I120*H120,2) -> 0 | N120: základní | P120: =O120*H120 -> 0 | Q120: 0 | R120: =Q120*H120 -> 0 | S120: 0 | T120: =S120*H120 -> 0 | AR120: 8 | AT120: M | AU120: 1 | AY120: ROZPOCET | BE120: =IF(N120="základní",J120,0) -> 0 | BF120: =IF(N120="snížená",J120,0) -> 0 | BG120: =IF(N120="zákl. přenesená",J120,0) -> 0 | BH120: =IF(N120="sníž. přenesená",J120,0) -> 0 | BI120: =IF(N120="nulová",J120,0) -> 0 | BJ120: 1 | BK120: =ROUND(I120*H120,2) -> 0 | BL120: 4 | BM120: 30
D121: PP | F121: Poj.6A D01 gL/gG E14 | AT121: PP | AU121: 1
C122: 16 | D122: M | E122: Pol16 | F122: Svítidlo TECEO S (Zebra right) /5369/20 LED/500mA/NW/Back light/32,1W/4236lm | G122: ks | H122: 1 | J122: =ROUND(I122*H122,2) -> 0 | N122: základní | P122: =O122*H122 -> 0 | Q122: 0 | R122: =Q122*H122 -> 0 | S122: 0 | T122: =S122*H122 -> 0 | AR122: 8 | AT122: M | AU122: 1 | AY122: ROZPOCET | BE122: =IF(N122="základní",J122,0) -> 0 | BF122: =IF(N122="snížená",J122,0) -> 0 | BG122: =IF(N122="zákl. přenesená",J122,0) -> 0 | BH122: =IF(N122="sníž. přenesená",J122,0) -> 0 | BI122: =IF(N122="nulová",J122,0) -> 0 | BJ122: 1 | BK122: =ROUND(I122*H122,2) -> 0 | BL122: 4 | BM122: 32
D123: PP | F123: Svítidlo TECEO S (Zebra right) /5369/20 LED/500mA/NW/Back light/32,1W/4236lm | AT123: PP | AU123: 1
D124: P | F124: Poznámka k položce:_x000D_ svítidlo vybaveno programovatelnou regulací příkonu a CLO | AT124: P | AU124: 1
C125: 17 | D125: M | E125: Pol17 | F125: Svítidlo TECEO S (Zebra right) /5369/20 LED/NW/Back light/350 mA/22,4W/3101lm | G125: ks | H125: 1 | J125: =ROUND(I125*H125,2) -> 0 | N125: základní | P125: =O125*H125 -> 0 | Q125: 0 | R125: =Q125*H125 -> 0 | S125: 0 | T125: =S125*H125 -> 0 | AR125: 8 | AT125: M | AU125: 1 | AY125: ROZPOCET | BE125: =IF(N125="základní",J125,0) -> 0 | BF125: =IF(N125="snížená",J125,0) -> 0 | BG125: =IF(N125="zákl. přenesená",J125,0) -> 0 | BH125: =IF(N125="sníž. přenesená",J125,0) -> 0 | BI125: =IF(N125="nulová",J125,0) -> 0 | BJ125: 1 | BK125: =ROUND(I125*H125,2) -> 0 | BL125: 4 | BM125: 34
D126: PP | F126: Svítidlo TECEO S (Zebra right) /5369/20 LED/NW/Back light/350 mA/22,4W/3101lm | AT126: PP | AU126: 1
D127: P | F127: Poznámka k položce:_x000D_ svítidlo vybaveno programovatelnou regulací příkonu a CLO | AT127: P | AU127: 1
C128: 18 | D128: M | E128: Pol18 | F128: Recykl. poplatek 8,40 Kč svítidlo | G128: ks | H128: 2 | J128: =ROUND(I128*H128,2) -> 0 | N128: základní | P128: =O128*H128 -> 0 | Q128: 0 | R128: =Q128*H128 -> 0 | S128: 0 | T128: =S128*H128 -> 0 | AR128: 8 | AT128: M | AU128: 1 | AY128: ROZPOCET | BE128: =IF(N128="základní",J128,0) -> 0 | BF128: =IF(N128="snížená",J128,0) -> 0 | BG128: =IF(N128="zákl. přenesená",J128,0) -> 0 | BH128: =IF(N128="sníž. přenesená",J128,0) -> 0 | BI128: =IF(N128="nulová",J128,0) -> 0 | BJ128: 1 | BK128: =ROUND(I128*H128,2) -> 0 | BL128: 4 | BM128: 36
D129: PP | F129: Recykl. poplatek 8,40 Kč svítidlo | AT129: PP | AU129: 1
C130: 19 | D130: M | E130: Pol19 | F130: SMH4 1,5-6 kabelová spojka 145247 | G130: ks | H130: 1 | J130: =ROUND(I130*H130,2) -> 0 | N130: základní | P130: =O130*H130 -> 0 | Q130: 0 | R130: =Q130*H130 -> 0 | S130: 0 | T130: =S130*H130 -> 0 | AR130: 8 | AT130: M | AU130: 1 | AY130: ROZPOCET | BE130: =IF(N130="základní",J130,0) -> 0 | BF130: =IF(N130="snížená",J130,0) -> 0 | BG130: =IF(N130="zákl. přenesená",J130,0) -> 0 | BH130: =IF(N130="sníž. přenesená",J130,0) -> 0 | BI130: =IF(N130="nulová",J130,0) -> 0 | BJ130: 1 | BK130: =ROUND(I130*H130,2) -> 0 | BL130: 4 | BM130: 38
D131: PP | F131: SMH4 1,5-6 kabelová spojka 145247 | AT131: PP | AU131: 1
C132: 20 | D132: M | E132: Pol20 | F132: SMH4 6-25 smršt.spojka 145300 | G132: ks | H132: 1 | J132: =ROUND(I132*H132,2) -> 0 | N132: základní | P132: =O132*H132 -> 0 | Q132: 0 | R132: =Q132*H132 -> 0 | S132: 0 | T132: =S132*H132 -> 0 | AR132: 8 | AT132: M | AU132: 1 | AY132: ROZPOCET | BE132: =IF(N132="základní",J132,0) -> 0 | BF132: =IF(N132="snížená",J132,0) -> 0 | BG132: =IF(N132="zákl. přenesená",J132,0) -> 0 | BH132: =IF(N132="sníž. přenesená",J132,0) -> 0 | BI132: =IF(N132="nulová",J132,0) -> 0 | BJ132: 1 | BK132: =ROUND(I132*H132,2) -> 0 | BL132: 4 | BM132: 40
D133: PP | F133: SMH4 6-25 smršt.spojka 145300 | AT133: PP | AU133: 1
...

Sheet VRN 101 - Vedlejší rozpoč...
AT2: {b72e467f-2a35-4ba7-8352-7cecca9cd774}
AT3: 2
D4: KRYCÍ LIST SOUPISU PRACÍ | M4: v --- níže se nacházejí doplnkové a pomocné údaje k sestavám --- v | AT4: False
D6: Stavba:
E7: ='Rekapitulace stavby'!K6 -> Roudnice nad Labem - přechody v centru města
D8: Objekt:
E9: SO 101 - Přechod pro chodce oblast ´most´
D10: Soupis:
E11: VRN 101 - Vedlejší rozpočtové náklady
D13: KSO: | F13: 822 2 | I13: CC-CZ:
D14: Místo: | F14: Roudnice nad Labem | I14: Datum: | J14: ='Rekapitulace stavby'!AN8 -> 17. 9. 2024
D16: Zadavatel: | I16: IČ: | J16: =IF('Rekapitulace stavby'!AN10="","",'Rekapitulace stavby'!AN10)
E17: =IF('Rekapitulace stavby'!E11="","",'Rekapitulace stavby'!E11) | I17: DIČ: | J17: =IF('Rekapitulace stavby'!AN11="","",'Rekapitulace stavby'!AN11)
D19: Uchazeč: | I19: IČ: | J19: ='Rekapitulace stavby'!AN13 -> Vyplň údaj
E20: ='Rekapitulace stavby'!E14 -> Vyplň údaj | I20: DIČ: | J20: ='Rekapitulace stavby'!AN14 -> Vyplň údaj
D22: Projektant: | I22: IČ:
E23: PK dopravní s.r.o. | I23: DIČ:
D25: Zpracovatel: | I25: IČ: | J25: =IF('Rekapitulace stavby'!AN19="","",'Rekapitulace stavby'!AN19)
E26: =IF('Rekapitulace stavby'!E20="","",'Rekapitulace stavby'!E20) | I26: DIČ: | J26: =IF('Rekapitulace stavby'!AN20="","",'Rekapitulace stavby'!AN20)
D28: Poznámka:
D32: Cena bez DPH | J32: =ROUND(J89, 2) -> 0
F34: Základ daně | I34: Sazba daně | J34: Výše daně
D35: DPH | E35: základní | F35: =ROUND((SUM(BE89:BE114)), 2) -> 0 | I35: 0.21 | J35: =ROUND(((SUM(BE89:BE114))*I35), 2) -> 0
E36: snížená | F36: =ROUND((SUM(BF89:BF114)), 2) -> 0 | I36: 0.12 | J36: =ROUND(((SUM(BF89:BF114))*I36), 2) -> 0
E37: zákl. přenesená | F37: =ROUND((SUM(BG89:BG114)), 2) -> 0 | I37: 0.21 | J37: =0 -> 0
E38: sníž. přenesená | F38: =ROUND((SUM(BH89:BH114)), 2) -> 0 | I38: 0.12 | J38: =0 -> 0
E39: nulová | F39: =ROUND((SUM(BI89:BI114)), 2) -> 0 | I39: 0 | J39: =0 -> 0
D41: Cena s DPH | G41: v | H41: CZK | J41: =SUM(J32:J39) -> 0
C47: REKAPITULACE ČLENĚNÍ SOUPISU PRACÍ
C49: Stavba:
E50: =E7 -> Roudnice nad Labem - přechody v centru města
C51: Objekt:
E52: SO 101 - Přechod pro chodce oblast ´most´
C53: Soupis:
E54: =E11 -> VRN 101 - Vedlejší rozpočtové náklady
C56: Místo: | F56: =F14 -> Roudnice nad Labem | I56: Datum: | J56: =IF(J14="","",J14) -> 17. 9. 2024
C58: Zadavatel: | F58: =E17 | I58: Projektant: | J58: =E23 -> PK dopravní s.r.o.
C59: Uchazeč: | F59: =IF(E20="","",E20) -> Vyplň údaj | I59: Zpracovatel: | J59: =E26
C61: Kód dílu - Popis | J61: Cena celkem [CZK]
C63: Náklady stavby celkem | J63: =J89 -> 0 | AU63: -1
D64: VRN - Vedlejší rozpočtové náklady | J64: =J90 -> 0
D65: VRN1 - Průzkumné, geodetické a projektové práce | J65: =J91 -> 0
D66: VRN3 - Zařízení staveniště | J66: =J101 -> 0
D67: VRN4 - Inženýrská činnost | J67: =J109 -> 0
C74: SOUPIS PRACÍ
C76: Stavba:
E77: =E7 -> Roudnice nad Labem - přechody v centru města
C78: Objekt:
E79: SO 101 - Přechod pro chodce oblast ´most´
C80: Soupis:
E81: =E11 -> VRN 101 - Vedlejší rozpočtové náklady
C83: Místo: | F83: =F14 -> Roudnice nad Labem | I83: Datum: | J83: =IF(J14="","",J14) -> 17. 9. 2024
C85: Zadavatel: | F85: =E17 | I85: Projektant: | J85: =E23 -> PK dopravní s.r.o.
C86: Uchazeč: | F86: =IF(E20="","",E20) -> Vyplň údaj | I86: Zpracovatel: | J86: =E26
C88: PČ | D88: Typ | E88: Kód | F88: Popis | G88: MJ | H88: Množství | I88: J.cena [CZK] | J88: Cena celkem [CZK] | K88: Cenová soustava | N88: DPH | O88: J. Nh [h] | P88: Nh celkem [h] | Q88: J. hmotnost [t] | R88: Hmotnost celkem [t] | S88: J. suť [t] | T88: Suť Celkem [t]
C89: Náklady soupisu celkem | J89: =BK89 -> 0 | P89: =P90 -> 0 | R89: =R90 -> 0 | T89: =T90 -> 0 | AT89: D | AU89: -1 | BK89: =BK90 -> 0
D90: D | E90: VRN | F90: Vedlejší rozpočtové náklady | J90: =BK90 -> 0 | P90: =P91+P101+P109 -> 0 | R90: =R91+R101+R109 -> 0 | T90: =T91+T101+T109 -> 0 | AR90: 5 | AT90: D | AU90: 0 | AY90: ROZPOCET | BK90: =BK91+BK101+BK109 -> 0
D91: D | E91: VRN1 | F91: Průzkumné, geodetické a projektové práce | J91: =BK91 -> 0 | P91: =SUM(P92:P100) -> 0 | R91: =SUM(R92:R100) -> 0 | T91: =SUM(T92:T100) -> 0 | AR91: 5 | AT91: D | AU91: 1 | AY91: ROZPOCET | BK91: =SUM(BK92:BK100) -> 0
C92: 1 | D92: K | E92: 012164000 | F92: Vytyčení a zaměření inženýrských sítí | G92: kpl | H92: 1 | J92: =ROUND(I92*H92,2) -> 0 | K92: CS ÚRS 2024 02 | N92: základní | P92: =O92*H92 -> 0 | Q92: 0 | R92: =Q92*H92 -> 0 | S92: 0 | T92: =S92*H92 -> 0 | AR92: 1024 | AT92: K | AU92: 2 | AY92: ROZPOCET | BE92: =IF(N92="základní",J92,0) -> 0 | BF92: =IF(N92="snížená",J92,0) -> 0 | BG92: =IF(N92="zákl. přenesená",J92,0) -> 0 | BH92: =IF(N92="sníž. přenesená",J92,0) -> 0 | BI92: =IF(N92="nulová",J92,0) -> 0 | BJ92: 1 | BK92: =ROUND(I92*H92,2) -> 0 | BL92: 1024 | BM92: -937734132
D93: PP | F93: Vytyčení a zaměření inženýrských sítí | AT93: PP | AU93: 2
D94: Online PSC | F94: https://podminky.urs.cz/item/CS_URS_2024_02/012164000 | AT94: Online PSC | AU94: 2
C95: 2 | D95: K | E95: 012303000 | F95: Zeměměřičské práce při provádění stavby | G95: kpl | H95: 1 | J95: =ROUND(I95*H95,2) -> 0 | K95: CS ÚRS 2024 02 | N95: základní | P95: =O95*H95 -> 0 | Q95: 0 | R95: =Q95*H95 -> 0 | S95: 0 | T95: =S95*H95 -> 0 | AR95: 1024 | AT95: K | AU95: 2 | AY95: ROZPOCET | BE95: =IF(N95="základní",J95,0) -> 0 | BF95: =IF(N95="snížená",J95,0) -> 0 | BG95: =IF(N95="zákl. přenesená",J95,0) -> 0 | BH95: =IF(N95="sníž. přenesená",J95,0) -> 0 | BI95: =IF(N95="nulová",J95,0) -> 0 | BJ95: 1 | BK95: =ROUND(I95*H95,2) -> 0 | BL95: 1024 | BM95: 1543047127
D96: PP | F96: Zeměměřičské práce při provádění stavby | AT96: PP | AU96: 2
D97: Online PSC | F97: https://podminky.urs.cz/item/CS_URS_2024_02/012303000 | AT97: Online PSC | AU97: 2
C98: 3 | D98: K | E98: 012444000 | F98: Geodetické měření skutečného provedení stavby | G98: kpl | H98: 1 | J98: =ROUND(I98*H98,2) -> 0 | K98: CS ÚRS 2024 02 | N98: základní | P98: =O98*H98 -> 0 | Q98: 0 | R98: =Q98*H98 -> 0 | S98: 0 | T98: =S98*H98 -> 0 | AR98: 1024 | AT98: K | AU98: 2 | AY98: ROZPOCET | BE98: =IF(N98="základní",J98,0) -> 0 | BF98: =IF(N98="snížená",J98,0) -> 0 | BG98: =IF(N98="zákl. přenesená",J98,0) -> 0 | BH98: =IF(N98="sníž. přenesená",J98,0) -> 0 | BI98: =IF(N98="nulová",J98,0) -> 0 | BJ98: 1 | BK98: =ROUND(I98*H98,2) -> 0 | BL98: 1024 | BM98: -1331217186
D99: PP | F99: Geodetické měření skutečného provedení stavby | AT99: PP | AU99: 2
D100: Online PSC | F100: https://podminky.urs.cz/item/CS_URS_2024_02/012444000 | AT100: Online PSC | AU100: 2
D101: D | E101: VRN3 | F101: Zařízení staveniště | J101: =BK101 -> 0 | P101: =SUM(P102:P108) -> 0 | R101: =SUM(R102:R108) -> 0 | T101: =SUM(T102:T108) -> 0 | AR101: 5 | AT101: D | AU101: 1 | AY101: ROZPOCET | BK101: =SUM(BK102:BK108) -> 0
C102: 4 | D102: K | E102: 030001000 | F102: Zařízení staveniště | G102: kpl | H102: 1 | J102: =ROUND(I102*H102,2) -> 0 | K102: CS ÚRS 2024 02 | N102: základní | P102: =O102*H102 -> 0 | Q102: 0 | R102: =Q102*H102 -> 0 | S102: 0 | T102: =S102*H102 -> 0 | AR102: 1024 | AT102: K | AU102: 2 | AY102: ROZPOCET | BE102: =IF(N102="základní",J102,0) -> 0 | BF102: =IF(N102="snížená",J102,0) -> 0 | BG102: =IF(N102="zákl. přenesená",J102,0) -> 0 | BH102: =IF(N102="sníž. přenesená",J102,0) -> 0 | BI102: =IF(N102="nulová",J102,0) -> 0 | BJ102: 1 | BK102: =ROUND(I102*H102,2) -> 0 | BL102: 1024 | BM102: -386089193
D103: PP | F103: Zařízení staveniště | AT103: PP | AU103: 2
D104: Online PSC | F104: https://podminky.urs.cz/item/CS_URS_2024_02/030001000 | AT104: Online PSC | AU104: 2
D105: P | F105: Poznámka k položce:_x000D_ Kompletní zařízení staveniště pro celou stavbu včetně zajištění potřebných povolení a rozhodnutí. _x000D_ Položka zahrnuje náklady spojené se staveništními komunikacemi, vstupem a vjezdem na staveniště, nasvětlení výkopů a lávky přes výkopy, staveništní přípojky vody, kanalizace, elektrické energie, zajištění dodávky elektrické energie, rozvody médií po stavbě a s tím spojených nákladů s odstávkou a zabezpečení stávajících IS proti poškození, kancelářské plochy pro potřeby zhotovitele a zástupce investora, sociální zařízení, zajištění skladovacích ploch a prostor pro potřeby stavby. Komplexní ostrahu a zabezpečení staveniště. Monitoring vlivu stavby na okolní prostředí (hluk, prašnost, doprava).Poplatky a náklady spojené se záborem veřejného prostranství a s tím související dopravní značení a zabezpečení pracoviště.Poplatky a náklady za spotřebované energie, plyn a vodu atd. v době výstavby až do předání díla.Zajištění údržby veřejných komunikací a komunikací pro pěší v průběhu celé stavby, včetně případné zimní údržby. | AT105: P | AU105: 2
C106: 5 | D106: K | E106: 034303000 | F106: Dopravní značení na staveništi | G106: kpl | H106: 1 | J106: =ROUND(I106*H106,2) -> 0 | K106: CS ÚRS 2024 02 | N106: základní | P106: =O106*H106 -> 0 | Q106: 0 | R106: =Q106*H106 -> 0 | S106: 0 | T106: =S106*H106 -> 0 | AR106: 1024 | AT106: K | AU106: 2 | AY106: ROZPOCET | BE106: =IF(N106="základní",J106,0) -> 0 | BF106: =IF(N106="snížená",J106,0) -> 0 | BG106: =IF(N106="zákl. přenesená",J106,0) -> 0 | BH106: =IF(N106="sníž. přenesená",J106,0) -> 0 | BI106: =IF(N106="nulová",J106,0) -> 0 | BJ106: 1 | BK106: =ROUND(I106*H106,2) -> 0 | BL106: 1024 | BM106: 2014513641
D107: PP | F107: Dopravní značení na staveništi | AT107: PP | AU107: 2
D108: Online PSC | F108: https://podminky.urs.cz/item/CS_URS_2024_02/034303000 | AT108: Online PSC | AU108: 2
D109: D | E109: VRN4 | F109: Inženýrská činnost | J109: =BK109 -> 0 | P109: =SUM(P110:P114) -> 0 | R109: =SUM(R110:R114) -> 0 | T109: =SUM(T110:T114) -> 0 | AR109: 5 | AT109: D | AU109: 1 | AY109: ROZPOCET | BK109: =SUM(BK110:BK114) -> 0
C110: 6 | D110: K | E110: 043154000 | F110: Zkoušky hutnicí | G110: kpl | H110: 1 | J110: =ROUND(I110*H110,2) -> 0 | K110: CS ÚRS 2024 02 | N110: základní | P110: =O110*H110 -> 0 | Q110: 0 | R110: =Q110*H110 -> 0 | S110: 0 | T110: =S110*H110 -> 0 | AR110: 1024 | AT110: K | AU110: 2 | AY110: ROZPOCET | BE110: =IF(N110="základní",J110,0) -> 0 | BF110: =IF(N110="snížená",J110,0) -> 0 | BG110: =IF(N110="zákl. přenesená",J110,0) -> 0 | BH110: =IF(N110="sníž. přenesená",J110,0) -> 0 | BI110: =IF(N110="nulová",J110,0) -> 0 | BJ110: 1 | BK110: =ROUND(I110*H110,2) -> 0 | BL110: 1024 | BM110: 1532232001
D111: PP | F111: Zkoušky hutnicí | AT111: PP | AU111: 2
D112: Online PSC | F112: https://podminky.urs.cz/item/CS_URS_2024_02/043154000 | AT112: Online PSC | AU112: 2
C113: 7 | D113: K | E113: 04400200R | F113: Revize a zkoušky SO 401 | G113: kpl | H113: 1 | J113: =ROUND(I113*H113,2) -> 0 | N113: základní | P113: =O113*H113 -> 0 | Q113: 0 | R113: =Q113*H113 -> 0 | S113: 0 | T113: =S113*H113 -> 0 | AR113: 1024 | AT113: K | AU113: 2 | AY113: ROZPOCET | BE113: =IF(N113="základní",J113,0) -> 0 | BF113: =IF(N113="snížená",J113,0) -> 0 | BG113: =IF(N113="zákl. přenesená",J113,0) -> 0 | BH113: =IF(N113="sníž. přenesená",J113,0) -> 0 | BI113: =IF(N113="nulová",J113,0) -> 0 | BJ113: 1 | BK113: =ROUND(I113*H113,2) -> 0 | BL113: 1024 | BM113: 173026142
D114: PP | F114: Revize a zkoušky SO 401 | AT114: PP | AU114: 2

Sheet SO 102 - Komunikace a zpe...
AT2: {86ed9295-2494-49aa-b845-a653f316a10d}
AT3: 2
D4: KRYCÍ LIST SOUPISU PRACÍ | M4: v --- níže se nacházejí doplnkové a pomocné údaje k sestavám --- v | AT4: False
D6: Stavba:
E7: ='Rekapitulace stavby'!K6 -> Roudnice nad Labem - přechody v centru města
D8: Objekt:
E9: SO 102 - Přechody u Jana z Dražic
D10: Soupis:
E11: SO 102 - Komunikace a zpevněné plochy
D13: KSO: | F13: 822 2 | I13: CC-CZ:
D14: Místo: | F14: Roudnice nad Labem | I14: Datum: | J14: ='Rekapitulace stavby'!AN8 -> 17. 9. 2024
D16: Zadavatel: | I16: IČ: | J16: =IF('Rekapitulace stavby'!AN10="","",'Rekapitulace stavby'!AN10)
E17: =IF('Rekapitulace stavby'!E11="","",'Rekapitulace stavby'!E11) | I17: DIČ: | J17: =IF('Rekapitulace stavby'!AN11="","",'Rekapitulace stavby'!AN11)
D19: Uchazeč: | I19: IČ: | J19: ='Rekapitulace stavby'!AN13 -> Vyplň údaj
E20: ='Rekapitulace stavby'!E14 -> Vyplň údaj | I20: DIČ: | J20: ='Rekapitulace stavby'!AN14 -> Vyplň údaj
D22: Projektant: | I22: IČ:
E23: PK dopravní s.r.o. | I23: DIČ:
D25: Zpracovatel: | I25: IČ: | J25: =IF('Rekapitulace stavby'!AN19="","",'Rekapitulace stavby'!AN19)
E26: =IF('Rekapitulace stavby'!E20="","",'Rekapitulace stavby'!E20) | I26: DIČ: | J26: =IF('Rekapitulace stavby'!AN20="","",'Rekapitulace stavby'!AN20)
D28: Poznámka:
D32: Cena bez DPH | J32: =ROUND(J92, 2) -> 0
F34: Základ daně | I34: Sazba daně | J34: Výše daně
D35: DPH | E35: základní | F35: =ROUND((SUM(BE92:BE490)), 2) -> 0 | I35: 0.21 | J35: =ROUND(((SUM(BE92:BE490))*I35), 2) -> 0
E36: snížená | F36: =ROUND((SUM(BF92:BF490)), 2) -> 0 | I36: 0.12 | J36: =ROUND(((SUM(BF92:BF490))*I36), 2) -> 0
E37: zákl. přenesená | F37: =ROUND((SUM(BG92:BG490)), 2) -> 0 | I37: 0.21 | J37: =0 -> 0
E38: sníž. přenesená | F38: =ROUND((SUM(BH92:BH490)), 2) -> 0 | I38: 0.12 | J38: =0 -> 0
E39: nulová | F39: =ROUND((SUM(BI92:BI490)), 2) -> 0 | I39: 0 | J39: =0 -> 0
D41: Cena s DPH | G41: v | H41: CZK | J41: =SUM(J32:J39) -> 0
C47: REKAPITULACE ČLENĚNÍ SOUPISU PRACÍ
C49: Stavba:
E50: =E7 -> Roudnice nad Labem - přechody v centru města
C51: Objekt:
E52: SO 102 - Přechody u Jana z Dražic
C53: Soupis:
E54: =E11 -> SO 102 - Komunikace a zpevněné plochy
C56: Místo: | F56: =F14 -> Roudnice nad Labem | I56: Datum: | J56: =IF(J14="","",J14) -> 17. 9. 2024
C58: Zadavatel: | F58: =E17 | I58: Projektant: | J58: =E23 -> PK dopravní s.r.o.
C59: Uchazeč: | F59: =IF(E20="","",E20) -> Vyplň údaj | I59: Zpracovatel: | J59: =E26
C61: Kód dílu - Popis | J61: Cena celkem [CZK]
C63: Náklady stavby celkem | J63: =J92 -> 0 | AU63: -1
D64: HSV - Práce a dodávky HSV | J64: =J93 -> 0
D65: 1 - Zemní práce | J65: =J94 -> 0
D66: 5 - Komunikace pozemní | J66: =J122 -> 0
D67: 9 - Ostatní konstrukce a práce, bourání | J67: =J210 -> 0
D68: 96 - Bourání konstrukcí | J68: =J382 -> 0
D69: 997 - Přesun sutě | J69: =J433 -> 0
D70: 998 - Přesun hmot | J70: =J487 -> 0
C77: SOUPIS PRACÍ
C79: Stavba:
E80: =E7 -> Roudnice nad Labem - přechody v centru města
C81: Objekt:
E82: SO 102 - Přechody u Jana z Dražic
C83: Soupis:
E84: =E11 -> SO 102 - Komunikace a zpevněné plochy
C86: Místo: | F86: =F14 -> Roudnice nad Labem | I86: Datum: | J86: =IF(J14="","",J14) -> 17. 9. 2024
C88: Zadavatel: | F88: =E17 | I88: Projektant: | J88: =E23 -> PK dopravní s.r.o.
C89: Uchazeč: | F89: =IF(E20="","",E20) -> Vyplň údaj | I89: Zpracovatel: | J89: =E26
C91: PČ | D91: Typ | E91: Kód | F91: Popis | G91: MJ | H91: Množství | I91: J.cena [CZK] | J91: Cena celkem [CZK] | K91: Cenová soustava | N91: DPH | O91: J. Nh [h] | P91: Nh celkem [h] | Q91: J. hmotnost [t] | R91: Hmotnost celkem [t] | S91: J. suť [t] | T91: Suť Celkem [t]
C92: Náklady soupisu celkem | J92: =BK92 -> 0 | P92: =P93 -> 0 | R92: =R93 -> 150.34321 | T92: =T93 -> 175.02675 | AT92: D | AU92: -1 | BK92: =BK93 -> 0
D93: D | E93: HSV | F93: Práce a dodávky HSV | J93: =BK93 -> 0 | P93: =P94+P122+P210+P433+P487 -> 0 | R93: =R94+R122+R210+R433+R487 -> 150.34321 | T93: =T94+T122+T210+T433+T487 -> 175.02675 | AR93: 1 | AT93: D | AU93: 0 | AY93: ROZPOCET | BK93: =BK94+BK122+BK210+BK433+BK487 -> 0
D94: D | E94: 1 | F94: Zemní práce | J94: =BK94 -> 0 | P94: =SUM(P95:P121) -> 0 | R94: =SUM(R95:R121) -> 0 | T94: =SUM(T95:T121) -> 0 | AR94: 1 | AT94: D | AU94: 1 | AY94: ROZPOCET | BK94: =SUM(BK95:BK121) -> 0
C95: 1 | D95: K | E95: 122251101 | F95: Odkopávky a prokopávky nezapažené v hornině třídy těžitelnosti I skupiny 3 objem do 20 m3 strojně | G95: m3 | H95: 14.957 | J95: =ROUND(I95*H95,2) -> 0 | K95: CS ÚRS 2024 02 | N95: základní | P95: =O95*H95 -> 0 | Q95: 0 | R95: =Q95*H95 -> 0 | S95: 0 | T95: =S95*H95 -> 0 | AR95: 4 | AT95: K | AU95: 2 | AY95: ROZPOCET | BE95: =IF(N95="základní",J95,0) -> 0 | BF95: =IF(N95="snížená",J95,0) -> 0 | BG95: =IF(N95="zákl. přenesená",J95,0) -> 0 | BH95: =IF(N95="sníž. přenesená",J95,0) -> 0 | BI95: =IF(N95="nulová",J95,0) -> 0 | BJ95: 1 | BK95: =ROUND(I95*H95,2) -> 0 | BL95: 4 | BM95: -864387031
D96: PP | F96: Odkopávky a prokopávky nezapažené strojně v hornině třídy těžitelnosti I skupiny 3 do 20 m3 | AT96: PP | AU96: 2
D97: Online PSC | F97: https://podminky.urs.cz/item/CS_URS_2024_02/122251101 | AT97: Online PSC | AU97: 2
D98: VV | F98: 32,53*0,2 | H98: 6.506 | AT98: VV | AU98: 2 | AV98: 2 | AW98: True | AX98: 0 | AY98: ROZPOCET
D99: VV | F99: 84,51*0,1 | H99: 8.451 | AT99: VV | AU99: 2 | AV99: 2 | AW99: True | AX99: 0 | AY99: ROZPOCET
D100: VV | F100: Součet | H100: 14.957 | AT100: VV | AU100: 2 | AV100: 4 | AW100: True | AX100: 1 | AY100: ROZPOCET
C101: 2 | D101: K | E101: 129001101 | F101: Příplatek za ztížení odkopávky nebo prokopávky v blízkosti inženýrských sítí | G101: m3 | H101: 6.506 | J101: =ROUND(I101*H101,2) -> 0 | K101: CS ÚRS 2024 02 | N101: základní | P101: =O101*H101 -> 0 | Q101: 0 | R101: =Q101*H101 -> 0 | S101: 0 | T101: =S101*H101 -> 0 | AR101: 4 | AT101: K | AU101: 2 | AY101: ROZPOCET | BE101: =IF(N101="základní",J101,0) -> 0 | BF101: =IF(N101="snížená",J101,0) -> 0 | BG101: =IF(N101="zákl. přenesená",J101,0) -> 0 | BH101: =IF(N101="sníž. přenesená",J101,0) -> 0 | BI101: =IF(N101="nulová",J101,0) -> 0 | BJ101: 1 | BK101: =ROUND(I101*H101,2) -> 0 | BL101: 4 | BM101: -1232541805
D102: PP | F102: Příplatek k cenám vykopávek za ztížení vykopávky v blízkosti podzemního vedení nebo výbušnin v horninách jakékoliv třídy | AT102: PP | AU102: 2
D103: Online PSC | F103: https://podminky.urs.cz/item/CS_URS_2024_02/129001101 | AT103: Online PSC | AU103: 2
D104: VV | F104: 32,53*0,2 | H104: 6.506 | AT104: VV | AU104: 2 | AV104: 2 | AW104: True | AX104: 0 | AY104: ROZPOCET
D105: VV | F105: Součet | H105: 6.506 | AT105: VV | AU105: 2 | AV105: 4 | AW105: True | AX105: 1 | AY105: ROZPOCET
C106: 3 | D106: K | E106: 162751117 | F106: Vodorovné přemístění přes 9 000 do 10000 m výkopku/sypaniny z horniny třídy těžitelnosti I skupiny 1 až 3 | G106: m3 | H106: 14.957 | J106: =ROUND(I106*H106,2) -> 0 | K106: CS ÚRS 2024 02 | N106: základní | P106: =O106*H106 -> 0 | Q106: 0 | R106: =Q106*H106 -> 0 | S106: 0 | T106: =S106*H106 -> 0 | AR106: 4 | AT106: K | AU106: 2 | AY106: ROZPOCET | BE106: =IF(N106="základní",J106,0) -> 0 | BF106: =IF(N106="snížená",J106,0) -> 0 | BG106: =IF(N106="zákl. přenesená",J106,0) -> 0 | BH106: =IF(N106="sníž. přenesená",J106,0) -> 0 | BI106: =IF(N106="nulová",J106,0) -> 0 | BJ106: 1 | BK106: =ROUND(I106*H106,2) -> 0 | BL106: 4 | BM106: -792482105
D107: PP | F107: Vodorovné přemístění výkopku nebo sypaniny po suchu na obvyklém dopravním prostředku, bez naložení výkopku, avšak se složením bez rozhrnutí z horniny třídy těžitelnosti I skupiny 1 až 3 na vzdálenost přes 9 000 do 10 000 m | AT107: PP | AU107: 2
D108: Online PSC | F108: https://podminky.urs.cz/item/CS_URS_2024_02/162751117 | AT108: Online PSC | AU108: 2
D109: P | F109: Poznámka k položce:_x000D_ vzdálenost odvozu je pouze orientační, určí uchazeč | AT109: P | AU109: 2
D110: VV | F110: 14,957 | H110: 14.957 | AT110: VV | AU110: 2 | AV110: 2 | AW110: True | AX110: 1 | AY110: ROZPOCET
C111: 4 | D111: K | E111: 171201231 | F111: Poplatek za uložení zeminy a kamení na recyklační skládce (skládkovné) kód odpadu 17 05 04 | G111: t | H111: 26.923 | J111: =ROUND(I111*H111,2) -> 0 | K111: CS ÚRS 2024 02 | N111: základní | P111: =O111*H111 -> 0 | Q111: 0 | R111: =Q111*H111 -> 0 | S111: 0 | T111: =S111*H111 -> 0 | AR111: 4 | AT111: K | AU111: 2 | AY111: ROZPOCET | BE111: =IF(N111="základní",J111,0) -> 0 | BF111: =IF(N111="snížená",J111,0) -> 0 | BG111: =IF(N111="zákl. přenesená",J111,0) -> 0 | BH111: =IF(N111="sníž. přenesená",J111,0) -> 0 | BI111: =IF(N111="nulová",J111,0) -> 0 | BJ111: 1 | BK111: =ROUND(I111*H111,2) -> 0 | BL111: 4 | BM111: 1012656816
D112: PP | F112: Poplatek za uložení stavebního odpadu na recyklační skládce (skládkovné) zeminy a kamení zatříděného do Katalogu odpadů pod kódem 17 05 04 | AT112: PP | AU112: 2
D113: Online PSC | F113: https://podminky.urs.cz/item/CS_URS_2024_02/171201231 | AT113: Online PSC | AU113: 2
D114: VV | F114: 14,957 | H114: 14.957 | AT114: VV | AU114: 2 | AV114: 2 | AW114: True | AX114: 0 | AY114: ROZPOCET
D115: VV | F115: Součet | H115: 14.957 | AT115: VV | AU115: 2 | AV115: 4 | AW115: True | AX115: 1 | AY115: ROZPOCET
D116: VV | F116: 14,957*1,8 'Přepočtené koeficientem množství | H116: 26.923 | AT116: VV | AU116: 2 | AV116: 2 | AW116: False | AX116: 1 | AY116: ROZPOCET
C117: 5 | D117: K | E117: 181951112 | F117: Úprava pláně v hornině třídy těžitelnosti I skupiny 1 až 3 se zhutněním strojně | G117: m2 | H117: 115.64 | J117: =ROUND(I117*H117,2) -> 0 | K117: CS ÚRS 2024 02 | N117: základní | P117: =O117*H117 -> 0 | Q117: 0 | R117: =Q117*H117 -> 0 | S117: 0 | T117: =S117*H117 -> 0 | AR117: 4 | AT117: K | AU117: 2 | AY117: ROZPOCET | BE117: =IF(N117="základní",J117,0) -> 0 | BF117: =IF(N117="snížená",J117,0) -> 0 | BG117: =IF(N117="zákl. přenesená",J117,0) -> 0 | BH117: =IF(N117="sníž. přenesená",J117,0) -> 0 | BI117: =IF(N117="nulová",J117,0) -> 0 | BJ117: 1 | BK117: =ROUND(I117*H117,2) -> 0 | BL117: 4 | BM117: 570043568
D118: PP | F118: Úprava pláně vyrovnáním výškových rozdílů strojně v hornině třídy těžitelnosti I, skupiny 1 až 3 se zhutněním | AT118: PP | AU118: 2
D119: Online PSC | F119: https://podminky.urs.cz/item/CS_URS_2024_02/181951112 | AT119: Online PSC | AU119: 2
D120: VV | F120: 107,02+8,62 | H120: 115.64 | AT120: VV | AU120: 2 | AV120: 2 | AW120: True | AX120: 0 | AY120: ROZPOCET
D121: VV | F121: Součet | H121: 115.64 | AT121: VV | AU121: 2 | AV121: 4 | AW121: True | AX121: 1 | AY121: ROZPOCET
D122: D | E122: 5 | F122: Komunikace pozemní | J122: =BK122 -> 0 | P122: =SUM(P123:P209) -> 0 | R122: =SUM(R123:R209) -> 104.55722 | T122: =SUM(T123:T209) -> 0 | AR122: 1 | AT122: D | AU122: 1 | AY122: ROZPOCET | BK122: =SUM(BK123:BK209) -> 0
C123: 6 | D123: K | E123: 564851011 | F123: Podklad ze štěrkodrtě ŠD plochy do 100 m2 tl 150 mm | G123: m2 | H123: 17.24 | J123: =ROUND(I123*H123,2) -> 0 | K123: CS ÚRS 2024 02 | N123: základní | P123: =O123*H123 -> 0 | Q123: 0 | R123: =Q123*H123 -> 0 | S123: 0 | T123: =S123*H123 -> 0 | AR123: 4 | AT123: K | AU123: 2 | AY123: ROZPOCET | BE123: =IF(N123="základní",J123,0) -> 0 | BF123: =IF(N123="snížená",J123,0) -> 0 | BG123: =IF(N123="zákl. přenesená",J123,0) -> 0 | BH123: =IF(N123="sníž. přenesená",J123,0) -> 0 | BI123: =IF(N123="nulová",J123,0) -> 0 | BJ123: 1 | BK123: =ROUND(I123*H123,2) -> 0 | BL123: 4 | BM123: -1423105068
D124: PP | F124: Podklad ze štěrkodrti ŠD s rozprostřením a zhutněním plochy jednotlivě do 100 m2, po zhutnění tl. 150 mm | AT124: PP | AU124: 2
D125: Online PSC | F125: https://podminky.urs.cz/item/CS_URS_2024_02/564851011 | AT125: Online PSC | AU125: 2
D126: VV | F126: "vjezd" 8,62+8,62 | H126: 17.24 | AT126: VV | AU126: 2 | AV126: 2 | AW126: True | AX126: 1 | AY126: ROZPOCET
C127: 7 | D127: K | E127: 564861011 | F127: Podklad ze štěrkodrtě ŠD plochy do 100 m2 tl 200 mm | G127: m2 | H127: 107.02 | J127: =ROUND(I127*H127,2) -> 0 | K127: CS ÚRS 2024 02 | N127: základní | P127: =O127*H127 -> 0 | Q127: 0 | R127: =Q127*H127 -> 0 | S127: 0 | T127: =S127*H127 -> 0 | AR127: 4 | AT127: K | AU127: 2 | AY127: ROZPOCET | BE127: =IF(N127="základní",J127,0) -> 0 | BF127: =IF(N127="snížená",J127,0) -> 0 | BG127: =IF(N127="zákl. přenesená",J127,0) -> 0 | BH127: =IF(N127="sníž. přenesená",J127,0) -> 0 | BI127: =IF(N127="nulová",J127,0) -> 0 | BJ127: 1 | BK127: =ROUND(I127*H127,2) -> 0 | BL127: 4 | BM127: 1622122220
D128: PP | F128: Podklad ze štěrkodrti ŠD s rozprostřením a zhutněním plochy jednotlivě do 100 m2, po zhutnění tl. 200 mm | AT128: PP | AU128: 2
D129: Online PSC | F129: https://podminky.urs.cz/item/CS_URS_2024_02/564861011 | AT129: Online PSC | AU129: 2
D130: VV | F130: "chodník" 107,02 | H130: 107.02 | AT130: VV | AU130: 2 | AV130: 2 | AW130: True | AX130: 0 | AY130: ROZPOCET
D131: VV | F131: Součet | H131: 107.02 | AT131: VV | AU131: 2 | AV131: 4 | AW131: True | AX131: 1 | AY131: ROZPOCET
C132: 8 | D132: K | E132: 565135101 | F132: Asfaltový beton vrstva podkladní ACP 16+ (obalované kamenivo OKS) tl 50 mm š do 1,5 m | G132: m2 | H132: 16.83 | J132: =ROUND(I132*H132,2) -> 0 | K132: CS ÚRS 2024 02 | N132: základní | P132: =O132*H132 -> 0 | Q132: 0 | R132: =Q132*H132 -> 0 | S132: 0 | T132: =S132*H132 -> 0 | AR132: 4 | AT132: K | AU132: 2 | AY132: ROZPOCET | BE132: =IF(N132="základní",J132,0) -> 0 | BF132: =IF(N132="snížená",J132,0) -> 0 | BG132: =IF(N132="zákl. přenesená",J132,0) -> 0 | BH132: =IF(N132="sníž. přenesená",J132,0) -> 0 | BI132: =IF(N132="nulová",J132,0) -> 0 | BJ132: 1 | BK132: =ROUND(I132*H132,2) -> 0 | BL132: 4 | BM132: 2078825758
D133: PP | F133: Asfaltový beton vrstva podkladní ACP 16+ (obalované kamenivo střednězrnné - OKS) s rozprostřením a zhutněním v pruhu šířky do 1,5 m, po zhutnění tl. 50 mm | AT133: PP | AU133: 2
...

Sheet SO 402 - Veřejné osvětlení
AT2: {46fed116-8533-4ba5-9585-b3144c58e6d0}
AT3: 2
D4: KRYCÍ LIST SOUPISU PRACÍ | M4: v --- níže se nacházejí doplnkové a pomocné údaje k sestavám --- v | AT4: False
D6: Stavba:
E7: ='Rekapitulace stavby'!K6 -> Roudnice nad Labem - přechody v centru města
D8: Objekt:
E9: SO 102 - Přechody u Jana z Dražic
D10: Soupis:
E11: SO 402 - Veřejné osvětlení
D13: KSO: | I13: CC-CZ:
D14: Místo: | F14: Roudnice nad Labem | I14: Datum: | J14: ='Rekapitulace stavby'!AN8 -> 17. 9. 2024
D16: Zadavatel: | I16: IČ: | J16: =IF('Rekapitulace stavby'!AN10="","",'Rekapitulace stavby'!AN10)
E17: =IF('Rekapitulace stavby'!E11="","",'Rekapitulace stavby'!E11) | I17: DIČ: | J17: =IF('Rekapitulace stavby'!AN11="","",'Rekapitulace stavby'!AN11)
D19: Uchazeč: | I19: IČ: | J19: ='Rekapitulace stavby'!AN13 -> Vyplň údaj
E20: ='Rekapitulace stavby'!E14 -> Vyplň údaj | I20: DIČ: | J20: ='Rekapitulace stavby'!AN14 -> Vyplň údaj
D22: Projektant: | I22: IČ: | J22: =IF('Rekapitulace stavby'!AN16="","",'Rekapitulace stavby'!AN16)
E23: =IF('Rekapitulace stavby'!E17="","",'Rekapitulace stavby'!E17) -> PK dopravní s.r.o. | I23: DIČ: | J23: =IF('Rekapitulace stavby'!AN17="","",'Rekapitulace stavby'!AN17)
D25: Zpracovatel: | I25: IČ: | J25: =IF('Rekapitulace stavby'!AN19="","",'Rekapitulace stavby'!AN19)
E26: =IF('Rekapitulace stavby'!E20="","",'Rekapitulace stavby'!E20) | I26: DIČ: | J26: =IF('Rekapitulace stavby'!AN20="","",'Rekapitulace stavby'!AN20)
D28: Poznámka:
D32: Cena bez DPH | J32: =ROUND(J90, 2) -> 0
F34: Základ daně | I34: Sazba daně | J34: Výše daně
D35: DPH | E35: základní | F35: =ROUND((SUM(BE90:BE200)), 2) -> 0 | I35: 0.21 | J35: =ROUND(((SUM(BE90:BE200))*I35), 2) -> 0
E36: snížená | F36: =ROUND((SUM(BF90:BF200)), 2) -> 0 | I36: 0.12 | J36: =ROUND(((SUM(BF90:BF200))*I36), 2) -> 0
E37: zákl. přenesená | F37: =ROUND((SUM(BG90:BG200)), 2) -> 0 | I37: 0.21 | J37: =0 -> 0
E38: sníž. přenesená | F38: =ROUND((SUM(BH90:BH200)), 2) -> 0 | I38: 0.12 | J38: =0 -> 0
E39: nulová | F39: =ROUND((SUM(BI90:BI200)), 2) -> 0 | I39: 0 | J39: =0 -> 0
D41: Cena s DPH | G41: v | H41: CZK | J41: =SUM(J32:J39) -> 0
C47: REKAPITULACE ČLENĚNÍ SOUPISU PRACÍ
C49: Stavba:
E50: =E7 -> Roudnice nad Labem - přechody v centru města
C51: Objekt:
E52: SO 102 - Přechody u Jana z Dražic
C53: Soupis:
E54: =E11 -> SO 402 - Veřejné osvětlení
C56: Místo: | F56: =F14 -> Roudnice nad Labem | I56: Datum: | J56: =IF(J14="","",J14) -> 17. 9. 2024
C58: Zadavatel: | F58: =E17 | I58: Projektant: | J58: =E23 -> PK dopravní s.r.o.
C59: Uchazeč: | F59: =IF(E20="","",E20) -> Vyplň údaj | I59: Zpracovatel: | J59: =E26
C61: Kód dílu - Popis | J61: Cena celkem [CZK]
C63: Náklady stavby celkem | J63: =J90 -> 0 | AU63: -1
D64: D0 - Instalační materiál a kabelová vedení | J64: =J91 -> 0
D65: D1 - Demontáže | J65: =J139 -> 0
D66: D2 - Montážní práce | J66: =J144 -> 0
D67: D3 - Zemní práce | J67: =J183 -> 0
D68: OST - Ostatní | J68: =J196 -> 0
C75: SOUPIS PRACÍ
C77: Stavba:
E78: =E7 -> Roudnice nad Labem - přechody v centru města
C79: Objekt:
E80: SO 102 - Přechody u Jana z Dražic
C81: Soupis:
E82: =E11 -> SO 402 - Veřejné osvětlení
C84: Místo: | F84: =F14 -> Roudnice nad Labem | I84: Datum: | J84: =IF(J14="","",J14) -> 17. 9. 2024
C86: Zadavatel: | F86: =E17 | I86: Projektant: | J86: =E23 -> PK dopravní s.r.o.
C87: Uchazeč: | F87: =IF(E20="","",E20) -> Vyplň údaj | I87: Zpracovatel: | J87: =E26
C89: PČ | D89: Typ | E89: Kód | F89: Popis | G89: MJ | H89: Množství | I89: J.cena [CZK] | J89: Cena celkem [CZK] | K89: Cenová soustava | N89: DPH | O89: J. Nh [h] | P89: Nh celkem [h] | Q89: J. hmotnost [t] | R89: Hmotnost celkem [t] | S89: J. suť [t] | T89: Suť Celkem [t]
C90: Náklady soupisu celkem | J90: =BK90 -> 0 | P90: =P91+P139+P144+P183+P196 -> 0 | R90: =R91+R139+R144+R183+R196 -> 0 | T90: =T91+T139+T144+T183+T196 -> 0 | AT90: D | AU90: -1 | BK90: =BK91+BK139+BK144+BK183+BK196 -> 0
D91: D | E91: D0 | F91: Instalační materiál a kabelová vedení | J91: =BK91 -> 0 | P91: =SUM(P92:P138) -> 0 | R91: =SUM(R92:R138) -> 0 | T91: =SUM(T92:T138) -> 0 | AR91: 1 | AT91: D | AU91: 0 | AY91: ROZPOCET | BK91: =SUM(BK92:BK138) -> 0
C92: 1 | D92: M | E92: Pol51 | F92: CYKY - J 4x16 mm | G92: m | H92: 34 | J92: =ROUND(I92*H92,2) -> 0 | N92: základní | P92: =O92*H92 -> 0 | Q92: 0 | R92: =Q92*H92 -> 0 | S92: 0 | T92: =S92*H92 -> 0 | AR92: 8 | AT92: M | AU92: 1 | AY92: ROZPOCET | BE92: =IF(N92="základní",J92,0) -> 0 | BF92: =IF(N92="snížená",J92,0) -> 0 | BG92: =IF(N92="zákl. přenesená",J92,0) -> 0 | BH92: =IF(N92="sníž. přenesená",J92,0) -> 0 | BI92: =IF(N92="nulová",J92,0) -> 0 | BJ92: 1 | BK92: =ROUND(I92*H92,2) -> 0 | BL92: 4 | BM92: 2
D93: PP | F93: CYKY - J 4x16 mm | AT93: PP | AU93: 1
C94: 2 | D94: M | E94: Pol52 | F94: CYKY - J 4x10 mm | G94: m | H94: 53 | J94: =ROUND(I94*H94,2) -> 0 | N94: základní | P94: =O94*H94 -> 0 | Q94: 0 | R94: =Q94*H94 -> 0 | S94: 0 | T94: =S94*H94 -> 0 | AR94: 8 | AT94: M | AU94: 1 | AY94: ROZPOCET | BE94: =IF(N94="základní",J94,0) -> 0 | BF94: =IF(N94="snížená",J94,0) -> 0 | BG94: =IF(N94="zákl. přenesená",J94,0) -> 0 | BH94: =IF(N94="sníž. přenesená",J94,0) -> 0 | BI94: =IF(N94="nulová",J94,0) -> 0 | BJ94: 1 | BK94: =ROUND(I94*H94,2) -> 0 | BL94: 4 | BM94: 4
D95: PP | F95: CYKY - J 4x10 mm | AT95: PP | AU95: 1
C96: 3 | D96: M | E96: Pol3 | F96: Kabel CYKY - J 3x1,5 mm (C) | G96: m | H96: 48 | J96: =ROUND(I96*H96,2) -> 0 | N96: základní | P96: =O96*H96 -> 0 | Q96: 0 | R96: =Q96*H96 -> 0 | S96: 0 | T96: =S96*H96 -> 0 | AR96: 8 | AT96: M | AU96: 1 | AY96: ROZPOCET | BE96: =IF(N96="základní",J96,0) -> 0 | BF96: =IF(N96="snížená",J96,0) -> 0 | BG96: =IF(N96="zákl. přenesená",J96,0) -> 0 | BH96: =IF(N96="sníž. přenesená",J96,0) -> 0 | BI96: =IF(N96="nulová",J96,0) -> 0 | BJ96: 1 | BK96: =ROUND(I96*H96,2) -> 0 | BL96: 4 | BM96: 6
D97: PP | F97: Kabel CYKY - J 3x1,5 mm (C) | AT97: PP | AU97: 1
C98: 4 | D98: M | E98: Pol53 | F98: FeZn drát 10 0,62 kg/m / bal.50kg/81m Z215 | G98: m | H98: 47 | J98: =ROUND(I98*H98,2) -> 0 | N98: základní | P98: =O98*H98 -> 0 | Q98: 0 | R98: =Q98*H98 -> 0 | S98: 0 | T98: =S98*H98 -> 0 | AR98: 8 | AT98: M | AU98: 1 | AY98: ROZPOCET | BE98: =IF(N98="základní",J98,0) -> 0 | BF98: =IF(N98="snížená",J98,0) -> 0 | BG98: =IF(N98="zákl. přenesená",J98,0) -> 0 | BH98: =IF(N98="sníž. přenesená",J98,0) -> 0 | BI98: =IF(N98="nulová",J98,0) -> 0 | BJ98: 1 | BK98: =ROUND(I98*H98,2) -> 0 | BL98: 4 | BM98: 8
D99: PP | F99: FeZn drát 10 0,62 kg/m / bal.50kg/81m Z215 | AT99: PP | AU99: 1
C100: 5 | D100: M | E100: Pol4 | F100: Drát 10 PVC 10/13 FeZn+PVC 0,695kg/m | G100: m | H100: 9 | J100: =ROUND(I100*H100,2) -> 0 | N100: základní | P100: =O100*H100 -> 0 | Q100: 0 | R100: =Q100*H100 -> 0 | S100: 0 | T100: =S100*H100 -> 0 | AR100: 8 | AT100: M | AU100: 1 | AY100: ROZPOCET | BE100: =IF(N100="základní",J100,0) -> 0 | BF100: =IF(N100="snížená",J100,0) -> 0 | BG100: =IF(N100="zákl. přenesená",J100,0) -> 0 | BH100: =IF(N100="sníž. přenesená",J100,0) -> 0 | BI100: =IF(N100="nulová",J100,0) -> 0 | BJ100: 1 | BK100: =ROUND(I100*H100,2) -> 0 | BL100: 4 | BM100: 10
D101: PP | F101: Drát 10 PVC 10/13 FeZn+PVC 0,695kg/m | AT101: PP | AU101: 1
C102: 6 | D102: M | E102: Pol5 | F102: SP - svorka připojovací | G102: ks | H102: 6 | J102: =ROUND(I102*H102,2) -> 0 | N102: základní | P102: =O102*H102 -> 0 | Q102: 0 | R102: =Q102*H102 -> 0 | S102: 0 | T102: =S102*H102 -> 0 | AR102: 8 | AT102: M | AU102: 1 | AY102: ROZPOCET | BE102: =IF(N102="základní",J102,0) -> 0 | BF102: =IF(N102="snížená",J102,0) -> 0 | BG102: =IF(N102="zákl. přenesená",J102,0) -> 0 | BH102: =IF(N102="sníž. přenesená",J102,0) -> 0 | BI102: =IF(N102="nulová",J102,0) -> 0 | BJ102: 1 | BK102: =ROUND(I102*H102,2) -> 0 | BL102: 4 | BM102: 12
D103: PP | F103: SP - svorka připojovací | AT103: PP | AU103: 1
C104: 7 | D104: M | E104: Pol6 | F104: SU - svorka univerzální V001 | G104: ks | H104: 16 | J104: =ROUND(I104*H104,2) -> 0 | N104: základní | P104: =O104*H104 -> 0 | Q104: 0 | R104: =Q104*H104 -> 0 | S104: 0 | T104: =S104*H104 -> 0 | AR104: 8 | AT104: M | AU104: 1 | AY104: ROZPOCET | BE104: =IF(N104="základní",J104,0) -> 0 | BF104: =IF(N104="snížená",J104,0) -> 0 | BG104: =IF(N104="zákl. přenesená",J104,0) -> 0 | BH104: =IF(N104="sníž. přenesená",J104,0) -> 0 | BI104: =IF(N104="nulová",J104,0) -> 0 | BJ104: 1 | BK104: =ROUND(I104*H104,2) -> 0 | BL104: 4 | BM104: 14
D105: PP | F105: SU - svorka univerzální V001 | AT105: PP | AU105: 1
C106: 8 | D106: M | E106: Pol7 | F106: Stožár přechodový STP 6-A (133/89/76) bezpaticový 3-stup. | G106: ks | H106: 3 | J106: =ROUND(I106*H106,2) -> 0 | N106: základní | P106: =O106*H106 -> 0 | Q106: 0 | R106: =Q106*H106 -> 0 | S106: 0 | T106: =S106*H106 -> 0 | AR106: 8 | AT106: M | AU106: 1 | AY106: ROZPOCET | BE106: =IF(N106="základní",J106,0) -> 0 | BF106: =IF(N106="snížená",J106,0) -> 0 | BG106: =IF(N106="zákl. přenesená",J106,0) -> 0 | BH106: =IF(N106="sníž. přenesená",J106,0) -> 0 | BI106: =IF(N106="nulová",J106,0) -> 0 | BJ106: 1 | BK106: =ROUND(I106*H106,2) -> 0 | BL106: 4 | BM106: 16
D107: PP | F107: Stožár přechodový STP 6-A (133/89/76) bezpaticový 3-stup. | AT107: PP | AU107: 1
C108: 9 | D108: M | E108: Pol8 | F108: Stožár přechodový STP 6-B (133/108/89) bezpaticový 3-stup. | G108: ks | H108: 1 | J108: =ROUND(I108*H108,2) -> 0 | N108: základní | P108: =O108*H108 -> 0 | Q108: 0 | R108: =Q108*H108 -> 0 | S108: 0 | T108: =S108*H108 -> 0 | AR108: 8 | AT108: M | AU108: 1 | AY108: ROZPOCET | BE108: =IF(N108="základní",J108,0) -> 0 | BF108: =IF(N108="snížená",J108,0) -> 0 | BG108: =IF(N108="zákl. přenesená",J108,0) -> 0 | BH108: =IF(N108="sníž. přenesená",J108,0) -> 0 | BI108: =IF(N108="nulová",J108,0) -> 0 | BJ108: 1 | BK108: =ROUND(I108*H108,2) -> 0 | BL108: 4 | BM108: 18
D109: PP | F109: Stožár přechodový STP 6-B (133/108/89) bezpaticový 3-stup. | AT109: PP | AU109: 1
C110: 10 | D110: M | E110: Pol54 | F110: Stožár přechodový STP 6-C (159/133/114) bezpaticový 3-stup. | G110: ks | H110: 2 | J110: =ROUND(I110*H110,2) -> 0 | N110: základní | P110: =O110*H110 -> 0 | Q110: 0 | R110: =Q110*H110 -> 0 | S110: 0 | T110: =S110*H110 -> 0 | AR110: 8 | AT110: M | AU110: 1 | AY110: ROZPOCET | BE110: =IF(N110="základní",J110,0) -> 0 | BF110: =IF(N110="snížená",J110,0) -> 0 | BG110: =IF(N110="zákl. přenesená",J110,0) -> 0 | BH110: =IF(N110="sníž. přenesená",J110,0) -> 0 | BI110: =IF(N110="nulová",J110,0) -> 0 | BJ110: 1 | BK110: =ROUND(I110*H110,2) -> 0 | BL110: 4 | BM110: 20
D111: PP | F111: Stožár přechodový STP 6-C (159/133/114) bezpaticový 3-stup. | AT111: PP | AU111: 1
C112: 11 | D112: M | E112: Pol55 | F112: Výložník UD1-1000A na d=76, pozink | G112: ks | H112: 3 | J112: =ROUND(I112*H112,2) -> 0 | N112: základní | P112: =O112*H112 -> 0 | Q112: 0 | R112: =Q112*H112 -> 0 | S112: 0 | T112: =S112*H112 -> 0 | AR112: 8 | AT112: M | AU112: 1 | AY112: ROZPOCET | BE112: =IF(N112="základní",J112,0) -> 0 | BF112: =IF(N112="snížená",J112,0) -> 0 | BG112: =IF(N112="zákl. přenesená",J112,0) -> 0 | BH112: =IF(N112="sníž. přenesená",J112,0) -> 0 | BI112: =IF(N112="nulová",J112,0) -> 0 | BJ112: 1 | BK112: =ROUND(I112*H112,2) -> 0 | BL112: 4 | BM112: 22
D113: PP | F113: Výložník UD1-1000A na d=76, pozink | AT113: PP | AU113: 1
C114: 12 | D114: M | E114: Pol10 | F114: Výložník UD1-2000B na d=89, pozink | G114: ks | H114: 1 | J114: =ROUND(I114*H114,2) -> 0 | N114: základní | P114: =O114*H114 -> 0 | Q114: 0 | R114: =Q114*H114 -> 0 | S114: 0 | T114: =S114*H114 -> 0 | AR114: 8 | AT114: M | AU114: 1 | AY114: ROZPOCET | BE114: =IF(N114="základní",J114,0) -> 0 | BF114: =IF(N114="snížená",J114,0) -> 0 | BG114: =IF(N114="zákl. přenesená",J114,0) -> 0 | BH114: =IF(N114="sníž. přenesená",J114,0) -> 0 | BI114: =IF(N114="nulová",J114,0) -> 0 | BJ114: 1 | BK114: =ROUND(I114*H114,2) -> 0 | BL114: 4 | BM114: 24
D115: PP | F115: Výložník UD1-2000B na d=89, pozink | AT115: PP | AU115: 1
C116: 13 | D116: M | E116: Pol56 | F116: Výložník UD1-3000B na d=114, pozink | G116: ks | H116: 1 | J116: =ROUND(I116*H116,2) -> 0 | N116: základní | P116: =O116*H116 -> 0 | Q116: 0 | R116: =Q116*H116 -> 0 | S116: 0 | T116: =S116*H116 -> 0 | AR116: 8 | AT116: M | AU116: 1 | AY116: ROZPOCET | BE116: =IF(N116="základní",J116,0) -> 0 | BF116: =IF(N116="snížená",J116,0) -> 0 | BG116: =IF(N116="zákl. přenesená",J116,0) -> 0 | BH116: =IF(N116="sníž. přenesená",J116,0) -> 0 | BI116: =IF(N116="nulová",J116,0) -> 0 | BJ116: 1 | BK116: =ROUND(I116*H116,2) -> 0 | BL116: 4 | BM116: 26
D117: PP | F117: Výložník UD1-3000B na d=114, pozink | AT117: PP | AU117: 1
C118: 14 | D118: M | E118: Pol57 | F118: Výložník UD1-3500B na d=114, pozink | G118: ks | H118: 1 | J118: =ROUND(I118*H118,2) -> 0 | N118: základní | P118: =O118*H118 -> 0 | Q118: 0 | R118: =Q118*H118 -> 0 | S118: 0 | T118: =S118*H118 -> 0 | AR118: 8 | AT118: M | AU118: 1 | AY118: ROZPOCET | BE118: =IF(N118="základní",J118,0) -> 0 | BF118: =IF(N118="snížená",J118,0) -> 0 | BG118: =IF(N118="zákl. přenesená",J118,0) -> 0 | BH118: =IF(N118="sníž. přenesená",J118,0) -> 0 | BI118: =IF(N118="nulová",J118,0) -> 0 | BJ118: 1 | BK118: =ROUND(I118*H118,2) -> 0 | BL118: 4 | BM118: 28
D119: PP | F119: Výložník UD1-3500B na d=114, pozink | AT119: PP | AU119: 1
C120: 15 | D120: M | E120: Pol11 | F120: Ochranná manžeta OMP 133 | G120: ks | H120: 4 | J120: =ROUND(I120*H120,2) -> 0 | N120: základní | P120: =O120*H120 -> 0 | Q120: 0 | R120: =Q120*H120 -> 0 | S120: 0 | T120: =S120*H120 -> 0 | AR120: 8 | AT120: M | AU120: 1 | AY120: ROZPOCET | BE120: =IF(N120="základní",J120,0) -> 0 | BF120: =IF(N120="snížená",J120,0) -> 0 | BG120: =IF(N120="zákl. přenesená",J120,0) -> 0 | BH120: =IF(N120="sníž. přenesená",J120,0) -> 0 | BI120: =IF(N120="nulová",J120,0) -> 0 | BJ120: 1 | BK120: =ROUND(I120*H120,2) -> 0 | BL120: 4 | BM120: 30
D121: PP | F121: Ochranná manžeta OMP 133 | AT121: PP | AU121: 1
C122: 16 | D122: M | E122: Pol58 | F122: Ochranná manžeta OMP 159 | G122: ks | H122: 2 | J122: =ROUND(I122*H122,2) -> 0 | N122: základní | P122: =O122*H122 -> 0 | Q122: 0 | R122: =Q122*H122 -> 0 | S122: 0 | T122: =S122*H122 -> 0 | AR122: 8 | AT122: M | AU122: 1 | AY122: ROZPOCET | BE122: =IF(N122="základní",J122,0) -> 0 | BF122: =IF(N122="snížená",J122,0) -> 0 | BG122: =IF(N122="zákl. přenesená",J122,0) -> 0 | BH122: =IF(N122="sníž. přenesená",J122,0) -> 0 | BI122: =IF(N122="nulová",J122,0) -> 0 | BJ122: 1 | BK122: =ROUND(I122*H122,2) -> 0 | BL122: 4 | BM122: 32
D123: PP | F123: Ochranná manžeta OMP 159 | AT123: PP | AU123: 1
C124: 17 | D124: M | E124: Pol12 | F124: Trubka ochranná korugovaná 63 (09063 BA) | G124: m | H124: 66 | J124: =ROUND(I124*H124,2) -> 0 | N124: základní | P124: =O124*H124 -> 0 | Q124: 0 | R124: =Q124*H124 -> 0 | S124: 0 | T124: =S124*H124 -> 0 | AR124: 8 | AT124: M | AU124: 1 | AY124: ROZPOCET | BE124: =IF(N124="základní",J124,0) -> 0 | BF124: =IF(N124="snížená",J124,0) -> 0 | BG124: =IF(N124="zákl. přenesená",J124,0) -> 0 | BH124: =IF(N124="sníž. přenesená",J124,0) -> 0 | BI124: =IF(N124="nulová",J124,0) -> 0 | BJ124: 1 | BK124: =ROUND(I124*H124,2) -> 0 | BL124: 4 | BM124: 34
D125: PP | F125: Trubka ochranná korugovaná 63 (09063 BA) | AT125: PP | AU125: 1
C126: 18 | D126: M | E126: Pol13 | F126: Výstražná folie 22/50 | G126: m | H126: 66 | J126: =ROUND(I126*H126,2) -> 0 | N126: základní | P126: =O126*H126 -> 0 | Q126: 0 | R126: =Q126*H126 -> 0 | S126: 0 | T126: =S126*H126 -> 0 | AR126: 8 | AT126: M | AU126: 1 | AY126: ROZPOCET | BE126: =IF(N126="základní",J126,0) -> 0 | BF126: =IF(N126="snížená",J126,0) -> 0 | BG126: =IF(N126="zákl. přenesená",J126,0) -> 0 | BH126: =IF(N126="sníž. přenesená",J126,0) -> 0 | BI126: =IF(N126="nulová",J126,0) -> 0 | BJ126: 1 | BK126: =ROUND(I126*H126,2) -> 0 | BL126: 4 | BM126: 36
D127: PP | F127: Výstražná folie 22/50 | AT127: PP | AU127: 1
C128: 19 | D128: M | E128: Pol14 | F128: SV-A 6.16.4 stožár.výzbroj /H416110/ | G128: ks | H128: 6 | J128: =ROUND(I128*H128,2) -> 0 | N128: základní | P128: =O128*H128 -> 0 | Q128: 0 | R128: =Q128*H128 -> 0 | S128: 0 | T128: =S128*H128 -> 0 | AR128: 8 | AT128: M | AU128: 1 | AY128: ROZPOCET | BE128: =IF(N128="základní",J128,0) -> 0 | BF128: =IF(N128="snížená",J128,0) -> 0 | BG128: =IF(N128="zákl. přenesená",J128,0) -> 0 | BH128: =IF(N128="sníž. přenesená",J128,0) -> 0 | BI128: =IF(N128="nulová",J128,0) -> 0 | BJ128: 1 | BK128: =ROUND(I128*H128,2) -> 0 | BL128: 4 | BM128: 38
D129: PP | F129: SV-A 6.16.4 stožár.výzbroj /H416110/ | AT129: PP | AU129: 1
C130: 20 | D130: M | E130: Pol15 | F130: Poj.6A D01 gL/gG E14 | G130: ks | H130: 6 | J130: =ROUND(I130*H130,2) -> 0 | N130: základní | P130: =O130*H130 -> 0 | Q130: 0 | R130: =Q130*H130 -> 0 | S130: 0 | T130: =S130*H130 -> 0 | AR130: 8 | AT130: M | AU130: 1 | AY130: ROZPOCET | BE130: =IF(N130="základní",J130,0) -> 0 | BF130: =IF(N130="snížená",J130,0) -> 0 | BG130: =IF(N130="zákl. přenesená",J130,0) -> 0 | BH130: =IF(N130="sníž. přenesená",J130,0) -> 0 | BI130: =IF(N130="nulová",J130,0) -> 0 | BJ130: 1 | BK130: =ROUND(I130*H130,2) -> 0 | BL130: 4 | BM130: 40
D131: PP | F131: Poj.6A D01 gL/gG E14 | AT131: PP | AU131: 1
C132: 21 | D132: M | E132: Pol17 | F132: Svítidlo TECEO S (Zebra right) /5369/20 LED/NW/Back light/350 mA/22,4W/3101lm | G132: ks | H132: 6 | J132: =ROUND(I132*H132,2) -> 0 | N132: základní | P132: =O132*H132 -> 0 | Q132: 0 | R132: =Q132*H132 -> 0 | S132: 0 | T132: =S132*H132 -> 0 | AR132: 8 | AT132: M | AU132: 1 | AY132: ROZPOCET | BE132: =IF(N132="základní",J132,0) -> 0 | BF132: =IF(N132="snížená",J132,0) -> 0 | BG132: =IF(N132="zákl. přenesená",J132,0) -> 0 | BH132: =IF(N132="sníž. přenesená",J132,0) -> 0 | BI132: =IF(N132="nulová",J132,0) -> 0 | BJ132: 1 | BK132: =ROUND(I132*H132,2) -> 0 | BL132: 4 | BM132: 42
D133: PP | F133: Svítidlo TECEO S (Zebra right) /5369/20 LED/NW/Back light/350 mA/22,4W/3101lm | AT133: PP | AU133: 1
...

Sheet VRN 102 - Vedlejší rozpoč...
AT2: {e94b145e-1ee9-4dd4-893e-0900e85fc80c}
AT3: 2
D4: KRYCÍ LIST SOUPISU PRACÍ | M4: v --- níže se nacházejí doplnkové a pomocné údaje k sestavám --- v | AT4: False
D6: Stavba:
E7: ='Rekapitulace stavby'!K6 -> Roudnice nad Labem - přechody v centru města
D8: Objekt:
E9: SO 102 - Přechody u Jana z Dražic
D10: Soupis:
E11: VRN 102 - Vedlejší rozpočtové náklady
D13: KSO: | F13: 822 2 | I13: CC-CZ:
D14: Místo: | F14: Roudnice nad Labem | I14: Datum: | J14: ='Rekapitulace stavby'!AN8 -> 17. 9. 2024
D16: Zadavatel: | I16: IČ: | J16: =IF('Rekapitulace stavby'!AN10="","",'Rekapitulace stavby'!AN10)
E17: =IF('Rekapitulace stavby'!E11="","",'Rekapitulace stavby'!E11) | I17: DIČ: | J17: =IF('Rekapitulace stavby'!AN11="","",'Rekapitulace stavby'!AN11)
D19: Uchazeč: | I19: IČ: | J19: ='Rekapitulace stavby'!AN13 -> Vyplň údaj
E20: ='Rekapitulace stavby'!E14 -> Vyplň údaj | I20: DIČ: | J20: ='Rekapitulace stavby'!AN14 -> Vyplň údaj
D22: Projektant: | I22: IČ:
E23: PK dopravní s.r.o. | I23: DIČ:
D25: Zpracovatel: | I25: IČ: | J25: =IF('Rekapitulace stavby'!AN19="","",'Rekapitulace stavby'!AN19)
E26: =IF('Rekapitulace stavby'!E20="","",'Rekapitulace stavby'!E20) | I26: DIČ: | J26: =IF('Rekapitulace stavby'!AN20="","",'Rekapitulace stavby'!AN20)
D28: Poznámka:
D32: Cena bez DPH | J32: =ROUND(J89, 2) -> 0
F34: Základ daně | I34: Sazba daně | J34: Výše daně
D35: DPH | E35: základní | F35: =ROUND((SUM(BE89:BE114)), 2) -> 0 | I35: 0.21 | J35: =ROUND(((SUM(BE89:BE114))*I35), 2) -> 0
E36: snížená | F36: =ROUND((SUM(BF89:BF114)), 2) -> 0 | I36: 0.12 | J36: =ROUND(((SUM(BF89:BF114))*I36), 2) -> 0
E37: zákl. přenesená | F37: =ROUND((SUM(BG89:BG114)), 2) -> 0 | I37: 0.21 | J37: =0 -> 0
E38: sníž. přenesená | F38: =ROUND((SUM(BH89:BH114)), 2) -> 0 | I38: 0.12 | J38: =0 -> 0
E39: nulová | F39: =ROUND((SUM(BI89:BI114)), 2) -> 0 | I39: 0 | J39: =0 -> 0
D41: Cena s DPH | G41: v | H41: CZK | J41: =SUM(J32:J39) -> 0
C47: REKAPITULACE ČLENĚNÍ SOUPISU PRACÍ
C49: Stavba:
E50: =E7 -> Roudnice nad Labem - přechody v centru města
C51: Objekt:
E52: SO 102 - Přechody u Jana z Dražic
C53: Soupis:
E54: =E11 -> VRN 102 - Vedlejší rozpočtové náklady
C56: Místo: | F56: =F14 -> Roudnice nad Labem | I56: Datum: | J56: =IF(J14="","",J14) -> 17. 9. 2024
C58: Zadavatel: | F58: =E17 | I58: Projektant: | J58: =E23 -> PK dopravní s.r.o.
C59: Uchazeč: | F59: =IF(E20="","",E20) -> Vyplň údaj | I59: Zpracovatel: | J59: =E26
C61: Kód dílu - Popis | J61: Cena celkem [CZK]
C63: Náklady stavby celkem | J63: =J89 -> 0 | AU63: -1
D64: VRN - Vedlejší rozpočtové náklady | J64: =J90 -> 0
D65: VRN1 - Průzkumné, geodetické a projektové práce | J65: =J91 -> 0
D66: VRN3 - Zařízení staveniště | J66: =J101 -> 0
D67: VRN4 - Inženýrská činnost | J67: =J109 -> 0
C74: SOUPIS PRACÍ
C76: Stavba:
E77: =E7 -> Roudnice nad Labem - přechody v centru města
C78: Objekt:
E79: SO 102 - Přechody u Jana z Dražic
C80: Soupis:
E81: =E11 -> VRN 102 - Vedlejší rozpočtové náklady
C83: Místo: | F83: =F14 -> Roudnice nad Labem | I83: Datum: | J83: =IF(J14="","",J14) -> 17. 9. 2024
C85: Zadavatel: | F85: =E17 | I85: Projektant: | J85: =E23 -> PK dopravní s.r.o.
C86: Uchazeč: | F86: =IF(E20="","",E20) -> Vyplň údaj | I86: Zpracovatel: | J86: =E26
C88: PČ | D88: Typ | E88: Kód | F88: Popis | G88: MJ | H88: Množství | I88: J.cena [CZK] | J88: Cena celkem [CZK] | K88: Cenová soustava | N88: DPH | O88: J. Nh [h] | P88: Nh celkem [h] | Q88: J. hmotnost [t] | R88: Hmotnost celkem [t] | S88: J. suť [t] | T88: Suť Celkem [t]
C89: Náklady soupisu celkem | J89: =BK89 -> 0 | P89: =P90 -> 0 | R89: =R90 -> 0 | T89: =T90 -> 0 | AT89: D | AU89: -1 | BK89: =BK90 -> 0
D90: D | E90: VRN | F90: Vedlejší rozpočtové náklady | J90: =BK90 -> 0 | P90: =P91+P101+P109 -> 0 | R90: =R91+R101+R109 -> 0 | T90: =T91+T101+T109 -> 0 | AR90: 5 | AT90: D | AU90: 0 | AY90: ROZPOCET | BK90: =BK91+BK101+BK109 -> 0
D91: D | E91: VRN1 | F91: Průzkumné, geodetické a projektové práce | J91: =BK91 -> 0 | P91: =SUM(P92:P100) -> 0 | R91: =SUM(R92:R100) -> 0 | T91: =SUM(T92:T100) -> 0 | AR91: 5 | AT91: D | AU91: 1 | AY91: ROZPOCET | BK91: =SUM(BK92:BK100) -> 0
C92: 1 | D92: K | E92: 012164000 | F92: Vytyčení a zaměření inženýrských sítí | G92: kpl | H92: 1 | J92: =ROUND(I92*H92,2) -> 0 | K92: CS ÚRS 2024 02 | N92: základní | P92: =O92*H92 -> 0 | Q92: 0 | R92: =Q92*H92 -> 0 | S92: 0 | T92: =S92*H92 -> 0 | AR92: 1024 | AT92: K | AU92: 2 | AY92: ROZPOCET | BE92: =IF(N92="základní",J92,0) -> 0 | BF92: =IF(N92="snížená",J92,0) -> 0 | BG92: =IF(N92="zákl. přenesená",J92,0) -> 0 | BH92: =IF(N92="sníž. přenesená",J92,0) -> 0 | BI92: =IF(N92="nulová",J92,0) -> 0 | BJ92: 1 | BK92: =ROUND(I92*H92,2) -> 0 | BL92: 1024 | BM92: -937734132
D93: PP | F93: Vytyčení a zaměření inženýrských sítí | AT93: PP | AU93: 2
D94: Online PSC | F94: https://podminky.urs.cz/item/CS_URS_2024_02/012164000 | AT94: Online PSC | AU94: 2
C95: 2 | D95: K | E95: 012303000 | F95: Zeměměřičské práce při provádění stavby | G95: kpl | H95: 1 | J95: =ROUND(I95*H95,2) -> 0 | K95: CS ÚRS 2024 02 | N95: základní | P95: =O95*H95 -> 0 | Q95: 0 | R95: =Q95*H95 -> 0 | S95: 0 | T95: =S95*H95 -> 0 | AR95: 1024 | AT95: K | AU95: 2 | AY95: ROZPOCET | BE95: =IF(N95="základní",J95,0) -> 0 | BF95: =IF(N95="snížená",J95,0) -> 0 | BG95: =IF(N95="zákl. přenesená",J95,0) -> 0 | BH95: =IF(N95="sníž. přenesená",J95,0) -> 0 | BI95: =IF(N95="nulová",J95,0) -> 0 | BJ95: 1 | BK95: =ROUND(I95*H95,2) -> 0 | BL95: 1024 | BM95: 1543047127
D96: PP | F96: Zeměměřičské práce při provádění stavby | AT96: PP | AU96: 2
D97: Online PSC | F97: https://podminky.urs.cz/item/CS_URS_2024_02/012303000 | AT97: Online PSC | AU97: 2
C98: 3 | D98: K | E98: 012444000 | F98: Geodetické měření skutečného provedení stavby | G98: kpl | H98: 1 | J98: =ROUND(I98*H98,2) -> 0 | K98: CS ÚRS 2024 02 | N98: základní | P98: =O98*H98 -> 0 | Q98: 0 | R98: =Q98*H98 -> 0 | S98: 0 | T98: =S98*H98 -> 0 | AR98: 1024 | AT98: K | AU98: 2 | AY98: ROZPOCET | BE98: =IF(N98="základní",J98,0) -> 0 | BF98: =IF(N98="snížená",J98,0) -> 0 | BG98: =IF(N98="zákl. přenesená",J98,0) -> 0 | BH98: =IF(N98="sníž. přenesená",J98,0) -> 0 | BI98: =IF(N98="nulová",J98,0) -> 0 | BJ98: 1 | BK98: =ROUND(I98*H98,2) -> 0 | BL98: 1024 | BM98: -1331217186
D99: PP | F99: Geodetické měření skutečného provedení stavby | AT99: PP | AU99: 2
D100: Online PSC | F100: https://podminky.urs.cz/item/CS_URS_2024_02/012444000 | AT100: Online PSC | AU100: 2
D101: D | E101: VRN3 | F101: Zařízení staveniště | J101: =BK101 -> 0 | P101: =SUM(P102:P108) -> 0 | R101: =SUM(R102:R108) -> 0 | T101: =SUM(T102:T108) -> 0 | AR101: 5 | AT101: D | AU101: 1 | AY101: ROZPOCET | BK101: =SUM(BK102:BK108) -> 0
C102: 4 | D102: K | E102: 030001000 | F102: Zařízení staveniště | G102: kpl | H102: 1 | J102: =ROUND(I102*H102,2) -> 0 | K102: CS ÚRS 2024 02 | N102: základní | P102: =O102*H102 -> 0 | Q102: 0 | R102: =Q102*H102 -> 0 | S102: 0 | T102: =S102*H102 -> 0 | AR102: 1024 | AT102: K | AU102: 2 | AY102: ROZPOCET | BE102: =IF(N102="základní",J102,0) -> 0 | BF102: =IF(N102="snížená",J102,0) -> 0 | BG102: =IF(N102="zákl. přenesená",J102,0) -> 0 | BH102: =IF(N102="sníž. přenesená",J102,0) -> 0 | BI102: =IF(N102="nulová",J102,0) -> 0 | BJ102: 1 | BK102: =ROUND(I102*H102,2) -> 0 | BL102: 1024 | BM102: -386089193
D103: PP | F103: Zařízení staveniště | AT103: PP | AU103: 2
D104: Online PSC | F104: https://podminky.urs.cz/item/CS_URS_2024_02/030001000 | AT104: Online PSC | AU104: 2
D105: P | F105: Poznámka k položce:_x000D_ Kompletní zařízení staveniště pro celou stavbu včetně zajištění potřebných povolení a rozhodnutí. _x000D_ Položka zahrnuje náklady spojené se staveništními komunikacemi, vstupem a vjezdem na staveniště, nasvětlení výkopů a lávky přes výkopy, staveništní přípojky vody, kanalizace, elektrické energie, zajištění dodávky elektrické energie, rozvody médií po stavbě a s tím spojených nákladů s odstávkou a zabezpečení stávajících IS proti poškození, kancelářské plochy pro potřeby zhotovitele a zástupce investora, sociální zařízení, zajištění skladovacích ploch a prostor pro potřeby stavby. Komplexní ostrahu a zabezpečení staveniště. Monitoring vlivu stavby na okolní prostředí (hluk, prašnost, doprava).Poplatky a náklady spojené se záborem veřejného prostranství a s tím související dopravní značení a zabezpečení pracoviště.Poplatky a náklady za spotřebované energie, plyn a vodu atd. v době výstavby až do předání díla.Zajištění údržby veřejných komunikací a komunikací pro pěší v průběhu celé stavby, včetně případné zimní údržby. | AT105: P | AU105: 2
C106: 5 | D106: K | E106: 034303000 | F106: Dopravní značení na staveništi | G106: kpl | H106: 1 | J106: =ROUND(I106*H106,2) -> 0 | K106: CS ÚRS 2024 02 | N106: základní | P106: =O106*H106 -> 0 | Q106: 0 | R106: =Q106*H106 -> 0 | S106: 0 | T106: =S106*H106 -> 0 | AR106: 1024 | AT106: K | AU106: 2 | AY106: ROZPOCET | BE106: =IF(N106="základní",J106,0) -> 0 | BF106: =IF(N106="snížená",J106,0) -> 0 | BG106: =IF(N106="zákl. přenesená",J106,0) -> 0 | BH106: =IF(N106="sníž. přenesená",J106,0) -> 0 | BI106: =IF(N106="nulová",J106,0) -> 0 | BJ106: 1 | BK106: =ROUND(I106*H106,2) -> 0 | BL106: 1024 | BM106: 2014513641
D107: PP | F107: Dopravní značení na staveništi | AT107: PP | AU107: 2
D108: Online PSC | F108: https://podminky.urs.cz/item/CS_URS_2024_02/034303000 | AT108: Online PSC | AU108: 2
D109: D | E109: VRN4 | F109: Inženýrská činnost | J109: =BK109 -> 0 | P109: =SUM(P110:P114) -> 0 | R109: =SUM(R110:R114) -> 0 | T109: =SUM(T110:T114) -> 0 | AR109: 5 | AT109: D | AU109: 1 | AY109: ROZPOCET | BK109: =SUM(BK110:BK114) -> 0
C110: 6 | D110: K | E110: 043154000 | F110: Zkoušky hutnicí | G110: kpl | H110: 1 | J110: =ROUND(I110*H110,2) -> 0 | K110: CS ÚRS 2024 02 | N110: základní | P110: =O110*H110 -> 0 | Q110: 0 | R110: =Q110*H110 -> 0 | S110: 0 | T110: =S110*H110 -> 0 | AR110: 1024 | AT110: K | AU110: 2 | AY110: ROZPOCET | BE110: =IF(N110="základní",J110,0) -> 0 | BF110: =IF(N110="snížená",J110,0) -> 0 | BG110: =IF(N110="zákl. přenesená",J110,0) -> 0 | BH110: =IF(N110="sníž. přenesená",J110,0) -> 0 | BI110: =IF(N110="nulová",J110,0) -> 0 | BJ110: 1 | BK110: =ROUND(I110*H110,2) -> 0 | BL110: 1024 | BM110: 1532232001
D111: PP | F111: Zkoušky hutnicí | AT111: PP | AU111: 2
D112: Online PSC | F112: https://podminky.urs.cz/item/CS_URS_2024_02/043154000 | AT112: Online PSC | AU112: 2
C113: 7 | D113: K | E113: 04400200R | F113: Revize a zkoušky SO 402 | G113: kpl | H113: 1 | J113: =ROUND(I113*H113,2) -> 0 | N113: základní | P113: =O113*H113 -> 0 | Q113: 0 | R113: =Q113*H113 -> 0 | S113: 0 | T113: =S113*H113 -> 0 | AR113: 1024 | AT113: K | AU113: 2 | AY113: ROZPOCET | BE113: =IF(N113="základní",J113,0) -> 0 | BF113: =IF(N113="snížená",J113,0) -> 0 | BG113: =IF(N113="zákl. přenesená",J113,0) -> 0 | BH113: =IF(N113="sníž. přenesená",J113,0) -> 0 | BI113: =IF(N113="nulová",J113,0) -> 0 | BJ113: 1 | BK113: =ROUND(I113*H113,2) -> 0 | BL113: 1024 | BM113: 173026142
D114: PP | F114: Revize a zkoušky SO 402 | AT114: PP | AU114: 2

Sheet SO 103 - Komunikace a zpe...
AT2: {baa623cc-9385-4d65-9c08-2e4f5dfc4f55}
AT3: 2
D4: KRYCÍ LIST SOUPISU PRACÍ | M4: v --- níže se nacházejí doplnkové a pomocné údaje k sestavám --- v | AT4: False
D6: Stavba:
E7: ='Rekapitulace stavby'!K6 -> Roudnice nad Labem - přechody v centru města
D8: Objekt:
E9: SO 103 - Místo pro přecházení u pivovaru
D10: Soupis:
E11: SO 103 - Komunikace a zpevněné plochy
D13: KSO: | F13: 822 2 | I13: CC-CZ:
D14: Místo: | F14: Roudnice nad Labem | I14: Datum: | J14: ='Rekapitulace stavby'!AN8 -> 17. 9. 2024
D16: Zadavatel: | I16: IČ: | J16: =IF('Rekapitulace stavby'!AN10="","",'Rekapitulace stavby'!AN10)
E17: =IF('Rekapitulace stavby'!E11="","",'Rekapitulace stavby'!E11) | I17: DIČ: | J17: =IF('Rekapitulace stavby'!AN11="","",'Rekapitulace stavby'!AN11)
D19: Uchazeč: | I19: IČ: | J19: ='Rekapitulace stavby'!AN13 -> Vyplň údaj
E20: ='Rekapitulace stavby'!E14 -> Vyplň údaj | I20: DIČ: | J20: ='Rekapitulace stavby'!AN14 -> Vyplň údaj
D22: Projektant: | I22: IČ:
E23: PK dopravní s.r.o. | I23: DIČ:
D25: Zpracovatel: | I25: IČ: | J25: =IF('Rekapitulace stavby'!AN19="","",'Rekapitulace stavby'!AN19)
E26: =IF('Rekapitulace stavby'!E20="","",'Rekapitulace stavby'!E20) | I26: DIČ: | J26: =IF('Rekapitulace stavby'!AN20="","",'Rekapitulace stavby'!AN20)
D28: Poznámka:
D32: Cena bez DPH | J32: =ROUND(J92, 2) -> 0
F34: Základ daně | I34: Sazba daně | J34: Výše daně
D35: DPH | E35: základní | F35: =ROUND((SUM(BE92:BE390)), 2) -> 0 | I35: 0.21 | J35: =ROUND(((SUM(BE92:BE390))*I35), 2) -> 0
E36: snížená | F36: =ROUND((SUM(BF92:BF390)), 2) -> 0 | I36: 0.12 | J36: =ROUND(((SUM(BF92:BF390))*I36), 2) -> 0
E37: zákl. přenesená | F37: =ROUND((SUM(BG92:BG390)), 2) -> 0 | I37: 0.21 | J37: =0 -> 0
E38: sníž. přenesená | F38: =ROUND((SUM(BH92:BH390)), 2) -> 0 | I38: 0.12 | J38: =0 -> 0
E39: nulová | F39: =ROUND((SUM(BI92:BI390)), 2) -> 0 | I39: 0 | J39: =0 -> 0
D41: Cena s DPH | G41: v | H41: CZK | J41: =SUM(J32:J39) -> 0
C47: REKAPITULACE ČLENĚNÍ SOUPISU PRACÍ
C49: Stavba:
E50: =E7 -> Roudnice nad Labem - přechody v centru města
C51: Objekt:
E52: SO 103 - Místo pro přecházení u pivovaru
C53: Soupis:
E54: =E11 -> SO 103 - Komunikace a zpevněné plochy
C56: Místo: | F56: =F14 -> Roudnice nad Labem | I56: Datum: | J56: =IF(J14="","",J14) -> 17. 9. 2024
C58: Zadavatel: | F58: =E17 | I58: Projektant: | J58: =E23 -> PK dopravní s.r.o.
C59: Uchazeč: | F59: =IF(E20="","",E20) -> Vyplň údaj | I59: Zpracovatel: | J59: =E26
C61: Kód dílu - Popis | J61: Cena celkem [CZK]
C63: Náklady stavby celkem | J63: =J92 -> 0 | AU63: -1
D64: HSV - Práce a dodávky HSV | J64: =J93 -> 0
D65: 1 - Zemní práce | J65: =J94 -> 0
D66: 5 - Komunikace pozemní | J66: =J120 -> 0
D67: 9 - Ostatní konstrukce a práce, bourání | J67: =J182 -> 0
D68: 96 - Bourání konstrukcí | J68: =J282 -> 0
D69: 997 - Přesun sutě | J69: =J334 -> 0
D70: 998 - Přesun hmot | J70: =J387 -> 0
C77: SOUPIS PRACÍ
C79: Stavba:
E80: =E7 -> Roudnice nad Labem - přechody v centru města
C81: Objekt:
E82: SO 103 - Místo pro přecházení u pivovaru
C83: Soupis:
E84: =E11 -> SO 103 - Komunikace a zpevněné plochy
C86: Místo: | F86: =F14 -> Roudnice nad Labem | I86: Datum: | J86: =IF(J14="","",J14) -> 17. 9. 2024
C88: Zadavatel: | F88: =E17 | I88: Projektant: | J88: =E23 -> PK dopravní s.r.o.
C89: Uchazeč: | F89: =IF(E20="","",E20) -> Vyplň údaj | I89: Zpracovatel: | J89: =E26
C91: PČ | D91: Typ | E91: Kód | F91: Popis | G91: MJ | H91: Množství | I91: J.cena [CZK] | J91: Cena celkem [CZK] | K91: Cenová soustava | N91: DPH | O91: J. Nh [h] | P91: Nh celkem [h] | Q91: J. hmotnost [t] | R91: Hmotnost celkem [t] | S91: J. suť [t] | T91: Suť Celkem [t]
C92: Náklady soupisu celkem | J92: =BK92 -> 0 | P92: =P93 -> 0 | R92: =R93 -> 91.245307 | T92: =T93 -> 81.3405 | AT92: D | AU92: -1 | BK92: =BK93 -> 0
D93: D | E93: HSV | F93: Práce a dodávky HSV | J93: =BK93 -> 0 | P93: =P94+P120+P182+P334+P387 -> 0 | R93: =R94+R120+R182+R334+R387 -> 91.245307 | T93: =T94+T120+T182+T334+T387 -> 81.3405 | AR93: 1 | AT93: D | AU93: 0 | AY93: ROZPOCET | BK93: =BK94+BK120+BK182+BK334+BK387 -> 0
D94: D | E94: 1 | F94: Zemní práce | J94: =BK94 -> 0 | P94: =SUM(P95:P119) -> 0 | R94: =SUM(R95:R119) -> 0 | T94: =SUM(T95:T119) -> 0 | AR94: 1 | AT94: D | AU94: 1 | AY94: ROZPOCET | BK94: =SUM(BK95:BK119) -> 0
C95: 1 | D95: K | E95: 129001101 | F95: Příplatek za ztížení odkopávky nebo prokopávky v blízkosti inženýrských sítí | G95: m3 | H95: 29.164 | J95: =ROUND(I95*H95,2) -> 0 | K95: CS ÚRS 2024 02 | N95: základní | P95: =O95*H95 -> 0 | Q95: 0 | R95: =Q95*H95 -> 0 | S95: 0 | T95: =S95*H95 -> 0 | AR95: 4 | AT95: K | AU95: 2 | AY95: ROZPOCET | BE95: =IF(N95="základní",J95,0) -> 0 | BF95: =IF(N95="snížená",J95,0) -> 0 | BG95: =IF(N95="zákl. přenesená",J95,0) -> 0 | BH95: =IF(N95="sníž. přenesená",J95,0) -> 0 | BI95: =IF(N95="nulová",J95,0) -> 0 | BJ95: 1 | BK95: =ROUND(I95*H95,2) -> 0 | BL95: 4 | BM95: -1232541805
D96: PP | F96: Příplatek k cenám vykopávek za ztížení vykopávky v blízkosti podzemního vedení nebo výbušnin v horninách jakékoliv třídy | AT96: PP | AU96: 2
D97: Online PSC | F97: https://podminky.urs.cz/item/CS_URS_2024_02/129001101 | AT97: Online PSC | AU97: 2
D98: VV | F98: 145,82*0,2 | H98: 29.164 | AT98: VV | AU98: 2 | AV98: 2 | AW98: True | AX98: 1 | AY98: ROZPOCET
C99: 2 | D99: K | E99: 122251102 | F99: Odkopávky a prokopávky nezapažené v hornině třídy těžitelnosti I skupiny 3 objem do 50 m3 strojně | G99: m3 | H99: 29.164 | J99: =ROUND(I99*H99,2) -> 0 | K99: CS ÚRS 2024 02 | N99: základní | P99: =O99*H99 -> 0 | Q99: 0 | R99: =Q99*H99 -> 0 | S99: 0 | T99: =S99*H99 -> 0 | AR99: 4 | AT99: K | AU99: 2 | AY99: ROZPOCET | BE99: =IF(N99="základní",J99,0) -> 0 | BF99: =IF(N99="snížená",J99,0) -> 0 | BG99: =IF(N99="zákl. přenesená",J99,0) -> 0 | BH99: =IF(N99="sníž. přenesená",J99,0) -> 0 | BI99: =IF(N99="nulová",J99,0) -> 0 | BJ99: 1 | BK99: =ROUND(I99*H99,2) -> 0 | BL99: 4 | BM99: 445910581
D100: PP | F100: Odkopávky a prokopávky nezapažené strojně v hornině třídy těžitelnosti I skupiny 3 přes 20 do 50 m3 | AT100: PP | AU100: 2
D101: Online PSC | F101: https://podminky.urs.cz/item/CS_URS_2024_02/122251102 | AT101: Online PSC | AU101: 2
D102: VV | F102: 145,82*0,2 | H102: 29.164 | AT102: VV | AU102: 2 | AV102: 2 | AW102: True | AX102: 0 | AY102: ROZPOCET
D103: VV | F103: Součet | H103: 29.164 | AT103: VV | AU103: 2 | AV103: 4 | AW103: True | AX103: 1 | AY103: ROZPOCET
C104: 3 | D104: K | E104: 162751117 | F104: Vodorovné přemístění přes 9 000 do 10000 m výkopku/sypaniny z horniny třídy těžitelnosti I skupiny 1 až 3 | G104: m3 | H104: 29.164 | J104: =ROUND(I104*H104,2) -> 0 | K104: CS ÚRS 2024 02 | N104: základní | P104: =O104*H104 -> 0 | Q104: 0 | R104: =Q104*H104 -> 0 | S104: 0 | T104: =S104*H104 -> 0 | AR104: 4 | AT104: K | AU104: 2 | AY104: ROZPOCET | BE104: =IF(N104="základní",J104,0) -> 0 | BF104: =IF(N104="snížená",J104,0) -> 0 | BG104: =IF(N104="zákl. přenesená",J104,0) -> 0 | BH104: =IF(N104="sníž. přenesená",J104,0) -> 0 | BI104: =IF(N104="nulová",J104,0) -> 0 | BJ104: 1 | BK104: =ROUND(I104*H104,2) -> 0 | BL104: 4 | BM104: -792482105
D105: PP | F105: Vodorovné přemístění výkopku nebo sypaniny po suchu na obvyklém dopravním prostředku, bez naložení výkopku, avšak se složením bez rozhrnutí z horniny třídy těžitelnosti I skupiny 1 až 3 na vzdálenost přes 9 000 do 10 000 m | AT105: PP | AU105: 2
D106: Online PSC | F106: https://podminky.urs.cz/item/CS_URS_2024_02/162751117 | AT106: Online PSC | AU106: 2
D107: P | F107: Poznámka k položce:_x000D_ vzdálenost odvozu je pouze orientační, určí uchazeč | AT107: P | AU107: 2
D108: VV | F108: 29,164 | H108: 29.164 | AT108: VV | AU108: 2 | AV108: 2 | AW108: True | AX108: 1 | AY108: ROZPOCET
C109: 4 | D109: K | E109: 171201231 | F109: Poplatek za uložení zeminy a kamení na recyklační skládce (skládkovné) kód odpadu 17 05 04 | G109: t | H109: 52.495 | J109: =ROUND(I109*H109,2) -> 0 | K109: CS ÚRS 2024 02 | N109: základní | P109: =O109*H109 -> 0 | Q109: 0 | R109: =Q109*H109 -> 0 | S109: 0 | T109: =S109*H109 -> 0 | AR109: 4 | AT109: K | AU109: 2 | AY109: ROZPOCET | BE109: =IF(N109="základní",J109,0) -> 0 | BF109: =IF(N109="snížená",J109,0) -> 0 | BG109: =IF(N109="zákl. přenesená",J109,0) -> 0 | BH109: =IF(N109="sníž. přenesená",J109,0) -> 0 | BI109: =IF(N109="nulová",J109,0) -> 0 | BJ109: 1 | BK109: =ROUND(I109*H109,2) -> 0 | BL109: 4 | BM109: 1012656816
D110: PP | F110: Poplatek za uložení stavebního odpadu na recyklační skládce (skládkovné) zeminy a kamení zatříděného do Katalogu odpadů pod kódem 17 05 04 | AT110: PP | AU110: 2
D111: Online PSC | F111: https://podminky.urs.cz/item/CS_URS_2024_02/171201231 | AT111: Online PSC | AU111: 2
D112: VV | F112: 29,164 | H112: 29.164 | AT112: VV | AU112: 2 | AV112: 2 | AW112: True | AX112: 0 | AY112: ROZPOCET
D113: VV | F113: Součet | H113: 29.164 | AT113: VV | AU113: 2 | AV113: 4 | AW113: True | AX113: 1 | AY113: ROZPOCET
D114: VV | F114: 29,164*1,8 'Přepočtené koeficientem množství | H114: 52.495 | AT114: VV | AU114: 2 | AV114: 2 | AW114: False | AX114: 1 | AY114: ROZPOCET
C115: 5 | D115: K | E115: 181951112 | F115: Úprava pláně v hornině třídy těžitelnosti I skupiny 1 až 3 se zhutněním strojně | G115: m2 | H115: 124.56 | J115: =ROUND(I115*H115,2) -> 0 | K115: CS ÚRS 2024 02 | N115: základní | P115: =O115*H115 -> 0 | Q115: 0 | R115: =Q115*H115 -> 0 | S115: 0 | T115: =S115*H115 -> 0 | AR115: 4 | AT115: K | AU115: 2 | AY115: ROZPOCET | BE115: =IF(N115="základní",J115,0) -> 0 | BF115: =IF(N115="snížená",J115,0) -> 0 | BG115: =IF(N115="zákl. přenesená",J115,0) -> 0 | BH115: =IF(N115="sníž. přenesená",J115,0) -> 0 | BI115: =IF(N115="nulová",J115,0) -> 0 | BJ115: 1 | BK115: =ROUND(I115*H115,2) -> 0 | BL115: 4 | BM115: 570043568
D116: PP | F116: Úprava pláně vyrovnáním výškových rozdílů strojně v hornině třídy těžitelnosti I, skupiny 1 až 3 se zhutněním | AT116: PP | AU116: 2
D117: Online PSC | F117: https://podminky.urs.cz/item/CS_URS_2024_02/181951112 | AT117: Online PSC | AU117: 2
D118: VV | F118: 103,38+21,18 | H118: 124.56 | AT118: VV | AU118: 2 | AV118: 2 | AW118: True | AX118: 0 | AY118: ROZPOCET
D119: VV | F119: Součet | H119: 124.56 | AT119: VV | AU119: 2 | AV119: 4 | AW119: True | AX119: 1 | AY119: ROZPOCET
D120: D | E120: 5 | F120: Komunikace pozemní | J120: =BK120 -> 0 | P120: =SUM(P121:P181) -> 0 | R120: =SUM(R121:R181) -> 53.066035 | T120: =SUM(T121:T181) -> 0 | AR120: 1 | AT120: D | AU120: 1 | AY120: ROZPOCET | BK120: =SUM(BK121:BK181) -> 0
C121: 6 | D121: K | E121: 564851011 | F121: Podklad ze štěrkodrtě ŠD plochy do 100 m2 tl 150 mm | G121: m2 | H121: 42.36 | J121: =ROUND(I121*H121,2) -> 0 | K121: CS ÚRS 2024 02 | N121: základní | P121: =O121*H121 -> 0 | Q121: 0 | R121: =Q121*H121 -> 0 | S121: 0 | T121: =S121*H121 -> 0 | AR121: 4 | AT121: K | AU121: 2 | AY121: ROZPOCET | BE121: =IF(N121="základní",J121,0) -> 0 | BF121: =IF(N121="snížená",J121,0) -> 0 | BG121: =IF(N121="zákl. přenesená",J121,0) -> 0 | BH121: =IF(N121="sníž. přenesená",J121,0) -> 0 | BI121: =IF(N121="nulová",J121,0) -> 0 | BJ121: 1 | BK121: =ROUND(I121*H121,2) -> 0 | BL121: 4 | BM121: -1423105068
D122: PP | F122: Podklad ze štěrkodrti ŠD s rozprostřením a zhutněním plochy jednotlivě do 100 m2, po zhutnění tl. 150 mm | AT122: PP | AU122: 2
D123: Online PSC | F123: https://podminky.urs.cz/item/CS_URS_2024_02/564851011 | AT123: Online PSC | AU123: 2
D124: VV | F124: "vjezd" 21,18+21,18 | H124: 42.36 | AT124: VV | AU124: 2 | AV124: 2 | AW124: True | AX124: 1 | AY124: ROZPOCET
C125: 7 | D125: K | E125: 564861011 | F125: Podklad ze štěrkodrtě ŠD plochy do 100 m2 tl 200 mm | G125: m2 | H125: 103.38 | J125: =ROUND(I125*H125,2) -> 0 | K125: CS ÚRS 2024 02 | N125: základní | P125: =O125*H125 -> 0 | Q125: 0 | R125: =Q125*H125 -> 0 | S125: 0 | T125: =S125*H125 -> 0 | AR125: 4 | AT125: K | AU125: 2 | AY125: ROZPOCET | BE125: =IF(N125="základní",J125,0) -> 0 | BF125: =IF(N125="snížená",J125,0) -> 0 | BG125: =IF(N125="zákl. přenesená",J125,0) -> 0 | BH125: =IF(N125="sníž. přenesená",J125,0) -> 0 | BI125: =IF(N125="nulová",J125,0) -> 0 | BJ125: 1 | BK125: =ROUND(I125*H125,2) -> 0 | BL125: 4 | BM125: 1622122220
D126: PP | F126: Podklad ze štěrkodrti ŠD s rozprostřením a zhutněním plochy jednotlivě do 100 m2, po zhutnění tl. 200 mm | AT126: PP | AU126: 2
D127: Online PSC | F127: https://podminky.urs.cz/item/CS_URS_2024_02/564861011 | AT127: Online PSC | AU127: 2
D128: VV | F128: "chodník" 103,38 | H128: 103.38 | AT128: VV | AU128: 2 | AV128: 2 | AW128: True | AX128: 0 | AY128: ROZPOCET
D129: VV | F129: Součet | H129: 103.38 | AT129: VV | AU129: 2 | AV129: 4 | AW129: True | AX129: 1 | AY129: ROZPOCET
C130: 8 | D130: K | E130: 591211111 | F130: Kladení dlažby z kostek drobných z kamene do lože z kameniva těženého tl 50 mm | G130: m2 | H130: 75.64 | J130: =ROUND(I130*H130,2) -> 0 | K130: CS ÚRS 2024 02 | N130: základní | P130: =O130*H130 -> 0 | Q130: 0.1837 | R130: =Q130*H130 -> 13.895068 | S130: 0 | T130: =S130*H130 -> 0 | AR130: 4 | AT130: K | AU130: 2 | AY130: ROZPOCET | BE130: =IF(N130="základní",J130,0) -> 0 | BF130: =IF(N130="snížená",J130,0) -> 0 | BG130: =IF(N130="zákl. přenesená",J130,0) -> 0 | BH130: =IF(N130="sníž. přenesená",J130,0) -> 0 | BI130: =IF(N130="nulová",J130,0) -> 0 | BJ130: 1 | BK130: =ROUND(I130*H130,2) -> 0 | BL130: 4 | BM130: 2123448461
D131: PP | F131: Kladení dlažby z kostek s provedením lože do tl. 50 mm, s vyplněním spár, s dvojím beraněním a se smetením přebytečného materiálu na krajnici drobných z kamene, do lože z kameniva těženého | AT131: PP | AU131: 2
D132: Online PSC | F132: https://podminky.urs.cz/item/CS_URS_2024_02/591211111 | AT132: Online PSC | AU132: 2
D133: VV | F133: "vjezd - stávající dlažba" 13,93 | H133: 13.93 | AT133: VV | AU133: 2 | AV133: 2 | AW133: True | AX133: 0 | AY133: ROZPOCET
...

Sheet SO 403 - Veřejné osvětlení
AT2: {9b2e04c5-555c-441a-8258-b28a8eaa1d61}
AT3: 2
D4: KRYCÍ LIST SOUPISU PRACÍ | M4: v --- níže se nacházejí doplnkové a pomocné údaje k sestavám --- v | AT4: False
D6: Stavba:
E7: ='Rekapitulace stavby'!K6 -> Roudnice nad Labem - přechody v centru města
D8: Objekt:
E9: SO 103 - Místo pro přecházení u pivovaru
D10: Soupis:
E11: SO 403 - Veřejné osvětlení
D13: KSO: | I13: CC-CZ:
D14: Místo: | F14: Roudnice nad Labem | I14: Datum: | J14: ='Rekapitulace stavby'!AN8 -> 17. 9. 2024
D16: Zadavatel: | I16: IČ: | J16: =IF('Rekapitulace stavby'!AN10="","",'Rekapitulace stavby'!AN10)
E17: =IF('Rekapitulace stavby'!E11="","",'Rekapitulace stavby'!E11) | I17: DIČ: | J17: =IF('Rekapitulace stavby'!AN11="","",'Rekapitulace stavby'!AN11)
D19: Uchazeč: | I19: IČ: | J19: ='Rekapitulace stavby'!AN13 -> Vyplň údaj
E20: ='Rekapitulace stavby'!E14 -> Vyplň údaj | I20: DIČ: | J20: ='Rekapitulace stavby'!AN14 -> Vyplň údaj
D22: Projektant: | I22: IČ: | J22: =IF('Rekapitulace stavby'!AN16="","",'Rekapitulace stavby'!AN16)
E23: =IF('Rekapitulace stavby'!E17="","",'Rekapitulace stavby'!E17) -> PK dopravní s.r.o. | I23: DIČ: | J23: =IF('Rekapitulace stavby'!AN17="","",'Rekapitulace stavby'!AN17)
D25: Zpracovatel: | I25: IČ: | J25: =IF('Rekapitulace stavby'!AN19="","",'Rekapitulace stavby'!AN19)
E26: =IF('Rekapitulace stavby'!E20="","",'Rekapitulace stavby'!E20) | I26: DIČ: | J26: =IF('Rekapitulace stavby'!AN20="","",'Rekapitulace stavby'!AN20)
D28: Poznámka:
D32: Cena bez DPH | J32: =ROUND(J90, 2) -> 0
F34: Základ daně | I34: Sazba daně | J34: Výše daně
D35: DPH | E35: základní | F35: =ROUND((SUM(BE90:BE184)), 2) -> 0 | I35: 0.21 | J35: =ROUND(((SUM(BE90:BE184))*I35), 2) -> 0
E36: snížená | F36: =ROUND((SUM(BF90:BF184)), 2) -> 0 | I36: 0.12 | J36: =ROUND(((SUM(BF90:BF184))*I36), 2) -> 0
E37: zákl. přenesená | F37: =ROUND((SUM(BG90:BG184)), 2) -> 0 | I37: 0.21 | J37: =0 -> 0
E38: sníž. přenesená | F38: =ROUND((SUM(BH90:BH184)), 2) -> 0 | I38: 0.12 | J38: =0 -> 0
E39: nulová | F39: =ROUND((SUM(BI90:BI184)), 2) -> 0 | I39: 0 | J39: =0 -> 0
D41: Cena s DPH | G41: v | H41: CZK | J41: =SUM(J32:J39) -> 0
C47: REKAPITULACE ČLENĚNÍ SOUPISU PRACÍ
C49: Stavba:
E50: =E7 -> Roudnice nad Labem - přechody v centru města
C51: Objekt:
E52: SO 103 - Místo pro přecházení u pivovaru
C53: Soupis:
E54: =E11 -> SO 403 - Veřejné osvětlení
C56: Místo: | F56: =F14 -> Roudnice nad Labem | I56: Datum: | J56: =IF(J14="","",J14) -> 17. 9. 2024
C58: Zadavatel: | F58: =E17 | I58: Projektant: | J58: =E23 -> PK dopravní s.r.o.
C59: Uchazeč: | F59: =IF(E20="","",E20) -> Vyplň údaj | I59: Zpracovatel: | J59: =E26
C61: Kód dílu - Popis | J61: Cena celkem [CZK]
C63: Náklady stavby celkem | J63: =J90 -> 0 | AU63: -1
D64: D0 - Instalační materiál a kabelová vedení | J64: =J91 -> 0
D65: D1 - Demontáže | J65: =J127 -> 0
D66: D2 - Montážní práce | J66: =J132 -> 0
D67: D3 - Zemní práce | J67: =J167 -> 0
D68: OST - Ostatní | J68: =J180 -> 0
C75: SOUPIS PRACÍ
C77: Stavba:
E78: =E7 -> Roudnice nad Labem - přechody v centru města
C79: Objekt:
E80: SO 103 - Místo pro přecházení u pivovaru
C81: Soupis:
E82: =E11 -> SO 403 - Veřejné osvětlení
C84: Místo: | F84: =F14 -> Roudnice nad Labem | I84: Datum: | J84: =IF(J14="","",J14) -> 17. 9. 2024
C86: Zadavatel: | F86: =E17 | I86: Projektant: | J86: =E23 -> PK dopravní s.r.o.
C87: Uchazeč: | F87: =IF(E20="","",E20) -> Vyplň údaj | I87: Zpracovatel: | J87: =E26
C89: PČ | D89: Typ | E89: Kód | F89: Popis | G89: MJ | H89: Množství | I89: J.cena [CZK] | J89: Cena celkem [CZK] | K89: Cenová soustava | N89: DPH | O89: J. Nh [h] | P89: Nh celkem [h] | Q89: J. hmotnost [t] | R89: Hmotnost celkem [t] | S89: J. suť [t] | T89: Suť Celkem [t]
C90: Náklady soupisu celkem | J90: =BK90 -> 0 | P90: =P91+P127+P132+P167+P180 -> 0 | R90: =R91+R127+R132+R167+R180 -> 0 | T90: =T91+T127+T132+T167+T180 -> 0 | AT90: D | AU90: -1 | BK90: =BK91+BK127+BK132+BK167+BK180 -> 0
D91: D | E91: D0 | F91: Instalační materiál a kabelová vedení | J91: =BK91 -> 0 | P91: =SUM(P92:P126) -> 0 | R91: =SUM(R92:R126) -> 0 | T91: =SUM(T92:T126) -> 0 | AR91: 1 | AT91: D | AU91: 0 | AY91: ROZPOCET | BK91: =SUM(BK92:BK126) -> 0
C92: 1 | D92: M | E92: Pol51 | F92: CYKY - J 4x16 mm | G92: m | H92: 33 | J92: =ROUND(I92*H92,2) -> 0 | N92: základní | P92: =O92*H92 -> 0 | Q92: 0 | R92: =Q92*H92 -> 0 | S92: 0 | T92: =S92*H92 -> 0 | AR92: 8 | AT92: M | AU92: 1 | AY92: ROZPOCET | BE92: =IF(N92="základní",J92,0) -> 0 | BF92: =IF(N92="snížená",J92,0) -> 0 | BG92: =IF(N92="zákl. přenesená",J92,0) -> 0 | BH92: =IF(N92="sníž. přenesená",J92,0) -> 0 | BI92: =IF(N92="nulová",J92,0) -> 0 | BJ92: 1 | BK92: =ROUND(I92*H92,2) -> 0 | BL92: 4 | BM92: 2
D93: PP | F93: CYKY - J 4x16 mm | AT93: PP | AU93: 1
C94: 2 | D94: M | E94: Pol3 | F94: Kabel CYKY - J 3x1,5 mm (C) | G94: m | H94: 16 | J94: =ROUND(I94*H94,2) -> 0 | N94: základní | P94: =O94*H94 -> 0 | Q94: 0 | R94: =Q94*H94 -> 0 | S94: 0 | T94: =S94*H94 -> 0 | AR94: 8 | AT94: M | AU94: 1 | AY94: ROZPOCET | BE94: =IF(N94="základní",J94,0) -> 0 | BF94: =IF(N94="snížená",J94,0) -> 0 | BG94: =IF(N94="zákl. přenesená",J94,0) -> 0 | BH94: =IF(N94="sníž. přenesená",J94,0) -> 0 | BI94: =IF(N94="nulová",J94,0) -> 0 | BJ94: 1 | BK94: =ROUND(I94*H94,2) -> 0 | BL94: 4 | BM94: 4
D95: PP | F95: Kabel CYKY - J 3x1,5 mm (C) | AT95: PP | AU95: 1
C96: 3 | D96: M | E96: Pol60 | F96: FeZn drát 10 0,62 kg/m / bal.50kg/81m Z215 | G96: m | H96: 27 | J96: =ROUND(I96*H96,2) -> 0 | N96: základní | P96: =O96*H96 -> 0 | Q96: 0 | R96: =Q96*H96 -> 0 | S96: 0 | T96: =S96*H96 -> 0 | AR96: 8 | AT96: M | AU96: 1 | AY96: ROZPOCET | BE96: =IF(N96="základní",J96,0) -> 0 | BF96: =IF(N96="snížená",J96,0) -> 0 | BG96: =IF(N96="zákl. přenesená",J96,0) -> 0 | BH96: =IF(N96="sníž. přenesená",J96,0) -> 0 | BI96: =IF(N96="nulová",J96,0) -> 0 | BJ96: 1 | BK96: =ROUND(I96*H96,2) -> 0 | BL96: 4 | BM96: 6
D97: PP | F97: FeZn drát 10 0,62 kg/m / bal.50kg/81m Z215 | AT97: PP | AU97: 1
C98: 4 | D98: M | E98: Pol4 | F98: Drát 10 PVC 10/13 FeZn+PVC 0,695kg/m | G98: m | H98: 1.5 | J98: =ROUND(I98*H98,2) -> 0 | N98: základní | P98: =O98*H98 -> 0 | Q98: 0 | R98: =Q98*H98 -> 0 | S98: 0 | T98: =S98*H98 -> 0 | AR98: 8 | AT98: M | AU98: 1 | AY98: ROZPOCET | BE98: =IF(N98="základní",J98,0) -> 0 | BF98: =IF(N98="snížená",J98,0) -> 0 | BG98: =IF(N98="zákl. přenesená",J98,0) -> 0 | BH98: =IF(N98="sníž. přenesená",J98,0) -> 0 | BI98: =IF(N98="nulová",J98,0) -> 0 | BJ98: 1 | BK98: =ROUND(I98*H98,2) -> 0 | BL98: 4 | BM98: 8
D99: PP | F99: Drát 10 PVC 10/13 FeZn+PVC 0,695kg/m | AT99: PP | AU99: 1
C100: 5 | D100: M | E100: Pol5 | F100: SP - svorka připojovací | G100: ks | H100: 2 | J100: =ROUND(I100*H100,2) -> 0 | N100: základní | P100: =O100*H100 -> 0 | Q100: 0 | R100: =Q100*H100 -> 0 | S100: 0 | T100: =S100*H100 -> 0 | AR100: 8 | AT100: M | AU100: 1 | AY100: ROZPOCET | BE100: =IF(N100="základní",J100,0) -> 0 | BF100: =IF(N100="snížená",J100,0) -> 0 | BG100: =IF(N100="zákl. přenesená",J100,0) -> 0 | BH100: =IF(N100="sníž. přenesená",J100,0) -> 0 | BI100: =IF(N100="nulová",J100,0) -> 0 | BJ100: 1 | BK100: =ROUND(I100*H100,2) -> 0 | BL100: 4 | BM100: 10
D101: PP | F101: SP - svorka připojovací | AT101: PP | AU101: 1
C102: 6 | D102: M | E102: Pol6 | F102: SU - svorka univerzální V001 | G102: ks | H102: 8 | J102: =ROUND(I102*H102,2) -> 0 | N102: základní | P102: =O102*H102 -> 0 | Q102: 0 | R102: =Q102*H102 -> 0 | S102: 0 | T102: =S102*H102 -> 0 | AR102: 8 | AT102: M | AU102: 1 | AY102: ROZPOCET | BE102: =IF(N102="základní",J102,0) -> 0 | BF102: =IF(N102="snížená",J102,0) -> 0 | BG102: =IF(N102="zákl. přenesená",J102,0) -> 0 | BH102: =IF(N102="sníž. přenesená",J102,0) -> 0 | BI102: =IF(N102="nulová",J102,0) -> 0 | BJ102: 1 | BK102: =ROUND(I102*H102,2) -> 0 | BL102: 4 | BM102: 12
D103: PP | F103: SU - svorka univerzální V001 | AT103: PP | AU103: 1
C104: 7 | D104: M | E104: Pol7 | F104: Stožár přechodový STP 6-A (133/89/76) bezpaticový 3-stup. | G104: ks | H104: 1 | J104: =ROUND(I104*H104,2) -> 0 | N104: základní | P104: =O104*H104 -> 0 | Q104: 0 | R104: =Q104*H104 -> 0 | S104: 0 | T104: =S104*H104 -> 0 | AR104: 8 | AT104: M | AU104: 1 | AY104: ROZPOCET | BE104: =IF(N104="základní",J104,0) -> 0 | BF104: =IF(N104="snížená",J104,0) -> 0 | BG104: =IF(N104="zákl. přenesená",J104,0) -> 0 | BH104: =IF(N104="sníž. přenesená",J104,0) -> 0 | BI104: =IF(N104="nulová",J104,0) -> 0 | BJ104: 1 | BK104: =ROUND(I104*H104,2) -> 0 | BL104: 4 | BM104: 14
D105: PP | F105: Stožár přechodový STP 6-A (133/89/76) bezpaticový 3-stup. | AT105: PP | AU105: 1
C106: 8 | D106: M | E106: Pol8 | F106: Stožár přechodový STP 6-B (133/108/89) bezpaticový 3-stup. | G106: ks | H106: 1 | J106: =ROUND(I106*H106,2) -> 0 | N106: základní | P106: =O106*H106 -> 0 | Q106: 0 | R106: =Q106*H106 -> 0 | S106: 0 | T106: =S106*H106 -> 0 | AR106: 8 | AT106: M | AU106: 1 | AY106: ROZPOCET | BE106: =IF(N106="základní",J106,0) -> 0 | BF106: =IF(N106="snížená",J106,0) -> 0 | BG106: =IF(N106="zákl. přenesená",J106,0) -> 0 | BH106: =IF(N106="sníž. přenesená",J106,0) -> 0 | BI106: =IF(N106="nulová",J106,0) -> 0 | BJ106: 1 | BK106: =ROUND(I106*H106,2) -> 0 | BL106: 4 | BM106: 16
D107: PP | F107: Stožár přechodový STP 6-B (133/108/89) bezpaticový 3-stup. | AT107: PP | AU107: 1
C108: 9 | D108: M | E108: Pol61 | F108: Výložník UD1-1500A na d=76, pozink | G108: ks | H108: 1 | J108: =ROUND(I108*H108,2) -> 0 | N108: základní | P108: =O108*H108 -> 0 | Q108: 0 | R108: =Q108*H108 -> 0 | S108: 0 | T108: =S108*H108 -> 0 | AR108: 8 | AT108: M | AU108: 1 | AY108: ROZPOCET | BE108: =IF(N108="základní",J108,0) -> 0 | BF108: =IF(N108="snížená",J108,0) -> 0 | BG108: =IF(N108="zákl. přenesená",J108,0) -> 0 | BH108: =IF(N108="sníž. přenesená",J108,0) -> 0 | BI108: =IF(N108="nulová",J108,0) -> 0 | BJ108: 1 | BK108: =ROUND(I108*H108,2) -> 0 | BL108: 4 | BM108: 18
D109: PP | F109: Výložník UD1-1500A na d=76, pozink | AT109: PP | AU109: 1
C110: 10 | D110: M | E110: Pol10 | F110: Výložník UD1-2000B na d=89, pozink | G110: ks | H110: 1 | J110: =ROUND(I110*H110,2) -> 0 | N110: základní | P110: =O110*H110 -> 0 | Q110: 0 | R110: =Q110*H110 -> 0 | S110: 0 | T110: =S110*H110 -> 0 | AR110: 8 | AT110: M | AU110: 1 | AY110: ROZPOCET | BE110: =IF(N110="základní",J110,0) -> 0 | BF110: =IF(N110="snížená",J110,0) -> 0 | BG110: =IF(N110="zákl. přenesená",J110,0) -> 0 | BH110: =IF(N110="sníž. přenesená",J110,0) -> 0 | BI110: =IF(N110="nulová",J110,0) -> 0 | BJ110: 1 | BK110: =ROUND(I110*H110,2) -> 0 | BL110: 4 | BM110: 20
D111: PP | F111: Výložník UD1-2000B na d=89, pozink | AT111: PP | AU111: 1
C112: 11 | D112: M | E112: Pol11 | F112: Ochranná manžeta OMP 133 | G112: ks | H112: 2 | J112: =ROUND(I112*H112,2) -> 0 | N112: základní | P112: =O112*H112 -> 0 | Q112: 0 | R112: =Q112*H112 -> 0 | S112: 0 | T112: =S112*H112 -> 0 | AR112: 8 | AT112: M | AU112: 1 | AY112: ROZPOCET | BE112: =IF(N112="základní",J112,0) -> 0 | BF112: =IF(N112="snížená",J112,0) -> 0 | BG112: =IF(N112="zákl. přenesená",J112,0) -> 0 | BH112: =IF(N112="sníž. přenesená",J112,0) -> 0 | BI112: =IF(N112="nulová",J112,0) -> 0 | BJ112: 1 | BK112: =ROUND(I112*H112,2) -> 0 | BL112: 4 | BM112: 22
D113: PP | F113: Ochranná manžeta OMP 133 | AT113: PP | AU113: 1
C114: 12 | D114: M | E114: Pol12 | F114: Trubka ochranná korugovaná 63 (09063 BA) | G114: m | H114: 29 | J114: =ROUND(I114*H114,2) -> 0 | N114: základní | P114: =O114*H114 -> 0 | Q114: 0 | R114: =Q114*H114 -> 0 | S114: 0 | T114: =S114*H114 -> 0 | AR114: 8 | AT114: M | AU114: 1 | AY114: ROZPOCET | BE114: =IF(N114="základní",J114,0) -> 0 | BF114: =IF(N114="snížená",J114,0) -> 0 | BG114: =IF(N114="zákl. přenesená",J114,0) -> 0 | BH114: =IF(N114="sníž. přenesená",J114,0) -> 0 | BI114: =IF(N114="nulová",J114,0) -> 0 | BJ114: 1 | BK114: =ROUND(I114*H114,2) -> 0 | BL114: 4 | BM114: 24
D115: PP | F115: Trubka ochranná korugovaná 63 (09063 BA) | AT115: PP | AU115: 1
C116: 13 | D116: M | E116: Pol13 | F116: Výstražná folie 22/50 | G116: m | H116: 29 | J116: =ROUND(I116*H116,2) -> 0 | N116: základní | P116: =O116*H116 -> 0 | Q116: 0 | R116: =Q116*H116 -> 0 | S116: 0 | T116: =S116*H116 -> 0 | AR116: 8 | AT116: M | AU116: 1 | AY116: ROZPOCET | BE116: =IF(N116="základní",J116,0) -> 0 | BF116: =IF(N116="snížená",J116,0) -> 0 | BG116: =IF(N116="zákl. přenesená",J116,0) -> 0 | BH116: =IF(N116="sníž. přenesená",J116,0) -> 0 | BI116: =IF(N116="nulová",J116,0) -> 0 | BJ116: 1 | BK116: =ROUND(I116*H116,2) -> 0 | BL116: 4 | BM116: 26
D117: PP | F117: Výstražná folie 22/50 | AT117: PP | AU117: 1
C118: 14 | D118: M | E118: Pol14 | F118: SV-A 6.16.4 stožár.výzbroj /H416110/ | G118: ks | H118: 2 | J118: =ROUND(I118*H118,2) -> 0 | N118: základní | P118: =O118*H118 -> 0 | Q118: 0 | R118: =Q118*H118 -> 0 | S118: 0 | T118: =S118*H118 -> 0 | AR118: 8 | AT118: M | AU118: 1 | AY118: ROZPOCET | BE118: =IF(N118="základní",J118,0) -> 0 | BF118: =IF(N118="snížená",J118,0) -> 0 | BG118: =IF(N118="zákl. přenesená",J118,0) -> 0 | BH118: =IF(N118="sníž. přenesená",J118,0) -> 0 | BI118: =IF(N118="nulová",J118,0) -> 0 | BJ118: 1 | BK118: =ROUND(I118*H118,2) -> 0 | BL118: 4 | BM118: 28
D119: PP | F119: SV-A 6.16.4 stožár.výzbroj /H416110/ | AT119: PP | AU119: 1
C120: 15 | D120: M | E120: Pol15 | F120: Poj.6A D01 gL/gG E14 | G120: ks | H120: 2 | J120: =ROUND(I120*H120,2) -> 0 | N120: základní | P120: =O120*H120 -> 0 | Q120: 0 | R120: =Q120*H120 -> 0 | S120: 0 | T120: =S120*H120 -> 0 | AR120: 8 | AT120: M | AU120: 1 | AY120: ROZPOCET | BE120: =IF(N120="základní",J120,0) -> 0 | BF120: =IF(N120="snížená",J120,0) -> 0 | BG120: =IF(N120="zákl. přenesená",J120,0) -> 0 | BH120: =IF(N120="sníž. přenesená",J120,0) -> 0 | BI120: =IF(N120="nulová",J120,0) -> 0 | BJ120: 1 | BK120: =ROUND(I120*H120,2) -> 0 | BL120: 4 | BM120: 30
D121: PP | F121: Poj.6A D01 gL/gG E14 | AT121: PP | AU121: 1
C122: 16 | D122: M | E122: Pol17 | F122: Svítidlo TECEO S (Zebra right) /5369/20 LED/NW/Back light/350 mA/22,4W/3101lm | G122: ks | H122: 2 | J122: =ROUND(I122*H122,2) -> 0 | N122: základní | P122: =O122*H122 -> 0 | Q122: 0 | R122: =Q122*H122 -> 0 | S122: 0 | T122: =S122*H122 -> 0 | AR122: 8 | AT122: M | AU122: 1 | AY122: ROZPOCET | BE122: =IF(N122="základní",J122,0) -> 0 | BF122: =IF(N122="snížená",J122,0) -> 0 | BG122: =IF(N122="zákl. přenesená",J122,0) -> 0 | BH122: =IF(N122="sníž. přenesená",J122,0) -> 0 | BI122: =IF(N122="nulová",J122,0) -> 0 | BJ122: 1 | BK122: =ROUND(I122*H122,2) -> 0 | BL122: 4 | BM122: 32
D123: PP | F123: Svítidlo TECEO S (Zebra right) /5369/20 LED/NW/Back light/350 mA/22,4W/3101lm | AT123: PP | AU123: 1
D124: P | F124: Poznámka k položce:_x000D_ svítidlo vybaveno programovatelnou regulací příkonu a CLO | AT124: P | AU124: 1
C125: 17 | D125: M | E125: Pol18 | F125: Recykl. poplatek 8,40 Kč svítidlo | G125: ks | H125: 2 | J125: =ROUND(I125*H125,2) -> 0 | N125: základní | P125: =O125*H125 -> 0 | Q125: 0 | R125: =Q125*H125 -> 0 | S125: 0 | T125: =S125*H125 -> 0 | AR125: 8 | AT125: M | AU125: 1 | AY125: ROZPOCET | BE125: =IF(N125="základní",J125,0) -> 0 | BF125: =IF(N125="snížená",J125,0) -> 0 | BG125: =IF(N125="zákl. přenesená",J125,0) -> 0 | BH125: =IF(N125="sníž. přenesená",J125,0) -> 0 | BI125: =IF(N125="nulová",J125,0) -> 0 | BJ125: 1 | BK125: =ROUND(I125*H125,2) -> 0 | BL125: 4 | BM125: 34
D126: PP | F126: Recykl. poplatek 8,40 Kč svítidlo | AT126: PP | AU126: 1
D127: D | E127: D1 | F127: Demontáže | J127: =BK127 -> 0 | P127: =SUM(P128:P131) -> 0 | R127: =SUM(R128:R131) -> 0 | T127: =SUM(T128:T131) -> 0 | AR127: 1 | AT127: D | AU127: 0 | AY127: ROZPOCET | BK127: =SUM(BK128:BK131) -> 0
C128: 18 | D128: K | E128: Pol21 | F128: Svítidla výbojková typ 444 23 16-250 W, SHC na vyloz. | G128: ks | H128: 1 | J128: =ROUND(I128*H128,2) -> 0 | N128: základní | P128: =O128*H128 -> 0 | Q128: 0 | R128: =Q128*H128 -> 0 | S128: 0 | T128: =S128*H128 -> 0 | AR128: 4 | AT128: K | AU128: 1 | AY128: ROZPOCET | BE128: =IF(N128="základní",J128,0) -> 0 | BF128: =IF(N128="snížená",J128,0) -> 0 | BG128: =IF(N128="zákl. přenesená",J128,0) -> 0 | BH128: =IF(N128="sníž. přenesená",J128,0) -> 0 | BI128: =IF(N128="nulová",J128,0) -> 0 | BJ128: 1 | BK128: =ROUND(I128*H128,2) -> 0 | BL128: 4 | BM128: 36
D129: PP | F129: Svítidla výbojková typ 444 23 16-250 W, SHC na vyloz. | AT129: PP | AU129: 1
C130: 19 | D130: K | E130: Pol23 | F130: Osv.st. - ocel - do délky 12 m | G130: ks | H130: 1 | J130: =ROUND(I130*H130,2) -> 0 | N130: základní | P130: =O130*H130 -> 0 | Q130: 0 | R130: =Q130*H130 -> 0 | S130: 0 | T130: =S130*H130 -> 0 | AR130: 4 | AT130: K | AU130: 1 | AY130: ROZPOCET | BE130: =IF(N130="základní",J130,0) -> 0 | BF130: =IF(N130="snížená",J130,0) -> 0 | BG130: =IF(N130="zákl. přenesená",J130,0) -> 0 | BH130: =IF(N130="sníž. přenesená",J130,0) -> 0 | BI130: =IF(N130="nulová",J130,0) -> 0 | BJ130: 1 | BK130: =ROUND(I130*H130,2) -> 0 | BL130: 4 | BM130: 38
D131: PP | F131: Osv.st. - ocel - do délky 12 m | AT131: PP | AU131: 1
D132: D | E132: D2 | F132: Montážní práce | J132: =BK132 -> 0 | P132: =SUM(P133:P166) -> 0 | R132: =SUM(R133:R166) -> 0 | T132: =SUM(T133:T166) -> 0 | AR132: 1 | AT132: D | AU132: 0 | AY132: ROZPOCET | BK132: =SUM(BK133:BK166) -> 0
C133: 20 | D133: K | E133: Pol24 | F133: CYKY-CYKYm 750V 4x16 volně uložený | G133: m | H133: 33 | J133: =ROUND(I133*H133,2) -> 0 | N133: základní | P133: =O133*H133 -> 0 | Q133: 0 | R133: =Q133*H133 -> 0 | S133: 0 | T133: =S133*H133 -> 0 | AR133: 4 | AT133: K | AU133: 1 | AY133: ROZPOCET | BE133: =IF(N133="základní",J133,0) -> 0 | BF133: =IF(N133="snížená",J133,0) -> 0 | BG133: =IF(N133="zákl. přenesená",J133,0) -> 0 | BH133: =IF(N133="sníž. přenesená",J133,0) -> 0 | BI133: =IF(N133="nulová",J133,0) -> 0 | BJ133: 1 | BK133: =ROUND(I133*H133,2) -> 0 | BL133: 4 | BM133: 40
...

Sheet VRN 103 - Vedlejší rozpoč...
AT2: {395f266f-dc06-466a-ad47-85c190fedf91}
AT3: 2
D4: KRYCÍ LIST SOUPISU PRACÍ | M4: v --- níže se nacházejí doplnkové a pomocné údaje k sestavám --- v | AT4: False
D6: Stavba:
E7: ='Rekapitulace stavby'!K6 -> Roudnice nad Labem - přechody v centru města
D8: Objekt:
E9: SO 103 - Místo pro přecházení u pivovaru
D10: Soupis:
E11: VRN 103 - Vedlejší rozpočtové náklady
D13: KSO: | F13: 822 2 | I13: CC-CZ:
D14: Místo: | F14: Roudnice nad Labem | I14: Datum: | J14: ='Rekapitulace stavby'!AN8 -> 17. 9. 2024
D16: Zadavatel: | I16: IČ: | J16: =IF('Rekapitulace stavby'!AN10="","",'Rekapitulace stavby'!AN10)
E17: =IF('Rekapitulace stavby'!E11="","",'Rekapitulace stavby'!E11) | I17: DIČ: | J17: =IF('Rekapitulace stavby'!AN11="","",'Rekapitulace stavby'!AN11)
D19: Uchazeč: | I19: IČ: | J19: ='Rekapitulace stavby'!AN13 -> Vyplň údaj
E20: ='Rekapitulace stavby'!E14 -> Vyplň údaj | I20: DIČ: | J20: ='Rekapitulace stavby'!AN14 -> Vyplň údaj
D22: Projektant: | I22: IČ:
E23: PK dopravní s.r.o. | I23: DIČ:
D25: Zpracovatel: | I25: IČ: | J25: =IF('Rekapitulace stavby'!AN19="","",'Rekapitulace stavby'!AN19)
E26: =IF('Rekapitulace stavby'!E20="","",'Rekapitulace stavby'!E20) | I26: DIČ: | J26: =IF('Rekapitulace stavby'!AN20="","",'Rekapitulace stavby'!AN20)
D28: Poznámka:
D32: Cena bez DPH | J32: =ROUND(J89, 2) -> 0
F34: Základ daně | I34: Sazba daně | J34: Výše daně
D35: DPH | E35: základní | F35: =ROUND((SUM(BE89:BE114)), 2) -> 0 | I35: 0.21 | J35: =ROUND(((SUM(BE89:BE114))*I35), 2) -> 0
E36: snížená | F36: =ROUND((SUM(BF89:BF114)), 2) -> 0 | I36: 0.12 | J36: =ROUND(((SUM(BF89:BF114))*I36), 2) -> 0
E37: zákl. přenesená | F37: =ROUND((SUM(BG89:BG114)), 2) -> 0 | I37: 0.21 | J37: =0 -> 0
E38: sníž. přenesená | F38: =ROUND((SUM(BH89:BH114)), 2) -> 0 | I38: 0.12 | J38: =0 -> 0
E39: nulová | F39: =ROUND((SUM(BI89:BI114)), 2) -> 0 | I39: 0 | J39: =0 -> 0
D41: Cena s DPH | G41: v | H41: CZK | J41: =SUM(J32:J39) -> 0
C47: REKAPITULACE ČLENĚNÍ SOUPISU PRACÍ
C49: Stavba:
E50: =E7 -> Roudnice nad Labem - přechody v centru města
C51: Objekt:
E52: SO 103 - Místo pro přecházení u pivovaru
C53: Soupis:
E54: =E11 -> VRN 103 - Vedlejší rozpočtové náklady
C56: Místo: | F56: =F14 -> Roudnice nad Labem | I56: Datum: | J56: =IF(J14="","",J14) -> 17. 9. 2024
C58: Zadavatel: | F58: =E17 | I58: Projektant: | J58: =E23 -> PK dopravní s.r.o.
C59: Uchazeč: | F59: =IF(E20="","",E20) -> Vyplň údaj | I59: Zpracovatel: | J59: =E26
C61: Kód dílu - Popis | J61: Cena celkem [CZK]
C63: Náklady stavby celkem | J63: =J89 -> 0 | AU63: -1
D64: VRN - Vedlejší rozpočtové náklady | J64: =J90 -> 0
D65: VRN1 - Průzkumné, geodetické a projektové práce | J65: =J91 -> 0
D66: VRN3 - Zařízení staveniště | J66: =J101 -> 0
D67: VRN4 - Inženýrská činnost | J67: =J109 -> 0
C74: SOUPIS PRACÍ
C76: Stavba:
E77: =E7 -> Roudnice nad Labem - přechody v centru města
C78: Objekt:
E79: SO 103 - Místo pro přecházení u pivovaru
C80: Soupis:
E81: =E11 -> VRN 103 - Vedlejší rozpočtové náklady
C83: Místo: | F83: =F14 -> Roudnice nad Labem | I83: Datum: | J83: =IF(J14="","",J14) -> 17. 9. 2024
C85: Zadavatel: | F85: =E17 | I85: Projektant: | J85: =E23 -> PK dopravní s.r.o.
C86: Uchazeč: | F86: =IF(E20="","",E20) -> Vyplň údaj | I86: Zpracovatel: | J86: =E26
C88: PČ | D88: Typ | E88: Kód | F88: Popis | G88: MJ | H88: Množství | I88: J.cena [CZK] | J88: Cena celkem [CZK] | K88: Cenová soustava | N88: DPH | O88: J. Nh [h] | P88: Nh celkem [h] | Q88: J. hmotnost [t] | R88: Hmotnost celkem [t] | S88: J. suť [t] | T88: Suť Celkem [t]
C89: Náklady soupisu celkem | J89: =BK89 -> 0 | P89: =P90 -> 0 | R89: =R90 -> 0 | T89: =T90 -> 0 | AT89: D | AU89: -1 | BK89: =BK90 -> 0
D90: D | E90: VRN | F90: Vedlejší rozpočtové náklady | J90: =BK90 -> 0 | P90: =P91+P101+P109 -> 0 | R90: =R91+R101+R109 -> 0 | T90: =T91+T101+T109 -> 0 | AR90: 5 | AT90: D | AU90: 0 | AY90: ROZPOCET | BK90: =BK91+BK101+BK109 -> 0
D91: D | E91: VRN1 | F91: Průzkumné, geodetické a projektové práce | J91: =BK91 -> 0 | P91: =SUM(P92:P100) -> 0 | R91: =SUM(R92:R100) -> 0 | T91: =SUM(T92:T100) -> 0 | AR91: 5 | AT91: D | AU91: 1 | AY91: ROZPOCET | BK91: =SUM(BK92:BK100) -> 0
C92: 1 | D92: K | E92: 012164000 | F92: Vytyčení a zaměření inženýrských sítí | G92: kpl | H92: 1 | J92: =ROUND(I92*H92,2) -> 0 | K92: CS ÚRS 2024 02 | N92: základní | P92: =O92*H92 -> 0 | Q92: 0 | R92: =Q92*H92 -> 0 | S92: 0 | T92: =S92*H92 -> 0 | AR92: 1024 | AT92: K | AU92: 2 | AY92: ROZPOCET | BE92: =IF(N92="základní",J92,0) -> 0 | BF92: =IF(N92="snížená",J92,0) -> 0 | BG92: =IF(N92="zákl. přenesená",J92,0) -> 0 | BH92: =IF(N92="sníž. přenesená",J92,0) -> 0 | BI92: =IF(N92="nulová",J92,0) -> 0 | BJ92: 1 | BK92: =ROUND(I92*H92,2) -> 0 | BL92: 1024 | BM92: -937734132
D93: PP | F93: Vytyčení a zaměření inženýrských sítí | AT93: PP | AU93: 2
D94: Online PSC | F94: https://podminky.urs.cz/item/CS_URS_2024_02/012164000 | AT94: Online PSC | AU94: 2
C95: 2 | D95: K | E95: 012303000 | F95: Zeměměřičské práce při provádění stavby | G95: kpl | H95: 1 | J95: =ROUND(I95*H95,2) -> 0 | K95: CS ÚRS 2024 02 | N95: základní | P95: =O95*H95 -> 0 | Q95: 0 | R95: =Q95*H95 -> 0 | S95: 0 | T95: =S95*H95 -> 0 | AR95: 1024 | AT95: K | AU95: 2 | AY95: ROZPOCET | BE95: =IF(N95="základní",J95,0) -> 0 | BF95: =IF(N95="snížená",J95,0) -> 0 | BG95: =IF(N95="zákl. přenesená",J95,0) -> 0 | BH95: =IF(N95="sníž. přenesená",J95,0) -> 0 | BI95: =IF(N95="nulová",J95,0) -> 0 | BJ95: 1 | BK95: =ROUND(I95*H95,2) -> 0 | BL95: 1024 | BM95: 1543047127
D96: PP | F96: Zeměměřičské práce při provádění stavby | AT96: PP | AU96: 2
D97: Online PSC | F97: https://podminky.urs.cz/item/CS_URS_2024_02/012303000 | AT97: Online PSC | AU97: 2
C98: 3 | D98: K | E98: 012444000 | F98: Geodetické měření skutečného provedení stavby | G98: kpl | H98: 1 | J98: =ROUND(I98*H98,2) -> 0 | K98: CS ÚRS 2024 02 | N98: základní | P98: =O98*H98 -> 0 | Q98: 0 | R98: =Q98*H98 -> 0 | S98: 0 | T98: =S98*H98 -> 0 | AR98: 1024 | AT98: K | AU98: 2 | AY98: ROZPOCET | BE98: =IF(N98="základní",J98,0) -> 0 | BF98: =IF(N98="snížená",J98,0) -> 0 | BG98: =IF(N98="zákl. přenesená",J98,0) -> 0 | BH98: =IF(N98="sníž. přenesená",J98,0) -> 0 | BI98: =IF(N98="nulová",J98,0) -> 0 | BJ98: 1 | BK98: =ROUND(I98*H98,2) -> 0 | BL98: 1024 | BM98: -1331217186
D99: PP | F99: Geodetické měření skutečného provedení stavby | AT99: PP | AU99: 2
D100: Online PSC | F100: https://podminky.urs.cz/item/CS_URS_2024_02/012444000 | AT100: Online PSC | AU100: 2
D101: D | E101: VRN3 | F101: Zařízení staveniště | J101: =BK101 -> 0 | P101: =SUM(P102:P108) -> 0 | R101: =SUM(R102:R108) -> 0 | T101: =SUM(T102:T108) -> 0 | AR101: 5 | AT101: D | AU101: 1 | AY101: ROZPOCET | BK101: =SUM(BK102:BK108) -> 0
C102: 4 | D102: K | E102: 030001000 | F102: Zařízení staveniště | G102: kpl | H102: 1 | J102: =ROUND(I102*H102,2) -> 0 | K102: CS ÚRS 2024 02 | N102: základní | P102: =O102*H102 -> 0 | Q102: 0 | R102: =Q102*H102 -> 0 | S102: 0 | T102: =S102*H102 -> 0 | AR102: 1024 | AT102: K | AU102: 2 | AY102: ROZPOCET | BE102: =IF(N102="základní",J102,0) -> 0 | BF102: =IF(N102="snížená",J102,0) -> 0 | BG102: =IF(N102="zákl. přenesená",J102,0) -> 0 | BH102: =IF(N102="sníž. přenesená",J102,0) -> 0 | BI102: =IF(N102="nulová",J102,0) -> 0 | BJ102: 1 | BK102: =ROUND(I102*H102,2) -> 0 | BL102: 1024 | BM102: -386089193
D103: PP | F103: Zařízení staveniště | AT103: PP | AU103: 2
D104: Online PSC | F104: https://podminky.urs.cz/item/CS_URS_2024_02/030001000 | AT104: Online PSC | AU104: 2
D105: P | F105: Poznámka k položce:_x000D_ Kompletní zařízení staveniště pro celou stavbu včetně zajištění potřebných povolení a rozhodnutí. _x000D_ Položka zahrnuje náklady spojené se staveništními komunikacemi, vstupem a vjezdem na staveniště, nasvětlení výkopů a lávky přes výkopy, staveništní přípojky vody, kanalizace, elektrické energie, zajištění dodávky elektrické energie, rozvody médií po stavbě a s tím spojených nákladů s odstávkou a zabezpečení stávajících IS proti poškození, kancelářské plochy pro potřeby zhotovitele a zástupce investora, sociální zařízení, zajištění skladovacích ploch a prostor pro potřeby stavby. Komplexní ostrahu a zabezpečení staveniště. Monitoring vlivu stavby na okolní prostředí (hluk, prašnost, doprava).Poplatky a náklady spojené se záborem veřejného prostranství a s tím související dopravní značení a zabezpečení pracoviště.Poplatky a náklady za spotřebované energie, plyn a vodu atd. v době výstavby až do předání díla.Zajištění údržby veřejných komunikací a komunikací pro pěší v průběhu celé stavby, včetně případné zimní údržby. | AT105: P | AU105: 2
C106: 5 | D106: K | E106: 034303000 | F106: Dopravní značení na staveništi | G106: kpl | H106: 1 | J106: =ROUND(I106*H106,2) -> 0 | K106: CS ÚRS 2024 02 | N106: základní | P106: =O106*H106 -> 0 | Q106: 0 | R106: =Q106*H106 -> 0 | S106: 0 | T106: =S106*H106 -> 0 | AR106: 1024 | AT106: K | AU106: 2 | AY106: ROZPOCET | BE106: =IF(N106="základní",J106,0) -> 0 | BF106: =IF(N106="snížená",J106,0) -> 0 | BG106: =IF(N106="zákl. přenesená",J106,0) -> 0 | BH106: =IF(N106="sníž. přenesená",J106,0) -> 0 | BI106: =IF(N106="nulová",J106,0) -> 0 | BJ106: 1 | BK106: =ROUND(I106*H106,2) -> 0 | BL106: 1024 | BM106: 2014513641
D107: PP | F107: Dopravní značení na staveništi | AT107: PP | AU107: 2
D108: Online PSC | F108: https://podminky.urs.cz/item/CS_URS_2024_02/034303000 | AT108: Online PSC | AU108: 2
D109: D | E109: VRN4 | F109: Inženýrská činnost | J109: =BK109 -> 0 | P109: =SUM(P110:P114) -> 0 | R109: =SUM(R110:R114) -> 0 | T109: =SUM(T110:T114) -> 0 | AR109: 5 | AT109: D | AU109: 1 | AY109: ROZPOCET | BK109: =SUM(BK110:BK114) -> 0
C110: 6 | D110: K | E110: 043154000 | F110: Zkoušky hutnicí | G110: kpl | H110: 1 | J110: =ROUND(I110*H110,2) -> 0 | K110: CS ÚRS 2024 02 | N110: základní | P110: =O110*H110 -> 0 | Q110: 0 | R110: =Q110*H110 -> 0 | S110: 0 | T110: =S110*H110 -> 0 | AR110: 1024 | AT110: K | AU110: 2 | AY110: ROZPOCET | BE110: =IF(N110="základní",J110,0) -> 0 | BF110: =IF(N110="snížená",J110,0) -> 0 | BG110: =IF(N110="zákl. přenesená",J110,0) -> 0 | BH110: =IF(N110="sníž. přenesená",J110,0) -> 0 | BI110: =IF(N110="nulová",J110,0) -> 0 | BJ110: 1 | BK110: =ROUND(I110*H110,2) -> 0 | BL110: 1024 | BM110: 1532232001
D111: PP | F111: Zkoušky hutnicí | AT111: PP | AU111: 2
D112: Online PSC | F112: https://podminky.urs.cz/item/CS_URS_2024_02/043154000 | AT112: Online PSC | AU112: 2
C113: 7 | D113: K | E113: 04400200R | F113: Revize a zkoušky SO 403 | G113: kpl | H113: 1 | J113: =ROUND(I113*H113,2) -> 0 | N113: základní | P113: =O113*H113 -> 0 | Q113: 0 | R113: =Q113*H113 -> 0 | S113: 0 | T113: =S113*H113 -> 0 | AR113: 1024 | AT113: K | AU113: 2 | AY113: ROZPOCET | BE113: =IF(N113="základní",J113,0) -> 0 | BF113: =IF(N113="snížená",J113,0) -> 0 | BG113: =IF(N113="zákl. přenesená",J113,0) -> 0 | BH113: =IF(N113="sníž. přenesená",J113,0) -> 0 | BI113: =IF(N113="nulová",J113,0) -> 0 | BJ113: 1 | BK113: =ROUND(I113*H113,2) -> 0 | BL113: 1024 | BM113: 173026142
D114: PP | F114: Revize a zkoušky SO 403 | AT114: PP | AU114: 2

Sheet SO 104 - Komunikace a zpe...
AT2: {f404ace3-3ca7-455a-8106-887307fc7958}
AT3: 2
D4: KRYCÍ LIST SOUPISU PRACÍ | M4: v --- níže se nacházejí doplnkové a pomocné údaje k sestavám --- v | AT4: False
D6: Stavba:
E7: ='Rekapitulace stavby'!K6 -> Roudnice nad Labem - přechody v centru města
D8: Objekt:
E9: SO 104 - Místo pro přecházení ´u Bakera´
D10: Soupis:
E11: SO 104 - Komunikace a zpevněné plochy
D13: KSO: | F13: 822 2 | I13: CC-CZ:
D14: Místo: | F14: Roudnice nad Labem | I14: Datum: | J14: ='Rekapitulace stavby'!AN8 -> 17. 9. 2024
D16: Zadavatel: | I16: IČ: | J16: =IF('Rekapitulace stavby'!AN10="","",'Rekapitulace stavby'!AN10)
E17: =IF('Rekapitulace stavby'!E11="","",'Rekapitulace stavby'!E11) | I17: DIČ: | J17: =IF('Rekapitulace stavby'!AN11="","",'Rekapitulace stavby'!AN11)
D19: Uchazeč: | I19: IČ: | J19: ='Rekapitulace stavby'!AN13 -> Vyplň údaj
E20: ='Rekapitulace stavby'!E14 -> Vyplň údaj | I20: DIČ: | J20: ='Rekapitulace stavby'!AN14 -> Vyplň údaj
D22: Projektant: | I22: IČ:
E23: PK dopravní s.r.o. | I23: DIČ:
D25: Zpracovatel: | I25: IČ: | J25: =IF('Rekapitulace stavby'!AN19="","",'Rekapitulace stavby'!AN19)
E26: =IF('Rekapitulace stavby'!E20="","",'Rekapitulace stavby'!E20) | I26: DIČ: | J26: =IF('Rekapitulace stavby'!AN20="","",'Rekapitulace stavby'!AN20)
D28: Poznámka:
D32: Cena bez DPH | J32: =ROUND(J97, 2) -> 0
F34: Základ daně | I34: Sazba daně | J34: Výše daně
D35: DPH | E35: základní | F35: =ROUND((SUM(BE97:BE487)), 2) -> 0 | I35: 0.21 | J35: =ROUND(((SUM(BE97:BE487))*I35), 2) -> 0
E36: snížená | F36: =ROUND((SUM(BF97:BF487)), 2) -> 0 | I36: 0.12 | J36: =ROUND(((SUM(BF97:BF487))*I36), 2) -> 0
E37: zákl. přenesená | F37: =ROUND((SUM(BG97:BG487)), 2) -> 0 | I37: 0.21 | J37: =0 -> 0
E38: sníž. přenesená | F38: =ROUND((SUM(BH97:BH487)), 2) -> 0 | I38: 0.12 | J38: =0 -> 0
E39: nulová | F39: =ROUND((SUM(BI97:BI487)), 2) -> 0 | I39: 0 | J39: =0 -> 0
D41: Cena s DPH | G41: v | H41: CZK | J41: =SUM(J32:J39) -> 0
C47: REKAPITULACE ČLENĚNÍ SOUPISU PRACÍ
C49: Stavba:
E50: =E7 -> Roudnice nad Labem - přechody v centru města
C51: Objekt:
E52: SO 104 - Místo pro přecházení ´u Bakera´
C53: Soupis:
E54: =E11 -> SO 104 - Komunikace a zpevněné plochy
C56: Místo: | F56: =F14 -> Roudnice nad Labem | I56: Datum: | J56: =IF(J14="","",J14) -> 17. 9. 2024
C58: Zadavatel: | F58: =E17 | I58: Projektant: | J58: =E23 -> PK dopravní s.r.o.
C59: Uchazeč: | F59: =IF(E20="","",E20) -> Vyplň údaj | I59: Zpracovatel: | J59: =E26
C61: Kód dílu - Popis | J61: Cena celkem [CZK]
C63: Náklady stavby celkem | J63: =J97 -> 0 | AU63: -1
D64: HSV - Práce a dodávky HSV | J64: =J98 -> 0
D65: 1 - Zemní práce | J65: =J99 -> 0
D66: 4 - Vodorovné konstrukce | J66: =J197 -> 0
D67: 5 - Komunikace pozemní | J67: =J212 -> 0
D68: 6 - Úpravy povrchů, podlahy a osazování výplní | J68: =J257 -> 0
D69: 8 - Trubní vedení | J69: =J262 -> 0
D70: 9 - Ostatní konstrukce a práce, bourání | J70: =J300 -> 0
D71: 96 - Bourání konstrukcí | J71: =J406 -> 0
D72: 997 - Přesun sutě | J72: =J432 -> 0
D73: 998 - Přesun hmot | J73: =J478 -> 0
D74: PSV - Práce a dodávky PSV | J74: =J482 -> 0
D75: 783 - Dokončovací práce - nátěry | J75: =J483 -> 0
C82: SOUPIS PRACÍ
C84: Stavba:
E85: =E7 -> Roudnice nad Labem - přechody v centru města
C86: Objekt:
E87: SO 104 - Místo pro přecházení ´u Bakera´
C88: Soupis:
E89: =E11 -> SO 104 - Komunikace a zpevněné plochy
C91: Místo: | F91: =F14 -> Roudnice nad Labem | I91: Datum: | J91: =IF(J14="","",J14) -> 17. 9. 2024
C93: Zadavatel: | F93: =E17 | I93: Projektant: | J93: =E23 -> PK dopravní s.r.o.
C94: Uchazeč: | F94: =IF(E20="","",E20) -> Vyplň údaj | I94: Zpracovatel: | J94: =E26
C96: PČ | D96: Typ | E96: Kód | F96: Popis | G96: MJ | H96: Množství | I96: J.cena [CZK] | J96: Cena celkem [CZK] | K96: Cenová soustava | N96: DPH | O96: J. Nh [h] | P96: Nh celkem [h] | Q96: J. hmotnost [t] | R96: Hmotnost celkem [t] | S96: J. suť [t] | T96: Suť Celkem [t]
C97: Náklady soupisu celkem | J97: =BK97 -> 0 | P97: =P98+P482 -> 0 | R97: =R98+R482 -> 24.082079 | T97: =T98+T482 -> 24.33725 | AT97: D | AU97: -1 | BK97: =BK98+BK482 -> 0
D98: D | E98: HSV | F98: Práce a dodávky HSV | J98: =BK98 -> 0 | P98: =P99+P197+P212+P257+P262+P300+P432+P478 -> 0 | R98: =R99+R197+R212+R257+R262+R300+R432+R478 -> 24.081984 | T98: =T99+T197+T212+T257+T262+T300+T432+T478 -> 24.33725 | AR98: 1 | AT98: D | AU98: 0 | AY98: ROZPOCET | BK98: =BK99+BK197+BK212+BK257+BK262+BK300+BK432+BK478 -> 0
D99: D | E99: 1 | F99: Zemní práce | J99: =BK99 -> 0 | P99: =SUM(P100:P196) -> 0 | R99: =SUM(R100:R196) -> 6.960319 | T99: =SUM(T100:T196) -> 0 | AR99: 1 | AT99: D | AU99: 1 | AY99: ROZPOCET | BK99: =SUM(BK100:BK196) -> 0
C100: 1 | D100: K | E100: 122251101 | F100: Odkopávky a prokopávky nezapažené v hornině třídy těžitelnosti I skupiny 3 objem do 20 m3 strojně | G100: m3 | H100: 5.274 | J100: =ROUND(I100*H100,2) -> 0 | K100: CS ÚRS 2024 02 | N100: základní | P100: =O100*H100 -> 0 | Q100: 0 | R100: =Q100*H100 -> 0 | S100: 0 | T100: =S100*H100 -> 0 | AR100: 4 | AT100: K | AU100: 2 | AY100: ROZPOCET | BE100: =IF(N100="základní",J100,0) -> 0 | BF100: =IF(N100="snížená",J100,0) -> 0 | BG100: =IF(N100="zákl. přenesená",J100,0) -> 0 | BH100: =IF(N100="sníž. přenesená",J100,0) -> 0 | BI100: =IF(N100="nulová",J100,0) -> 0 | BJ100: 1 | BK100: =ROUND(I100*H100,2) -> 0 | BL100: 4 | BM100: -1510897449
D101: PP | F101: Odkopávky a prokopávky nezapažené strojně v hornině třídy těžitelnosti I skupiny 3 do 20 m3 | AT101: PP | AU101: 2
D102: Online PSC | F102: https://podminky.urs.cz/item/CS_URS_2024_02/122251101 | AT102: Online PSC | AU102: 2
D103: VV | F103: 26,37*0,2 | H103: 5.274 | AT103: VV | AU103: 2 | AV103: 2 | AW103: True | AX103: 1 | AY103: ROZPOCET
C104: 2 | D104: K | E104: 129001101 | F104: Příplatek za ztížení odkopávky nebo prokopávky v blízkosti inženýrských sítí | G104: m3 | H104: 5.274 | J104: =ROUND(I104*H104,2) -> 0 | K104: CS ÚRS 2024 02 | N104: základní | P104: =O104*H104 -> 0 | Q104: 0 | R104: =Q104*H104 -> 0 | S104: 0 | T104: =S104*H104 -> 0 | AR104: 4 | AT104: K | AU104: 2 | AY104: ROZPOCET | BE104: =IF(N104="základní",J104,0) -> 0 | BF104: =IF(N104="snížená",J104,0) -> 0 | BG104: =IF(N104="zákl. přenesená",J104,0) -> 0 | BH104: =IF(N104="sníž. přenesená",J104,0) -> 0 | BI104: =IF(N104="nulová",J104,0) -> 0 | BJ104: 1 | BK104: =ROUND(I104*H104,2) -> 0 | BL104: 4 | BM104: -1232541805
D105: PP | F105: Příplatek k cenám vykopávek za ztížení vykopávky v blízkosti podzemního vedení nebo výbušnin v horninách jakékoliv třídy | AT105: PP | AU105: 2
D106: Online PSC | F106: https://podminky.urs.cz/item/CS_URS_2024_02/129001101 | AT106: Online PSC | AU106: 2
D107: VV | F107: 5,274 | H107: 5.274 | AT107: VV | AU107: 2 | AV107: 2 | AW107: True | AX107: 1 | AY107: ROZPOCET
C108: 3 | D108: K | E108: 132212131 | F108: Hloubení nezapažených rýh šířky do 800 mm v soudržných horninách třídy těžitelnosti I skupiny 3 ručně | G108: m3 | H108: 1 | J108: =ROUND(I108*H108,2) -> 0 | K108: CS ÚRS 2024 02 | N108: základní | P108: =O108*H108 -> 0 | Q108: 0 | R108: =Q108*H108 -> 0 | S108: 0 | T108: =S108*H108 -> 0 | AR108: 4 | AT108: K | AU108: 2 | AY108: ROZPOCET | BE108: =IF(N108="základní",J108,0) -> 0 | BF108: =IF(N108="snížená",J108,0) -> 0 | BG108: =IF(N108="zákl. přenesená",J108,0) -> 0 | BH108: =IF(N108="sníž. přenesená",J108,0) -> 0 | BI108: =IF(N108="nulová",J108,0) -> 0 | BJ108: 1 | BK108: =ROUND(I108*H108,2) -> 0 | BL108: 4 | BM108: -572271854
D109: PP | F109: Hloubení nezapažených rýh šířky do 800 mm ručně s urovnáním dna do předepsaného profilu a spádu v hornině třídy těžitelnosti I skupiny 3 soudržných | AT109: PP | AU109: 2
D110: Online PSC | F110: https://podminky.urs.cz/item/CS_URS_2024_02/132212131 | AT110: Online PSC | AU110: 2
D111: VV | F111: "pro žlab" 0,4*1*1,5 | H111: 0.6 | AT111: VV | AU111: 2 | AV111: 2 | AW111: True | AX111: 0 | AY111: ROZPOCET
D112: VV | F112: "odkop UV" 0,4 | H112: 0.4 | AT112: VV | AU112: 2 | AV112: 2 | AW112: True | AX112: 0 | AY112: ROZPOCET
D113: VV | F113: Součet | H113: 1 | AT113: VV | AU113: 2 | AV113: 4 | AW113: True | AX113: 1 | AY113: ROZPOCET
C114: 4 | D114: K | E114: 162751117 | F114: Vodorovné přemístění přes 9 000 do 10000 m výkopku/sypaniny z horniny třídy těžitelnosti I skupiny 1 až 3 | G114: m3 | H114: 5.974 | J114: =ROUND(I114*H114,2) -> 0 | K114: CS ÚRS 2024 02 | N114: základní | P114: =O114*H114 -> 0 | Q114: 0 | R114: =Q114*H114 -> 0 | S114: 0 | T114: =S114*H114 -> 0 | AR114: 4 | AT114: K | AU114: 2 | AY114: ROZPOCET | BE114: =IF(N114="základní",J114,0) -> 0 | BF114: =IF(N114="snížená",J114,0) -> 0 | BG114: =IF(N114="zákl. přenesená",J114,0) -> 0 | BH114: =IF(N114="sníž. přenesená",J114,0) -> 0 | BI114: =IF(N114="nulová",J114,0) -> 0 | BJ114: 1 | BK114: =ROUND(I114*H114,2) -> 0 | BL114: 4 | BM114: -792482105
D115: PP | F115: Vodorovné přemístění výkopku nebo sypaniny po suchu na obvyklém dopravním prostředku, bez naložení výkopku, avšak se složením bez rozhrnutí z horniny třídy těžitelnosti I skupiny 1 až 3 na vzdálenost přes 9 000 do 10 000 m | AT115: PP | AU115: 2
D116: Online PSC | F116: https://podminky.urs.cz/item/CS_URS_2024_02/162751117 | AT116: Online PSC | AU116: 2
D117: P | F117: Poznámka k položce:_x000D_ vzdálenost odvozu je pouze orientační, určí uchazeč | AT117: P | AU117: 2
D118: VV | F118: 5,274+1-0,3 | H118: 5.974 | AT118: VV | AU118: 2 | AV118: 2 | AW118: True | AX118: 1 | AY118: ROZPOCET
C119: 5 | D119: K | E119: 171201231 | F119: Poplatek za uložení zeminy a kamení na recyklační skládce (skládkovné) kód odpadu 17 05 04 | G119: t | H119: 10.753 | J119: =ROUND(I119*H119,2) -> 0 | K119: CS ÚRS 2024 02 | N119: základní | P119: =O119*H119 -> 0 | Q119: 0 | R119: =Q119*H119 -> 0 | S119: 0 | T119: =S119*H119 -> 0 | AR119: 4 | AT119: K | AU119: 2 | AY119: ROZPOCET | BE119: =IF(N119="základní",J119,0) -> 0 | BF119: =IF(N119="snížená",J119,0) -> 0 | BG119: =IF(N119="zákl. přenesená",J119,0) -> 0 | BH119: =IF(N119="sníž. přenesená",J119,0) -> 0 | BI119: =IF(N119="nulová",J119,0) -> 0 | BJ119: 1 | BK119: =ROUND(I119*H119,2) -> 0 | BL119: 4 | BM119: 1012656816
D120: PP | F120: Poplatek za uložení stavebního odpadu na recyklační skládce (skládkovné) zeminy a kamení zatříděného do Katalogu odpadů pod kódem 17 05 04 | AT120: PP | AU120: 2
D121: Online PSC | F121: https://podminky.urs.cz/item/CS_URS_2024_02/171201231 | AT121: Online PSC | AU121: 2
D122: VV | F122: 5,974 | H122: 5.974 | AT122: VV | AU122: 2 | AV122: 2 | AW122: True | AX122: 0 | AY122: ROZPOCET
D123: VV | F123: Součet | H123: 5.974 | AT123: VV | AU123: 2 | AV123: 4 | AW123: True | AX123: 1 | AY123: ROZPOCET
D124: VV | F124: 5,974*1,8 'Přepočtené koeficientem množství | H124: 10.753 | AT124: VV | AU124: 2 | AV124: 2 | AW124: False | AX124: 1 | AY124: ROZPOCET
C125: 6 | D125: K | E125: 174151101 | F125: Zásyp jam, šachet rýh nebo kolem objektů sypaninou se zhutněním | G125: m3 | H125: 0.7 | J125: =ROUND(I125*H125,2) -> 0 | K125: CS ÚRS 2024 02 | N125: základní | P125: =O125*H125 -> 0 | Q125: 0 | R125: =Q125*H125 -> 0 | S125: 0 | T125: =S125*H125 -> 0 | AR125: 4 | AT125: K | AU125: 2 | AY125: ROZPOCET | BE125: =IF(N125="základní",J125,0) -> 0 | BF125: =IF(N125="snížená",J125,0) -> 0 | BG125: =IF(N125="zákl. přenesená",J125,0) -> 0 | BH125: =IF(N125="sníž. přenesená",J125,0) -> 0 | BI125: =IF(N125="nulová",J125,0) -> 0 | BJ125: 1 | BK125: =ROUND(I125*H125,2) -> 0 | BL125: 4 | BM125: -2102879266
D126: PP | F126: Zásyp sypaninou z jakékoliv horniny strojně s uložením výkopku ve vrstvách se zhutněním jam, šachet, rýh nebo kolem objektů v těchto vykopávkách | AT126: PP | AU126: 2
D127: Online PSC | F127: https://podminky.urs.cz/item/CS_URS_2024_02/174151101 | AT127: Online PSC | AU127: 2
D128: VV | F128: "zásyp okolo UV štěrkodrtí " 0,4 | H128: 0.4 | AT128: VV | AU128: 2 | AV128: 2 | AW128: True | AX128: 0 | AY128: ROZPOCET
D129: VV | F129: "zásyp přípojek zeminou" 1,5*(0,4*(1-(0,1+0,4))) | H129: 0.3 | AT129: VV | AU129: 2 | AV129: 2 | AW129: True | AX129: 0 | AY129: ROZPOCET
D130: VV | F130: Součet | H130: 0.7 | AT130: VV | AU130: 2 | AV130: 4 | AW130: True | AX130: 1 | AY130: ROZPOCET
C131: 7 | D131: M | E131: 58344171 | F131: štěrkodrť frakce 0/32 | G131: t | H131: 0.8 | J131: =ROUND(I131*H131,2) -> 0 | K131: CS ÚRS 2024 02 | N131: základní | P131: =O131*H131 -> 0 | Q131: 1 | R131: =Q131*H131 -> 0.8 | S131: 0 | T131: =S131*H131 -> 0 | AR131: 8 | AT131: M | AU131: 2 | AY131: ROZPOCET | BE131: =IF(N131="základní",J131,0) -> 0 | BF131: =IF(N131="snížená",J131,0) -> 0 | BG131: =IF(N131="zákl. přenesená",J131,0) -> 0 | BH131: =IF(N131="sníž. přenesená",J131,0) -> 0 | BI131: =IF(N131="nulová",J131,0) -> 0 | BJ131: 1 | BK131: =ROUND(I131*H131,2) -> 0 | BL131: 4 | BM131: -241680970
D132: PP | F132: štěrkodrť frakce 0/32 | AT132: PP | AU132: 2
D133: VV | F133: 0,4 | H133: 0.4 | AT133: VV | AU133: 2 | AV133: 2 | AW133: True | AX133: 0 | AY133: ROZPOCET
...

Sheet SO 404 - Veřejné osvětlení
AT2: {322d53f4-53d2-4c5a-a092-7ff9b320e86f}
AT3: 2
D4: KRYCÍ LIST SOUPISU PRACÍ | M4: v --- níže se nacházejí doplnkové a pomocné údaje k sestavám --- v | AT4: False
D6: Stavba:
E7: ='Rekapitulace stavby'!K6 -> Roudnice nad Labem - přechody v centru města
D8: Objekt:
E9: SO 104 - Místo pro přecházení ´u Bakera´
D10: Soupis:
E11: SO 404 - Veřejné osvětlení
D13: KSO: | I13: CC-CZ:
D14: Místo: | F14: Roudnice nad Labem | I14: Datum: | J14: ='Rekapitulace stavby'!AN8 -> 17. 9. 2024
D16: Zadavatel: | I16: IČ: | J16: =IF('Rekapitulace stavby'!AN10="","",'Rekapitulace stavby'!AN10)
E17: =IF('Rekapitulace stavby'!E11="","",'Rekapitulace stavby'!E11) | I17: DIČ: | J17: =IF('Rekapitulace stavby'!AN11="","",'Rekapitulace stavby'!AN11)
D19: Uchazeč: | I19: IČ: | J19: ='Rekapitulace stavby'!AN13 -> Vyplň údaj
E20: ='Rekapitulace stavby'!E14 -> Vyplň údaj | I20: DIČ: | J20: ='Rekapitulace stavby'!AN14 -> Vyplň údaj
D22: Projektant: | I22: IČ: | J22: =IF('Rekapitulace stavby'!AN16="","",'Rekapitulace stavby'!AN16)
E23: =IF('Rekapitulace stavby'!E17="","",'Rekapitulace stavby'!E17) -> PK dopravní s.r.o. | I23: DIČ: | J23: =IF('Rekapitulace stavby'!AN17="","",'Rekapitulace stavby'!AN17)
D25: Zpracovatel: | I25: IČ: | J25: =IF('Rekapitulace stavby'!AN19="","",'Rekapitulace stavby'!AN19)
E26: =IF('Rekapitulace stavby'!E20="","",'Rekapitulace stavby'!E20) | I26: DIČ: | J26: =IF('Rekapitulace stavby'!AN20="","",'Rekapitulace stavby'!AN20)
D28: Poznámka:
D32: Cena bez DPH | J32: =ROUND(J90, 2) -> 0
F34: Základ daně | I34: Sazba daně | J34: Výše daně
D35: DPH | E35: základní | F35: =ROUND((SUM(BE90:BE181)), 2) -> 0 | I35: 0.21 | J35: =ROUND(((SUM(BE90:BE181))*I35), 2) -> 0
E36: snížená | F36: =ROUND((SUM(BF90:BF181)), 2) -> 0 | I36: 0.12 | J36: =ROUND(((SUM(BF90:BF181))*I36), 2) -> 0
E37: zákl. přenesená | F37: =ROUND((SUM(BG90:BG181)), 2) -> 0 | I37: 0.21 | J37: =0 -> 0
E38: sníž. přenesená | F38: =ROUND((SUM(BH90:BH181)), 2) -> 0 | I38: 0.12 | J38: =0 -> 0
E39: nulová | F39: =ROUND((SUM(BI90:BI181)), 2) -> 0 | I39: 0 | J39: =0 -> 0
D41: Cena s DPH | G41: v | H41: CZK | J41: =SUM(J32:J39) -> 0
C47: REKAPITULACE ČLENĚNÍ SOUPISU PRACÍ
C49: Stavba:
E50: =E7 -> Roudnice nad Labem - přechody v centru města
C51: Objekt:
E52: SO 104 - Místo pro přecházení ´u Bakera´
C53: Soupis:
E54: =E11 -> SO 404 - Veřejné osvětlení
C56: Místo: | F56: =F14 -> Roudnice nad Labem | I56: Datum: | J56: =IF(J14="","",J14) -> 17. 9. 2024
C58: Zadavatel: | F58: =E17 | I58: Projektant: | J58: =E23 -> PK dopravní s.r.o.
C59: Uchazeč: | F59: =IF(E20="","",E20) -> Vyplň údaj | I59: Zpracovatel: | J59: =E26
C61: Kód dílu - Popis | J61: Cena celkem [CZK]
C63: Náklady stavby celkem | J63: =J90 -> 0 | AU63: -1
D64: D0 - Instalační materiál a kabelová vedení | J64: =J91 -> 0
D65: D1 - Demontáže | J65: =J126 -> 0
D66: D2 - Montážní práce | J66: =J131 -> 0
D67: D3 - Zemní práce | J67: =J166 -> 0
D68: OST - Ostatní | J68: =J177 -> 0
C75: SOUPIS PRACÍ
C77: Stavba:
E78: =E7 -> Roudnice nad Labem - přechody v centru města
C79: Objekt:
E80: SO 104 - Místo pro přecházení ´u Bakera´
C81: Soupis:
E82: =E11 -> SO 404 - Veřejné osvětlení
C84: Místo: | F84: =F14 -> Roudnice nad Labem | I84: Datum: | J84: =IF(J14="","",J14) -> 17. 9. 2024
C86: Zadavatel: | F86: =E17 | I86: Projektant: | J86: =E23 -> PK dopravní s.r.o.
C87: Uchazeč: | F87: =IF(E20="","",E20) -> Vyplň údaj | I87: Zpracovatel: | J87: =E26
C89: PČ | D89: Typ | E89: Kód | F89: Popis | G89: MJ | H89: Množství | I89: J.cena [CZK] | J89: Cena celkem [CZK] | K89: Cenová soustava | N89: DPH | O89: J. Nh [h] | P89: Nh celkem [h] | Q89: J. hmotnost [t] | R89: Hmotnost celkem [t] | S89: J. suť [t] | T89: Suť Celkem [t]
C90: Náklady soupisu celkem | J90: =BK90 -> 0 | P90: =P91+P126+P131+P166+P177 -> 0 | R90: =R91+R126+R131+R166+R177 -> 0 | T90: =T91+T126+T131+T166+T177 -> 0 | AT90: D | AU90: -1 | BK90: =BK91+BK126+BK131+BK166+BK177 -> 0
D91: D | E91: D0 | F91: Instalační materiál a kabelová vedení | J91: =BK91 -> 0 | P91: =SUM(P92:P125) -> 0 | R91: =SUM(R92:R125) -> 0 | T91: =SUM(T92:T125) -> 0 | AR91: 1 | AT91: D | AU91: 0 | AY91: ROZPOCET | BK91: =SUM(BK92:BK125) -> 0
C92: 1 | D92: M | E92: Pol62 | F92: CYKY - J 4x10 mm | G92: m | H92: 12 | J92: =ROUND(I92*H92,2) -> 0 | N92: základní | P92: =O92*H92 -> 0 | Q92: 0 | R92: =Q92*H92 -> 0 | S92: 0 | T92: =S92*H92 -> 0 | AR92: 8 | AT92: M | AU92: 1 | AY92: ROZPOCET | BE92: =IF(N92="základní",J92,0) -> 0 | BF92: =IF(N92="snížená",J92,0) -> 0 | BG92: =IF(N92="zákl. přenesená",J92,0) -> 0 | BH92: =IF(N92="sníž. přenesená",J92,0) -> 0 | BI92: =IF(N92="nulová",J92,0) -> 0 | BJ92: 1 | BK92: =ROUND(I92*H92,2) -> 0 | BL92: 4 | BM92: 2
D93: PP | F93: CYKY - J 4x10 mm | AT93: PP | AU93: 1
C94: 2 | D94: M | E94: Pol3 | F94: Kabel CYKY - J 3x1,5 mm (C) | G94: m | H94: 20 | J94: =ROUND(I94*H94,2) -> 0 | N94: základní | P94: =O94*H94 -> 0 | Q94: 0 | R94: =Q94*H94 -> 0 | S94: 0 | T94: =S94*H94 -> 0 | AR94: 8 | AT94: M | AU94: 1 | AY94: ROZPOCET | BE94: =IF(N94="základní",J94,0) -> 0 | BF94: =IF(N94="snížená",J94,0) -> 0 | BG94: =IF(N94="zákl. přenesená",J94,0) -> 0 | BH94: =IF(N94="sníž. přenesená",J94,0) -> 0 | BI94: =IF(N94="nulová",J94,0) -> 0 | BJ94: 1 | BK94: =ROUND(I94*H94,2) -> 0 | BL94: 4 | BM94: 4
D95: PP | F95: Kabel CYKY - J 3x1,5 mm (C) | AT95: PP | AU95: 1
C96: 3 | D96: M | E96: Pol4 | F96: Drát 10 PVC 10/13 FeZn+PVC 0,695kg/m | G96: m | H96: 1.5 | J96: =ROUND(I96*H96,2) -> 0 | N96: základní | P96: =O96*H96 -> 0 | Q96: 0 | R96: =Q96*H96 -> 0 | S96: 0 | T96: =S96*H96 -> 0 | AR96: 8 | AT96: M | AU96: 1 | AY96: ROZPOCET | BE96: =IF(N96="základní",J96,0) -> 0 | BF96: =IF(N96="snížená",J96,0) -> 0 | BG96: =IF(N96="zákl. přenesená",J96,0) -> 0 | BH96: =IF(N96="sníž. přenesená",J96,0) -> 0 | BI96: =IF(N96="nulová",J96,0) -> 0 | BJ96: 1 | BK96: =ROUND(I96*H96,2) -> 0 | BL96: 4 | BM96: 6
D97: PP | F97: Drát 10 PVC 10/13 FeZn+PVC 0,695kg/m | AT97: PP | AU97: 1
C98: 4 | D98: M | E98: Pol5 | F98: SP - svorka připojovací | G98: ks | H98: 1 | J98: =ROUND(I98*H98,2) -> 0 | N98: základní | P98: =O98*H98 -> 0 | Q98: 0 | R98: =Q98*H98 -> 0 | S98: 0 | T98: =S98*H98 -> 0 | AR98: 8 | AT98: M | AU98: 1 | AY98: ROZPOCET | BE98: =IF(N98="základní",J98,0) -> 0 | BF98: =IF(N98="snížená",J98,0) -> 0 | BG98: =IF(N98="zákl. přenesená",J98,0) -> 0 | BH98: =IF(N98="sníž. přenesená",J98,0) -> 0 | BI98: =IF(N98="nulová",J98,0) -> 0 | BJ98: 1 | BK98: =ROUND(I98*H98,2) -> 0 | BL98: 4 | BM98: 8
D99: PP | F99: SP - svorka připojovací | AT99: PP | AU99: 1
C100: 5 | D100: M | E100: Pol6 | F100: SU - svorka univerzální V001 | G100: ks | H100: 2 | J100: =ROUND(I100*H100,2) -> 0 | N100: základní | P100: =O100*H100 -> 0 | Q100: 0 | R100: =Q100*H100 -> 0 | S100: 0 | T100: =S100*H100 -> 0 | AR100: 8 | AT100: M | AU100: 1 | AY100: ROZPOCET | BE100: =IF(N100="základní",J100,0) -> 0 | BF100: =IF(N100="snížená",J100,0) -> 0 | BG100: =IF(N100="zákl. přenesená",J100,0) -> 0 | BH100: =IF(N100="sníž. přenesená",J100,0) -> 0 | BI100: =IF(N100="nulová",J100,0) -> 0 | BJ100: 1 | BK100: =ROUND(I100*H100,2) -> 0 | BL100: 4 | BM100: 10
D101: PP | F101: SU - svorka univerzální V001 | AT101: PP | AU101: 1
C102: 6 | D102: M | E102: Pol63 | F102: Stožár přechodový STP 6-D (168/133/114) bezpaticový 3-stup. | G102: ks | H102: 1 | J102: =ROUND(I102*H102,2) -> 0 | N102: základní | P102: =O102*H102 -> 0 | Q102: 0 | R102: =Q102*H102 -> 0 | S102: 0 | T102: =S102*H102 -> 0 | AR102: 8 | AT102: M | AU102: 1 | AY102: ROZPOCET | BE102: =IF(N102="základní",J102,0) -> 0 | BF102: =IF(N102="snížená",J102,0) -> 0 | BG102: =IF(N102="zákl. přenesená",J102,0) -> 0 | BH102: =IF(N102="sníž. přenesená",J102,0) -> 0 | BI102: =IF(N102="nulová",J102,0) -> 0 | BJ102: 1 | BK102: =ROUND(I102*H102,2) -> 0 | BL102: 4 | BM102: 12
D103: PP | F103: Stožár přechodový STP 6-D (168/133/114) bezpaticový 3-stup. | AT103: PP | AU103: 1
C104: 7 | D104: M | E104: Pol64 | F104: Výložník ATYP UD 1/114 3500/1100/1500/180° na d=114, pozink | G104: ks | H104: 1 | J104: =ROUND(I104*H104,2) -> 0 | N104: základní | P104: =O104*H104 -> 0 | Q104: 0 | R104: =Q104*H104 -> 0 | S104: 0 | T104: =S104*H104 -> 0 | AR104: 8 | AT104: M | AU104: 1 | AY104: ROZPOCET | BE104: =IF(N104="základní",J104,0) -> 0 | BF104: =IF(N104="snížená",J104,0) -> 0 | BG104: =IF(N104="zákl. přenesená",J104,0) -> 0 | BH104: =IF(N104="sníž. přenesená",J104,0) -> 0 | BI104: =IF(N104="nulová",J104,0) -> 0 | BJ104: 1 | BK104: =ROUND(I104*H104,2) -> 0 | BL104: 4 | BM104: 14
D105: PP | F105: Výložník ATYP UD 1/114 3500/1100/1500/180° na d=114, pozink | AT105: PP | AU105: 1
C106: 8 | D106: M | E106: Pol10 | F106: Výložník UD1-2000B na d=89, pozink | G106: ks | H106: 1 | J106: =ROUND(I106*H106,2) -> 0 | N106: základní | P106: =O106*H106 -> 0 | Q106: 0 | R106: =Q106*H106 -> 0 | S106: 0 | T106: =S106*H106 -> 0 | AR106: 8 | AT106: M | AU106: 1 | AY106: ROZPOCET | BE106: =IF(N106="základní",J106,0) -> 0 | BF106: =IF(N106="snížená",J106,0) -> 0 | BG106: =IF(N106="zákl. přenesená",J106,0) -> 0 | BH106: =IF(N106="sníž. přenesená",J106,0) -> 0 | BI106: =IF(N106="nulová",J106,0) -> 0 | BJ106: 1 | BK106: =ROUND(I106*H106,2) -> 0 | BL106: 4 | BM106: 16
D107: PP | F107: Výložník UD1-2000B na d=89, pozink | AT107: PP | AU107: 1
C108: 9 | D108: M | E108: Pol11 | F108: Ochranná manžeta OMP 133 | G108: ks | H108: 2 | J108: =ROUND(I108*H108,2) -> 0 | N108: základní | P108: =O108*H108 -> 0 | Q108: 0 | R108: =Q108*H108 -> 0 | S108: 0 | T108: =S108*H108 -> 0 | AR108: 8 | AT108: M | AU108: 1 | AY108: ROZPOCET | BE108: =IF(N108="základní",J108,0) -> 0 | BF108: =IF(N108="snížená",J108,0) -> 0 | BG108: =IF(N108="zákl. přenesená",J108,0) -> 0 | BH108: =IF(N108="sníž. přenesená",J108,0) -> 0 | BI108: =IF(N108="nulová",J108,0) -> 0 | BJ108: 1 | BK108: =ROUND(I108*H108,2) -> 0 | BL108: 4 | BM108: 18
D109: PP | F109: Ochranná manžeta OMP 133 | AT109: PP | AU109: 1
C110: 10 | D110: M | E110: Pol12 | F110: Trubka ochranná korugovaná 63 (09063 BA) | G110: m | H110: 29 | J110: =ROUND(I110*H110,2) -> 0 | N110: základní | P110: =O110*H110 -> 0 | Q110: 0 | R110: =Q110*H110 -> 0 | S110: 0 | T110: =S110*H110 -> 0 | AR110: 8 | AT110: M | AU110: 1 | AY110: ROZPOCET | BE110: =IF(N110="základní",J110,0) -> 0 | BF110: =IF(N110="snížená",J110,0) -> 0 | BG110: =IF(N110="zákl. přenesená",J110,0) -> 0 | BH110: =IF(N110="sníž. přenesená",J110,0) -> 0 | BI110: =IF(N110="nulová",J110,0) -> 0 | BJ110: 1 | BK110: =ROUND(I110*H110,2) -> 0 | BL110: 4 | BM110: 20
D111: PP | F111: Trubka ochranná korugovaná 63 (09063 BA) | AT111: PP | AU111: 1
C112: 11 | D112: M | E112: Pol13 | F112: Výstražná folie 22/50 | G112: m | H112: 29 | J112: =ROUND(I112*H112,2) -> 0 | N112: základní | P112: =O112*H112 -> 0 | Q112: 0 | R112: =Q112*H112 -> 0 | S112: 0 | T112: =S112*H112 -> 0 | AR112: 8 | AT112: M | AU112: 1 | AY112: ROZPOCET | BE112: =IF(N112="základní",J112,0) -> 0 | BF112: =IF(N112="snížená",J112,0) -> 0 | BG112: =IF(N112="zákl. přenesená",J112,0) -> 0 | BH112: =IF(N112="sníž. přenesená",J112,0) -> 0 | BI112: =IF(N112="nulová",J112,0) -> 0 | BJ112: 1 | BK112: =ROUND(I112*H112,2) -> 0 | BL112: 4 | BM112: 22
D113: PP | F113: Výstražná folie 22/50 | AT113: PP | AU113: 1
C114: 12 | D114: M | E114: Pol65 | F114: SV-A 6.10.4/2 stožár.výzbroj | G114: ks | H114: 1 | J114: =ROUND(I114*H114,2) -> 0 | N114: základní | P114: =O114*H114 -> 0 | Q114: 0 | R114: =Q114*H114 -> 0 | S114: 0 | T114: =S114*H114 -> 0 | AR114: 8 | AT114: M | AU114: 1 | AY114: ROZPOCET | BE114: =IF(N114="základní",J114,0) -> 0 | BF114: =IF(N114="snížená",J114,0) -> 0 | BG114: =IF(N114="zákl. přenesená",J114,0) -> 0 | BH114: =IF(N114="sníž. přenesená",J114,0) -> 0 | BI114: =IF(N114="nulová",J114,0) -> 0 | BJ114: 1 | BK114: =ROUND(I114*H114,2) -> 0 | BL114: 4 | BM114: 24
D115: PP | F115: SV-A 6.10.4/2 stožár.výzbroj | AT115: PP | AU115: 1
C116: 13 | D116: M | E116: Pol15 | F116: Poj.6A D01 gL/gG E14 | G116: ks | H116: 2 | J116: =ROUND(I116*H116,2) -> 0 | N116: základní | P116: =O116*H116 -> 0 | Q116: 0 | R116: =Q116*H116 -> 0 | S116: 0 | T116: =S116*H116 -> 0 | AR116: 8 | AT116: M | AU116: 1 | AY116: ROZPOCET | BE116: =IF(N116="základní",J116,0) -> 0 | BF116: =IF(N116="snížená",J116,0) -> 0 | BG116: =IF(N116="zákl. přenesená",J116,0) -> 0 | BH116: =IF(N116="sníž. přenesená",J116,0) -> 0 | BI116: =IF(N116="nulová",J116,0) -> 0 | BJ116: 1 | BK116: =ROUND(I116*H116,2) -> 0 | BL116: 4 | BM116: 26
D117: PP | F117: Poj.6A D01 gL/gG E14 | AT117: PP | AU117: 1
C118: 14 | D118: M | E118: Pol17 | F118: Svítidlo TECEO S (Zebra right) /5369/20 LED/NW/Back light/350 mA/22,4W/3101lm | G118: ks | H118: 1 | J118: =ROUND(I118*H118,2) -> 0 | N118: základní | P118: =O118*H118 -> 0 | Q118: 0 | R118: =Q118*H118 -> 0 | S118: 0 | T118: =S118*H118 -> 0 | AR118: 8 | AT118: M | AU118: 1 | AY118: ROZPOCET | BE118: =IF(N118="základní",J118,0) -> 0 | BF118: =IF(N118="snížená",J118,0) -> 0 | BG118: =IF(N118="zákl. přenesená",J118,0) -> 0 | BH118: =IF(N118="sníž. přenesená",J118,0) -> 0 | BI118: =IF(N118="nulová",J118,0) -> 0 | BJ118: 1 | BK118: =ROUND(I118*H118,2) -> 0 | BL118: 4 | BM118: 28
D119: PP | F119: Svítidlo TECEO S (Zebra right) /5369/20 LED/NW/Back light/350 mA/22,4W/3101lm | AT119: PP | AU119: 1
D120: P | F120: Poznámka k položce:_x000D_ svítidlo vybaveno programovatelnou regulací příkonu a CLO | AT120: P | AU120: 1
C121: 15 | D121: M | E121: Pol67 | F121: Svítidlo TECEO S (Zebra left) /5370/20 LED/NW/Back light/350 mA/22,4W/3101lm | G121: ks | H121: 1 | J121: =ROUND(I121*H121,2) -> 0 | N121: základní | P121: =O121*H121 -> 0 | Q121: 0 | R121: =Q121*H121 -> 0 | S121: 0 | T121: =S121*H121 -> 0 | AR121: 8 | AT121: M | AU121: 1 | AY121: ROZPOCET | BE121: =IF(N121="základní",J121,0) -> 0 | BF121: =IF(N121="snížená",J121,0) -> 0 | BG121: =IF(N121="zákl. přenesená",J121,0) -> 0 | BH121: =IF(N121="sníž. přenesená",J121,0) -> 0 | BI121: =IF(N121="nulová",J121,0) -> 0 | BJ121: 1 | BK121: =ROUND(I121*H121,2) -> 0 | BL121: 4 | BM121: 32
D122: PP | F122: Svítidlo TECEO S (Zebra left) /5370/20 LED/NW/Back light/350 mA/22,4W/3101lm | AT122: PP | AU122: 1
D123: P | F123: Poznámka k položce:_x000D_ svítidlo vybaveno programovatelnou regulací příkonu a CLO | AT123: P | AU123: 1
C124: 16 | D124: M | E124: Pol18 | F124: Recykl. poplatek 8,40 Kč svítidlo | G124: ks | H124: 2 | J124: =ROUND(I124*H124,2) -> 0 | N124: základní | P124: =O124*H124 -> 0 | Q124: 0 | R124: =Q124*H124 -> 0 | S124: 0 | T124: =S124*H124 -> 0 | AR124: 8 | AT124: M | AU124: 1 | AY124: ROZPOCET | BE124: =IF(N124="základní",J124,0) -> 0 | BF124: =IF(N124="snížená",J124,0) -> 0 | BG124: =IF(N124="zákl. přenesená",J124,0) -> 0 | BH124: =IF(N124="sníž. přenesená",J124,0) -> 0 | BI124: =IF(N124="nulová",J124,0) -> 0 | BJ124: 1 | BK124: =ROUND(I124*H124,2) -> 0 | BL124: 4 | BM124: 34
D125: PP | F125: Recykl. poplatek 8,40 Kč svítidlo | AT125: PP | AU125: 1
D126: D | E126: D1 | F126: Demontáže | J126: =BK126 -> 0 | P126: =SUM(P127:P130) -> 0 | R126: =SUM(R127:R130) -> 0 | T126: =SUM(T127:T130) -> 0 | AR126: 1 | AT126: D | AU126: 0 | AY126: ROZPOCET | BK126: =SUM(BK127:BK130) -> 0
C127: 17 | D127: K | E127: Pol21 | F127: Svítidla výbojková typ 444 23 16-250 W, SHC na vyloz. | G127: ks | H127: 1 | J127: =ROUND(I127*H127,2) -> 0 | N127: základní | P127: =O127*H127 -> 0 | Q127: 0 | R127: =Q127*H127 -> 0 | S127: 0 | T127: =S127*H127 -> 0 | AR127: 4 | AT127: K | AU127: 1 | AY127: ROZPOCET | BE127: =IF(N127="základní",J127,0) -> 0 | BF127: =IF(N127="snížená",J127,0) -> 0 | BG127: =IF(N127="zákl. přenesená",J127,0) -> 0 | BH127: =IF(N127="sníž. přenesená",J127,0) -> 0 | BI127: =IF(N127="nulová",J127,0) -> 0 | BJ127: 1 | BK127: =ROUND(I127*H127,2) -> 0 | BL127: 4 | BM127: 36
D128: PP | F128: Svítidla výbojková typ 444 23 16-250 W, SHC na vyloz. | AT128: PP | AU128: 1
C129: 18 | D129: K | E129: Pol23 | F129: Osv.st. - ocel - do délky 12 m | G129: ks | H129: 1 | J129: =ROUND(I129*H129,2) -> 0 | N129: základní | P129: =O129*H129 -> 0 | Q129: 0 | R129: =Q129*H129 -> 0 | S129: 0 | T129: =S129*H129 -> 0 | AR129: 4 | AT129: K | AU129: 1 | AY129: ROZPOCET | BE129: =IF(N129="základní",J129,0) -> 0 | BF129: =IF(N129="snížená",J129,0) -> 0 | BG129: =IF(N129="zákl. přenesená",J129,0) -> 0 | BH129: =IF(N129="sníž. přenesená",J129,0) -> 0 | BI129: =IF(N129="nulová",J129,0) -> 0 | BJ129: 1 | BK129: =ROUND(I129*H129,2) -> 0 | BL129: 4 | BM129: 38
D130: PP | F130: Osv.st. - ocel - do délky 12 m | AT130: PP | AU130: 1
D131: D | E131: D2 | F131: Montážní práce | J131: =BK131 -> 0 | P131: =SUM(P132:P165) -> 0 | R131: =SUM(R132:R165) -> 0 | T131: =SUM(T132:T165) -> 0 | AR131: 1 | AT131: D | AU131: 0 | AY131: ROZPOCET | BK131: =SUM(BK132:BK165) -> 0
C132: 19 | D132: K | E132: Pol24 | F132: CYKY-CYKYm 750V 4x16 volně uložený | G132: m | H132: 12 | J132: =ROUND(I132*H132,2) -> 0 | N132: základní | P132: =O132*H132 -> 0 | Q132: 0 | R132: =Q132*H132 -> 0 | S132: 0 | T132: =S132*H132 -> 0 | AR132: 4 | AT132: K | AU132: 1 | AY132: ROZPOCET | BE132: =IF(N132="základní",J132,0) -> 0 | BF132: =IF(N132="snížená",J132,0) -> 0 | BG132: =IF(N132="zákl. přenesená",J132,0) -> 0 | BH132: =IF(N132="sníž. přenesená",J132,0) -> 0 | BI132: =IF(N132="nulová",J132,0) -> 0 | BJ132: 1 | BK132: =ROUND(I132*H132,2) -> 0 | BL132: 4 | BM132: 40
D133: PP | F133: CYKY-CYKYm 750V 4x16 volně uložený | AT133: PP | AU133: 1
...

Sheet VRN 104 - Vedlejší rozpoč...
AT2: {65c002a1-b76d-4248-b15a-987b1eb52502}
AT3: 2
D4: KRYCÍ LIST SOUPISU PRACÍ | M4: v --- níže se nacházejí doplnkové a pomocné údaje k sestavám --- v | AT4: False
D6: Stavba:
E7: ='Rekapitulace stavby'!K6 -> Roudnice nad Labem - přechody v centru města
D8: Objekt:
E9: SO 104 - Místo pro přecházení ´u Bakera´
D10: Soupis:
E11: VRN 104 - Vedlejší rozpočtové náklady
D13: KSO: | F13: 822 2 | I13: CC-CZ:
D14: Místo: | F14: Roudnice nad Labem | I14: Datum: | J14: ='Rekapitulace stavby'!AN8 -> 17. 9. 2024
D16: Zadavatel: | I16: IČ: | J16: =IF('Rekapitulace stavby'!AN10="","",'Rekapitulace stavby'!AN10)
E17: =IF('Rekapitulace stavby'!E11="","",'Rekapitulace stavby'!E11) | I17: DIČ: | J17: =IF('Rekapitulace stavby'!AN11="","",'Rekapitulace stavby'!AN11)
D19: Uchazeč: | I19: IČ: | J19: ='Rekapitulace stavby'!AN13 -> Vyplň údaj
E20: ='Rekapitulace stavby'!E14 -> Vyplň údaj | I20: DIČ: | J20: ='Rekapitulace stavby'!AN14 -> Vyplň údaj
D22: Projektant: | I22: IČ:
E23: PK dopravní s.r.o. | I23: DIČ:
D25: Zpracovatel: | I25: IČ: | J25: =IF('Rekapitulace stavby'!AN19="","",'Rekapitulace stavby'!AN19)
E26: =IF('Rekapitulace stavby'!E20="","",'Rekapitulace stavby'!E20) | I26: DIČ: | J26: =IF('Rekapitulace stavby'!AN20="","",'Rekapitulace stavby'!AN20)
D28: Poznámka:
D32: Cena bez DPH | J32: =ROUND(J89, 2) -> 0
F34: Základ daně | I34: Sazba daně | J34: Výše daně
D35: DPH | E35: základní | F35: =ROUND((SUM(BE89:BE114)), 2) -> 0 | I35: 0.21 | J35: =ROUND(((SUM(BE89:BE114))*I35), 2) -> 0
E36: snížená | F36: =ROUND((SUM(BF89:BF114)), 2) -> 0 | I36: 0.12 | J36: =ROUND(((SUM(BF89:BF114))*I36), 2) -> 0
E37: zákl. přenesená | F37: =ROUND((SUM(BG89:BG114)), 2) -> 0 | I37: 0.21 | J37: =0 -> 0
E38: sníž. přenesená | F38: =ROUND((SUM(BH89:BH114)), 2) -> 0 | I38: 0.12 | J38: =0 -> 0
E39: nulová | F39: =ROUND((SUM(BI89:BI114)), 2) -> 0 | I39: 0 | J39: =0 -> 0
D41: Cena s DPH | G41: v | H41: CZK | J41: =SUM(J32:J39) -> 0
C47: REKAPITULACE ČLENĚNÍ SOUPISU PRACÍ
C49: Stavba:
E50: =E7 -> Roudnice nad Labem - přechody v centru města
C51: Objekt:
E52: SO 104 - Místo pro přecházení ´u Bakera´
C53: Soupis:
E54: =E11 -> VRN 104 - Vedlejší rozpočtové náklady
C56: Místo: | F56: =F14 -> Roudnice nad Labem | I56: Datum: | J56: =IF(J14="","",J14) -> 17. 9. 2024
C58: Zadavatel: | F58: =E17 | I58: Projektant: | J58: =E23 -> PK dopravní s.r.o.
C59: Uchazeč: | F59: =IF(E20="","",E20) -> Vyplň údaj | I59: Zpracovatel: | J59: =E26
C61: Kód dílu - Popis | J61: Cena celkem [CZK]
C63: Náklady stavby celkem | J63: =J89 -> 0 | AU63: -1
D64: VRN - Vedlejší rozpočtové náklady | J64: =J90 -> 0
D65: VRN1 - Průzkumné, geodetické a projektové práce | J65: =J91 -> 0
D66: VRN3 - Zařízení staveniště | J66: =J101 -> 0
D67: VRN4 - Inženýrská činnost | J67: =J109 -> 0
C74: SOUPIS PRACÍ
C76: Stavba:
E77: =E7 -> Roudnice nad Labem - přechody v centru města
C78: Objekt:
E79: SO 104 - Místo pro přecházení ´u Bakera´
C80: Soupis:
E81: =E11 -> VRN 104 - Vedlejší rozpočtové náklady
C83: Místo: | F83: =F14 -> Roudnice nad Labem | I83: Datum: | J83: =IF(J14="","",J14) -> 17. 9. 2024
C85: Zadavatel: | F85: =E17 | I85: Projektant: | J85: =E23 -> PK dopravní s.r.o.
C86: Uchazeč: | F86: =IF(E20="","",E20) -> Vyplň údaj | I86: Zpracovatel: | J86: =E26
C88: PČ | D88: Typ | E88: Kód | F88: Popis | G88: MJ | H88: Množství | I88: J.cena [CZK] | J88: Cena celkem [CZK] | K88: Cenová soustava | N88: DPH | O88: J. Nh [h] | P88: Nh celkem [h] | Q88: J. hmotnost [t] | R88: Hmotnost celkem [t] | S88: J. suť [t] | T88: Suť Celkem [t]
C89: Náklady soupisu celkem | J89: =BK89 -> 0 | P89: =P90 -> 0 | R89: =R90 -> 0 | T89: =T90 -> 0 | AT89: D | AU89: -1 | BK89: =BK90 -> 0
D90: D | E90: VRN | F90: Vedlejší rozpočtové náklady | J90: =BK90 -> 0 | P90: =P91+P101+P109 -> 0 | R90: =R91+R101+R109 -> 0 | T90: =T91+T101+T109 -> 0 | AR90: 5 | AT90: D | AU90: 0 | AY90: ROZPOCET | BK90: =BK91+BK101+BK109 -> 0
D91: D | E91: VRN1 | F91: Průzkumné, geodetické a projektové práce | J91: =BK91 -> 0 | P91: =SUM(P92:P100) -> 0 | R91: =SUM(R92:R100) -> 0 | T91: =SUM(T92:T100) -> 0 | AR91: 5 | AT91: D | AU91: 1 | AY91: ROZPOCET | BK91: =SUM(BK92:BK100) -> 0
C92: 1 | D92: K | E92: 012164000 | F92: Vytyčení a zaměření inženýrských sítí | G92: kpl | H92: 1 | J92: =ROUND(I92*H92,2) -> 0 | K92: CS ÚRS 2024 02 | N92: základní | P92: =O92*H92 -> 0 | Q92: 0 | R92: =Q92*H92 -> 0 | S92: 0 | T92: =S92*H92 -> 0 | AR92: 1024 | AT92: K | AU92: 2 | AY92: ROZPOCET | BE92: =IF(N92="základní",J92,0) -> 0 | BF92: =IF(N92="snížená",J92,0) -> 0 | BG92: =IF(N92="zákl. přenesená",J92,0) -> 0 | BH92: =IF(N92="sníž. přenesená",J92,0) -> 0 | BI92: =IF(N92="nulová",J92,0) -> 0 | BJ92: 1 | BK92: =ROUND(I92*H92,2) -> 0 | BL92: 1024 | BM92: -937734132
D93: PP | F93: Vytyčení a zaměření inženýrských sítí | AT93: PP | AU93: 2
D94: Online PSC | F94: https://podminky.urs.cz/item/CS_URS_2024_02/012164000 | AT94: Online PSC | AU94: 2
C95: 2 | D95: K | E95: 012303000 | F95: Zeměměřičské práce při provádění stavby | G95: kpl | H95: 1 | J95: =ROUND(I95*H95,2) -> 0 | K95: CS ÚRS 2024 02 | N95: základní | P95: =O95*H95 -> 0 | Q95: 0 | R95: =Q95*H95 -> 0 | S95: 0 | T95: =S95*H95 -> 0 | AR95: 1024 | AT95: K | AU95: 2 | AY95: ROZPOCET | BE95: =IF(N95="základní",J95,0) -> 0 | BF95: =IF(N95="snížená",J95,0) -> 0 | BG95: =IF(N95="zákl. přenesená",J95,0) -> 0 | BH95: =IF(N95="sníž. přenesená",J95,0) -> 0 | BI95: =IF(N95="nulová",J95,0) -> 0 | BJ95: 1 | BK95: =ROUND(I95*H95,2) -> 0 | BL95: 1024 | BM95: 1543047127
D96: PP | F96: Zeměměřičské práce při provádění stavby | AT96: PP | AU96: 2
D97: Online PSC | F97: https://podminky.urs.cz/item/CS_URS_2024_02/012303000 | AT97: Online PSC | AU97: 2
C98: 3 | D98: K | E98: 012444000 | F98: Geodetické měření skutečného provedení stavby | G98: kpl | H98: 1 | J98: =ROUND(I98*H98,2) -> 0 | K98: CS ÚRS 2024 02 | N98: základní | P98: =O98*H98 -> 0 | Q98: 0 | R98: =Q98*H98 -> 0 | S98: 0 | T98: =S98*H98 -> 0 | AR98: 1024 | AT98: K | AU98: 2 | AY98: ROZPOCET | BE98: =IF(N98="základní",J98,0) -> 0 | BF98: =IF(N98="snížená",J98,0) -> 0 | BG98: =IF(N98="zákl. přenesená",J98,0) -> 0 | BH98: =IF(N98="sníž. přenesená",J98,0) -> 0 | BI98: =IF(N98="nulová",J98,0) -> 0 | BJ98: 1 | BK98: =ROUND(I98*H98,2) -> 0 | BL98: 1024 | BM98: -1331217186
D99: PP | F99: Geodetické měření skutečného provedení stavby | AT99: PP | AU99: 2
D100: Online PSC | F100: https://podminky.urs.cz/item/CS_URS_2024_02/012444000 | AT100: Online PSC | AU100: 2
D101: D | E101: VRN3 | F101: Zařízení staveniště | J101: =BK101 -> 0 | P101: =SUM(P102:P108) -> 0 | R101: =SUM(R102:R108) -> 0 | T101: =SUM(T102:T108) -> 0 | AR101: 5 | AT101: D | AU101: 1 | AY101: ROZPOCET | BK101: =SUM(BK102:BK108) -> 0
C102: 4 | D102: K | E102: 030001000 | F102: Zařízení staveniště | G102: kpl | H102: 1 | J102: =ROUND(I102*H102,2) -> 0 | K102: CS ÚRS 2024 02 | N102: základní | P102: =O102*H102 -> 0 | Q102: 0 | R102: =Q102*H102 -> 0 | S102: 0 | T102: =S102*H102 -> 0 | AR102: 1024 | AT102: K | AU102: 2 | AY102: ROZPOCET | BE102: =IF(N102="základní",J102,0) -> 0 | BF102: =IF(N102="snížená",J102,0) -> 0 | BG102: =IF(N102="zákl. přenesená",J102,0) -> 0 | BH102: =IF(N102="sníž. přenesená",J102,0) -> 0 | BI102: =IF(N102="nulová",J102,0) -> 0 | BJ102: 1 | BK102: =ROUND(I102*H102,2) -> 0 | BL102: 1024 | BM102: -386089193
D103: PP | F103: Zařízení staveniště | AT103: PP | AU103: 2
D104: Online PSC | F104: https://podminky.urs.cz/item/CS_URS_2024_02/030001000 | AT104: Online PSC | AU104: 2
D105: P | F105: Poznámka k položce:_x000D_ Kompletní zařízení staveniště pro celou stavbu včetně zajištění potřebných povolení a rozhodnutí. _x000D_ Položka zahrnuje náklady spojené se staveništními komunikacemi, vstupem a vjezdem na staveniště, nasvětlení výkopů a lávky přes výkopy, staveništní přípojky vody, kanalizace, elektrické energie, zajištění dodávky elektrické energie, rozvody médií po stavbě a s tím spojených nákladů s odstávkou a zabezpečení stávajících IS proti poškození, kancelářské plochy pro potřeby zhotovitele a zástupce investora, sociální zařízení, zajištění skladovacích ploch a prostor pro potřeby stavby. Komplexní ostrahu a zabezpečení staveniště. Monitoring vlivu stavby na okolní prostředí (hluk, prašnost, doprava).Poplatky a náklady spojené se záborem veřejného prostranství a s tím související dopravní značení a zabezpečení pracoviště.Poplatky a náklady za spotřebované energie, plyn a vodu atd. v době výstavby až do předání díla.Zajištění údržby veřejných komunikací a komunikací pro pěší v průběhu celé stavby, včetně případné zimní údržby. | AT105: P | AU105: 2
C106: 5 | D106: K | E106: 034303000 | F106: Dopravní značení na staveništi | G106: kpl | H106: 1 | J106: =ROUND(I106*H106,2) -> 0 | K106: CS ÚRS 2024 02 | N106: základní | P106: =O106*H106 -> 0 | Q106: 0 | R106: =Q106*H106 -> 0 | S106: 0 | T106: =S106*H106 -> 0 | AR106: 1024 | AT106: K | AU106: 2 | AY106: ROZPOCET | BE106: =IF(N106="základní",J106,0) -> 0 | BF106: =IF(N106="snížená",J106,0) -> 0 | BG106: =IF(N106="zákl. přenesená",J106,0) -> 0 | BH106: =IF(N106="sníž. přenesená",J106,0) -> 0 | BI106: =IF(N106="nulová",J106,0) -> 0 | BJ106: 1 | BK106: =ROUND(I106*H106,2) -> 0 | BL106: 1024 | BM106: 2014513641
D107: PP | F107: Dopravní značení na staveništi | AT107: PP | AU107: 2
D108: Online PSC | F108: https://podminky.urs.cz/item/CS_URS_2024_02/034303000 | AT108: Online PSC | AU108: 2
D109: D | E109: VRN4 | F109: Inženýrská činnost | J109: =BK109 -> 0 | P109: =SUM(P110:P114) -> 0 | R109: =SUM(R110:R114) -> 0 | T109: =SUM(T110:T114) -> 0 | AR109: 5 | AT109: D | AU109: 1 | AY109: ROZPOCET | BK109: =SUM(BK110:BK114) -> 0
C110: 6 | D110: K | E110: 043154000 | F110: Zkoušky hutnicí | G110: kpl | H110: 1 | J110: =ROUND(I110*H110,2) -> 0 | K110: CS ÚRS 2024 02 | N110: základní | P110: =O110*H110 -> 0 | Q110: 0 | R110: =Q110*H110 -> 0 | S110: 0 | T110: =S110*H110 -> 0 | AR110: 1024 | AT110: K | AU110: 2 | AY110: ROZPOCET | BE110: =IF(N110="základní",J110,0) -> 0 | BF110: =IF(N110="snížená",J110,0) -> 0 | BG110: =IF(N110="zákl. přenesená",J110,0) -> 0 | BH110: =IF(N110="sníž. přenesená",J110,0) -> 0 | BI110: =IF(N110="nulová",J110,0) -> 0 | BJ110: 1 | BK110: =ROUND(I110*H110,2) -> 0 | BL110: 1024 | BM110: 1532232001
D111: PP | F111: Zkoušky hutnicí | AT111: PP | AU111: 2
D112: Online PSC | F112: https://podminky.urs.cz/item/CS_URS_2024_02/043154000 | AT112: Online PSC | AU112: 2
C113: 7 | D113: K | E113: 04400200R | F113: Revize a zkoušky SO 401 | G113: kpl | H113: 1 | J113: =ROUND(I113*H113,2) -> 0 | N113: základní | P113: =O113*H113 -> 0 | Q113: 0 | R113: =Q113*H113 -> 0 | S113: 0 | T113: =S113*H113 -> 0 | AR113: 1024 | AT113: K | AU113: 2 | AY113: ROZPOCET | BE113: =IF(N113="základní",J113,0) -> 0 | BF113: =IF(N113="snížená",J113,0) -> 0 | BG113: =IF(N113="zákl. přenesená",J113,0) -> 0 | BH113: =IF(N113="sníž. přenesená",J113,0) -> 0 | BI113: =IF(N113="nulová",J113,0) -> 0 | BJ113: 1 | BK113: =ROUND(I113*H113,2) -> 0 | BL113: 1024 | BM113: 173026142
D114: PP | F114: Revize a zkoušky SO 401 | AT114: PP | AU114: 2

Sheet Pokyny pro vyplnění
C3: Struktura údajů, formát souboru a metodika pro zpracování
C4: Struktura
C6: Soubor je složen ze záložky Rekapitulace stavby a záložek s názvem soupisu prací pro jednotlivé objekty ve formátu XLSX. Každá ze záložek přitom obsahuje
C7: ještě samostatné sestavy vymezené orámovaním a nadpisem sestavy.
C9: Rekapitulace stavby obsahuje sestavu Rekapitulace stavby a Rekapitulace objektů stavby a soupisů prací.
D10: V sestavě Rekapitulace stavby jsou uvedeny informace identifikující předmět veřejné zakázky na stavební práce, KSO, CC-CZ, CZ-CPV, CZ-CPA a rekapitulaci
D11: celkové nabídkové ceny uchazeče.
D13: Termínem "uchazeč" (resp. zhotovitel) se myslí "účastník zadávacího řízení" ve smyslu zákona o zadávání veřejných zakázek.
D15: V sestavě Rekapitulace objektů stavby a soupisů prací je uvedena rekapitulace stavebních objektů, inženýrských objektů, provozních souborů,
D16: vedlejších a ostatních nákladů a ostatních nákladů s rekapitulací nabídkové ceny za jednotlivé soupisy prací. Na základě údaje Typ je možné
D17: identifikovat, zda se jedná o objekt nebo soupis prací pro daný objekt:
E18: STA | F18: Stavební objekt pozemní
E19: ING | F19: Stavební objekt inženýrský
E20: PRO | F20: Provozní soubor
E21: VON | F21: Vedlejší a ostatní náklady
E22: OST | F22: Ostatní
E23: Soupis | F23: Soupis prací pro daný typ objektu
C25: Soupis prací pro jednotlivé objekty obsahuje sestavy Krycí list soupisu prací, Rekapitulace členění soupisu prací, Soupis prací. Za soupis prací může být považován
C26: i objekt stavby v případě, že neobsahuje podřízenou zakázku.
D27: Krycí list soupisu obsahuje rekapitulaci informací o předmětu veřejné zakázky ze sestavy Rekapitulace stavby, informaci o zařazení objektu do KSO,
D28: CC-CZ, CZ-CPV, CZ-CPA a rekapitulaci celkové nabídkové ceny uchazeče za aktuální soupis prací.
D30: Rekapitulace členění soupisu prací obsahuje rekapitulaci soupisu prací ve všech úrovních členění soupisu tak, jak byla tato členění použita (např.
D31: stavební díly, funkční díly, případně jiné členění) s rekapitulací nabídkové ceny.
D33: Soupis prací obsahuje položky veškerých stavebních nebo montážních prací, dodávek materiálů a služeb nezbytných pro zhotovení stavebního objektu,
D34: inženýrského objektu, provozního souboru, vedlejších a ostatních nákladů.
D35: Pro položky soupisu prací se zobrazují následující informace:
E36: PČ | G36: Pořadové číslo položky v aktuálním soupisu
E37: TYP | G37: Typ položky: K - konstrukce, M - materiál, PP - plný popis, PSC - poznámka k souboru cen, P - poznámka k položce, VV - výkaz výměr, FIG - rozpad figur
E38: Kód | G38: Kód položky
E39: Popis | G39: Zkrácený popis položky
E40: MJ | G40: Měrná jednotka položky
E41: Množství | G41: Množství v měrné jednotce
E42: J.cena | G42: Jednotková cena položky. Zadaní může obsahovat namísto J.ceny sloupce J.materiál a J.montáž, jejichž součet definuje
G43: J.cenu položky.
E44: Cena celkem | G44: Celková cena položky daná jako součin množství a j.ceny
E45: Cenová soustava | G45: Příslušnost položky do cenové soustavy
D47: Ke každé položce soupisu prací se na samostatných řádcích může zobrazovat:
E48: Plný popis položky
E49: Poznámka k souboru cen a poznámka zadavatele
E50: Výkaz výměr
D51: Pokud je k řádku výkazu výměr evidovaný údaj ve sloupci Kód, jedná se o definovaný odkaz, na který se může odvolávat výkaz výměr z jiné položky.
C52: Metodika pro zpracování
C54: Jednotlivé sestavy jsou v souboru provázány. Editovatelné pole jsou zvýrazněny žlutým podbarvením, ostatní pole neslouží k editaci a nesmí být jakkoliv
C55: modifikovány.
C57: Uchazeč je pro podání nabídky povinen vyplnit žlutě podbarvená pole:
D58: Pole Uchazeč v sestavě Rekapitulace stavby - zde uchazeč vyplní svůj název (název subjektu)
D59: Pole IČ a DIČ v sestavě Rekapitulace stavby - zde uchazeč vyplní svoje IČ a DIČ
D60: Datum v sestavě Rekapitulace stavby - zde uchazeč vyplní datum vytvoření nabídky
D61: J.cena = jednotková cena v sestavě Soupis prací o maximálním počtu desetinných míst uvedených v poli
D62: - pokud sestavy soupisů prací obsahují pole J.cena, měla by být všechna tato pole vyplněna nenulovými
D63: Poznámka - nepovinný údaj pro položku soupisu
D65: V případě, že sestavy soupisů prací neobsahují pole J.cena, potom ve všech soupisech prací obsahují pole:
D66: - J.materiál - jednotková cena materiálu
D67: - J.montáž - jednotková cena montáže
D68: Uchazeč v tomto případě by měl vyplnit všechna pole J.materiál a pole J.montáž nenulovými kladnými číslicemi. V případech, kdy položka
D69: neobsahuje žádný materiál je přípustné, aby pole J.materiál bylo vyplněno nulou. V případech, kdy položka neobsahuje žádnou montáž je přípustné,
D70: aby pole J.montáž bylo vyplněno nulou. Obě pole - J.materiál, J.Montáž u jedné položky by však neměly být vyplněny nulou.
C75: Rekapitulace stavby
C76: Název | F76: Povinný | H76: Popis | I76: Typ | J76: Max. počet
C77: atributu | F77: (A/N) | J77: znaků
C79: Kód | F79: A | H79: Kód stavby | I79: String | J79: 20
C80: Stavba | F80: A | H80: Název stavby | I80: String | J80: 120
C81: Místo | F81: N | H81: Místo stavby | I81: String | J81: 50
C82: Datum | F82: A | H82: Datum vykonaného exportu | I82: Date
C83: KSO | F83: N | H83: Klasifikace stavebního objektu | I83: String | J83: 15
C84: CC-CZ | F84: N | H84: Klasifikace stavbeních děl | I84: String | J84: 15
C85: CZ-CPV | F85: N | H85: Společný slovník pro veřejné zakázky | I85: String | J85: 20
C86: CZ-CPA | F86: N | H86: Klasifikace produkce podle činností | I86: String | J86: 20
C87: Zadavatel | F87: N | H87: Zadavatel zadaní | I87: String | J87: 50
C88: IČ | F88: N | H88: IČ zadavatele zadaní | I88: String | J88: 20
C89: DIČ | F89: N | H89: DIČ zadavatele zadaní | I89: String | J89: 20
C90: Uchazeč | F90: N | H90: Uchazeč veřejné zakázky | I90: String | J90: 50
C91: Projektant | F91: N | H91: Projektant | I91: String | J91: 50
C92: Poznámka | F92: N | H92: Poznámka k zadání | I92: String | J92: 255
C93: Sazba DPH | F93: A | H93: Rekapitulace sazeb DPH u položek soupisů | I93: eGSazbaDph
C94: Základna DPH | F94: A | H94: Základna DPH určena součtem celkové ceny z položek soupisů | I94: Double
C95: Hodnota DPH | F95: A | H95: Hodnota DPH | I95: Double
C96: Cena bez DPH | F96: A | H96: Celková cena bez DPH za celou stavbu. Sčítává se ze všech listů. | I96: Double
C97: Cena s DPH | F97: A | H97: Celková cena s DPH za celou stavbu | I97: Double
C102: Rekapitulace objektů stavby a soupisů prací
C103: Název | F103: Povinný | H103: Popis | I103: Typ | J103: Max. počet
C104: atributu | F104: (A/N) | J104: znaků
C106: Kód | F106: A | H106: Přebírá se z Rekapitulace stavby | I106: String | J106: 20
C107: Stavba | F107: A | H107: Přebírá se z Rekapitulace stavby | I107: String | J107: 120
C108: Místo | F108: N | H108: Přebírá se z Rekapitulace stavby | I108: String | J108: 50
C109: Datum | F109: A | H109: Přebírá se z Rekapitulace stavby | I109: Date
C110: Zadavatel | F110: N | H110: Přebírá se z Rekapitulace stavby | I110: String | J110: 50
C111: Projektant | F111: N | H111: Přebírá se z Rekapitulace stavby | I111: String | J111: 50
C112: Uchazeč | F112: N | H112: Přebírá se z Rekapitulace stavby | I112: String | J112: 50
C113: Kód | F113: A | H113: Kód objektu | I113: String | J113: 20
C114: Objektu, Soupis prací | F114: A | H114: Název objektu | I114: String | J114: 120
C115: Cena bez DPH | F115: A | H115: Cena bez DPH za daný objekt | I115: Double
C116: Cena s DPH | F116: A | H116: Cena spolu s DPH za daný objekt | I116: Double
C117: Typ | F117: A | H117: Typ zakázky | I117: eGTypZakazky
C122: Krycí list soupisu
C123: Název | F123: Povinný | H123: Popis | I123: Typ | J123: Max. počet
C124: atributu | F124: (A/N) | J124: znaků
C126: Stavba | F126: A | H126: Přebírá se z Rekapitulace stavby | I126: String | J126: 120
C127: Objekt | F127: A | H127: Kód a název objektu | I127: String | J127: 20 + 120
C128: Soupis | F128: A | H128: Kód a název soupisu | I128: String | J128: 20 + 120
...
